BEGIN:VCALENDAR
VERSION:2.0
PRODID:-//Maggie L. Walker Governor&#039;s School - ECPv6.15.17.1//NONSGML v1.0//EN
CALSCALE:GREGORIAN
METHOD:PUBLISH
X-WR-CALNAME:Maggie L. Walker Governor&#039;s School
X-ORIGINAL-URL:https://mlwgs.com
X-WR-CALDESC:Events for Maggie L. Walker Governor&#039;s School
REFRESH-INTERVAL;VALUE=DURATION:PT1H
X-Robots-Tag:noindex
X-PUBLISHED-TTL:PT1H
BEGIN:VTIMEZONE
TZID:America/New_York
BEGIN:DAYLIGHT
TZOFFSETFROM:-0500
TZOFFSETTO:-0400
TZNAME:EDT
DTSTART:20230312T070000
END:DAYLIGHT
BEGIN:STANDARD
TZOFFSETFROM:-0400
TZOFFSETTO:-0500
TZNAME:EST
DTSTART:20231105T060000
END:STANDARD
BEGIN:DAYLIGHT
TZOFFSETFROM:-0500
TZOFFSETTO:-0400
TZNAME:EDT
DTSTART:20240310T070000
END:DAYLIGHT
BEGIN:STANDARD
TZOFFSETFROM:-0400
TZOFFSETTO:-0500
TZNAME:EST
DTSTART:20241103T060000
END:STANDARD
BEGIN:DAYLIGHT
TZOFFSETFROM:-0500
TZOFFSETTO:-0400
TZNAME:EDT
DTSTART:20250309T070000
END:DAYLIGHT
BEGIN:STANDARD
TZOFFSETFROM:-0400
TZOFFSETTO:-0500
TZNAME:EST
DTSTART:20251102T060000
END:STANDARD
END:VTIMEZONE
BEGIN:VTIMEZONE
TZID:US/Eastern
BEGIN:DAYLIGHT
TZOFFSETFROM:-0500
TZOFFSETTO:-0400
TZNAME:EDT
DTSTART:20230312T070000
END:DAYLIGHT
BEGIN:STANDARD
TZOFFSETFROM:-0400
TZOFFSETTO:-0500
TZNAME:EST
DTSTART:20231105T060000
END:STANDARD
BEGIN:DAYLIGHT
TZOFFSETFROM:-0500
TZOFFSETTO:-0400
TZNAME:EDT
DTSTART:20240310T070000
END:DAYLIGHT
BEGIN:STANDARD
TZOFFSETFROM:-0400
TZOFFSETTO:-0500
TZNAME:EST
DTSTART:20241103T060000
END:STANDARD
BEGIN:DAYLIGHT
TZOFFSETFROM:-0500
TZOFFSETTO:-0400
TZNAME:EDT
DTSTART:20250309T070000
END:DAYLIGHT
BEGIN:STANDARD
TZOFFSETFROM:-0400
TZOFFSETTO:-0500
TZNAME:EST
DTSTART:20251102T060000
END:STANDARD
END:VTIMEZONE
BEGIN:VEVENT
DTSTART;TZID=America/New_York:20240828T101500
DTEND;TZID=America/New_York:20240828T101500
DTSTAMP:20260421T215829
CREATED:20240826T181610Z
LAST-MODIFIED:20240826T181715Z
UID:10003145-1724840100-1724840100@mlwgs.com
SUMMARY:Art Classes-Figure Drawing (Black Box)
DESCRIPTION:
URL:https://mlwgs.com/event/art-classes-figure-drawing-black-box-6/2024-08-28/
LOCATION:MLWGS Black Box
ATTACH;FMTTYPE=image/jpeg:https://mlwgs.com/wp-content/uploads/2024/07/logo_color-1.jpg
ORGANIZER;CN="Mr. Jeff Hall":MAILTO:jhall@gsgis.k12.va.us
END:VEVENT
BEGIN:VEVENT
DTSTART;TZID=America/New_York:20240828T101500
DTEND;TZID=America/New_York:20240828T151000
DTSTAMP:20260421T215829
CREATED:20240826T170026Z
LAST-MODIFIED:20240826T170150Z
UID:10003140-1724840100-1724857800@mlwgs.com
SUMMARY:Figure Drawing (Black Box)
DESCRIPTION:Figure Drawing in the Black Box \nContact:  Jeff Hall\, VPA Department Chair
URL:https://mlwgs.com/event/figure-drawing-black-box/2024-08-28/
LOCATION:MLWGS Black Box
CATEGORIES:Building Activity for MLWGS
ATTACH;FMTTYPE=image/jpeg:https://mlwgs.com/wp-content/uploads/2024/07/mag-default-image.jpg
ORGANIZER;CN="Mr. Jeff Hall":MAILTO:jhall@gsgis.k12.va.us
END:VEVENT
BEGIN:VEVENT
DTSTART;TZID=America/New_York:20240828T113500
DTEND;TZID=America/New_York:20240828T121500
DTSTAMP:20260421T215829
CREATED:20240821T172346Z
LAST-MODIFIED:20240821T172346Z
UID:10002810-1724844900-1724847300@mlwgs.com
SUMMARY:Operation Smile Interest Mtg (Forum)
DESCRIPTION:
URL:https://mlwgs.com/event/operation-smile-interest-mtg-forum/
LOCATION:MLWGS Forum
CATEGORIES:Club Activity
ATTACH;FMTTYPE=image/jpeg:https://mlwgs.com/wp-content/uploads/2024/07/logo_color-1.jpg
ORGANIZER;CN="Ms. Kimberly Forquer":MAILTO:kforquer@gsgis.k12.va.us
END:VEVENT
BEGIN:VEVENT
DTSTART;TZID=US/Eastern:20240828T173000
DTEND;TZID=US/Eastern:20240828T173000
DTSTAMP:20260421T215829
CREATED:20240703T141208Z
LAST-MODIFIED:20240822T194318Z
UID:10000235-1724866200-1724866200@mlwgs.com
SUMMARY:Volleyball:  Girls JV Match vs Mills E. Godwin (Home)
DESCRIPTION:Type: conference Opponent: Mills E. Godwin
URL:https://mlwgs.com/event/volleyball-girls-jv-match-vs-mills-e-godwin-home/
LOCATION:Maggie L. Walker Governor’s School
ATTACH;FMTTYPE=image/jpeg:https://mlwgs.com/wp-content/uploads/2024/07/mag-default-image.jpg
END:VEVENT
BEGIN:VEVENT
DTSTART;TZID=US/Eastern:20240828T173000
DTEND;TZID=US/Eastern:20240828T173000
DTSTAMP:20260421T215829
CREATED:20240822T194315Z
LAST-MODIFIED:20240822T194315Z
UID:10002926-1724866200-1724866200@mlwgs.com
SUMMARY:Volleyball:  Boys JV Match vs Mills E. Godwin (Away)
DESCRIPTION:Type: conference Opponent: Mills E. Godwin
URL:https://mlwgs.com/event/volleyball-boys-jv-match-vs-mills-e-godwin-away/
LOCATION:Mills E. Godwin High School
ATTACH;FMTTYPE=image/jpeg:https://mlwgs.com/wp-content/uploads/2024/07/mag-default-image.jpg
END:VEVENT
BEGIN:VEVENT
DTSTART;TZID=US/Eastern:20240828T190000
DTEND;TZID=US/Eastern:20240828T190000
DTSTAMP:20260421T215829
CREATED:20240703T141208Z
LAST-MODIFIED:20240822T194336Z
UID:10000236-1724871600-1724871600@mlwgs.com
SUMMARY:Volleyball:  Girls Varsity Match vs Mills E. Godwin (Home)
DESCRIPTION:Type: conference Opponent: Mills E. Godwin
URL:https://mlwgs.com/event/volleyball-girls-varsity-match-vs-mills-e-godwin-home/
LOCATION:Maggie L. Walker Governor’s School
ATTACH;FMTTYPE=image/jpeg:https://mlwgs.com/wp-content/uploads/2024/07/mag-default-image.jpg
END:VEVENT
BEGIN:VEVENT
DTSTART;TZID=US/Eastern:20240828T190000
DTEND;TZID=US/Eastern:20240828T190000
DTSTAMP:20260421T215829
CREATED:20240822T194321Z
LAST-MODIFIED:20240822T194321Z
UID:10002927-1724871600-1724871600@mlwgs.com
SUMMARY:Volleyball:  Boys Varsity Match vs Mills E. Godwin (Away)
DESCRIPTION:Type: conference Opponent: Mills E. Godwin
URL:https://mlwgs.com/event/volleyball-boys-varsity-match-vs-mills-e-godwin-away/
LOCATION:Mills E. Godwin High School
ATTACH;FMTTYPE=image/jpeg:https://mlwgs.com/wp-content/uploads/2024/07/mag-default-image.jpg
END:VEVENT
END:VCALENDAR