BEGIN:VCALENDAR
VERSION:2.0
PRODID:-//Maggie L. Walker Governor&#039;s School - ECPv6.15.17.1//NONSGML v1.0//EN
CALSCALE:GREGORIAN
METHOD:PUBLISH
X-WR-CALNAME:Maggie L. Walker Governor&#039;s School
X-ORIGINAL-URL:https://mlwgs.com
X-WR-CALDESC:Events for Maggie L. Walker Governor&#039;s School
REFRESH-INTERVAL;VALUE=DURATION:PT1H
X-Robots-Tag:noindex
X-PUBLISHED-TTL:PT1H
BEGIN:VTIMEZONE
TZID:America/New_York
BEGIN:DAYLIGHT
TZOFFSETFROM:-0500
TZOFFSETTO:-0400
TZNAME:EDT
DTSTART:20230312T070000
END:DAYLIGHT
BEGIN:STANDARD
TZOFFSETFROM:-0400
TZOFFSETTO:-0500
TZNAME:EST
DTSTART:20231105T060000
END:STANDARD
BEGIN:DAYLIGHT
TZOFFSETFROM:-0500
TZOFFSETTO:-0400
TZNAME:EDT
DTSTART:20240310T070000
END:DAYLIGHT
BEGIN:STANDARD
TZOFFSETFROM:-0400
TZOFFSETTO:-0500
TZNAME:EST
DTSTART:20241103T060000
END:STANDARD
BEGIN:DAYLIGHT
TZOFFSETFROM:-0500
TZOFFSETTO:-0400
TZNAME:EDT
DTSTART:20250309T070000
END:DAYLIGHT
BEGIN:STANDARD
TZOFFSETFROM:-0400
TZOFFSETTO:-0500
TZNAME:EST
DTSTART:20251102T060000
END:STANDARD
END:VTIMEZONE
BEGIN:VEVENT
DTSTART;TZID=America/New_York:20241203T083000
DTEND;TZID=America/New_York:20241203T153000
DTSTAMP:20260421T040501
CREATED:20240802T152750Z
LAST-MODIFIED:20240802T153417Z
UID:10002307-1733214600-1733239800@mlwgs.com
SUMMARY:Music Classes in Auditorium All-Day
DESCRIPTION:
URL:https://mlwgs.com/event/music-classes-in-auditorium-all-day-2/2024-12-03/
LOCATION:MLWGS Auditorium
CATEGORIES:Assembly or Other Program
ATTACH;FMTTYPE=image/jpeg:https://mlwgs.com/wp-content/uploads/2024/07/logo_color-1.jpg
ORGANIZER;CN="Mr. Nicholas Merillat":MAILTO:nmerillat@gsgis.k12.va.us
END:VEVENT
BEGIN:VEVENT
DTSTART;TZID=America/New_York:20241203T084000
DTEND;TZID=America/New_York:20241203T100000
DTSTAMP:20260421T040501
CREATED:20240826T135633Z
LAST-MODIFIED:20240826T135633Z
UID:10003120-1733215200-1733220000@mlwgs.com
SUMMARY:Leadership Meeting (Rm 153)
DESCRIPTION:
URL:https://mlwgs.com/event/leadership-meeting-rm-153/2024-12-03/
LOCATION:MLWGS Room 153
CATEGORIES:Building Activity for MLWGS
ATTACH;FMTTYPE=image/jpeg:https://mlwgs.com/wp-content/uploads/2024/07/logo_color-1.jpg
ORGANIZER;CN="Dr. Michael Smith":MAILTO:msmith@gsgis,k12.va.us
END:VEVENT
BEGIN:VEVENT
DTSTART;TZID=America/New_York:20241203T084000
DTEND;TZID=America/New_York:20241203T151000
DTSTAMP:20260421T040501
CREATED:20240807T202839Z
LAST-MODIFIED:20250219T222157Z
UID:10002523-1733215200-1733238600@mlwgs.com
SUMMARY:Schedule A- Even Blocks (2024-2025)
DESCRIPTION:Warning  Bell 8:35 A.M. \nPeriod 2           8:40-10:08 A.M.         88 min. Moment of Silence/Announcements \nPeriod 4           10:13-11:35 A.M.       82 min. \nActivity/Tutoring/Lunch\n11:35-12:15 P.M.                               40 min. \nPeriod 6           12:20-1:42 P.M.          82 min. \nPeriod 8             1:47-3:10 P.M.          83 min. \nBuses Depart 3:20 P.M.
URL:https://mlwgs.com/event/schedule-a-even-blocks-2024-2025-2/2024-12-03/
LOCATION:MLWGS\, 1000 N. Lombardy St.\, Richmond\, 23113\, United States
ATTACH;FMTTYPE=image/jpeg:https://mlwgs.com/wp-content/uploads/2024/07/logo_color-1.jpg
END:VEVENT
BEGIN:VEVENT
DTSTART;TZID=America/New_York:20241203T113000
DTEND;TZID=America/New_York:20241203T121500
DTSTAMP:20260421T040501
CREATED:20241119T175943Z
LAST-MODIFIED:20241119T204829Z
UID:10003459-1733225400-1733228100@mlwgs.com
SUMMARY:FCS Pancakes Sale (Concession Stand)
DESCRIPTION:
URL:https://mlwgs.com/event/sca-pancakes-sale-concession-stand/2024-12-03/
CATEGORIES:Club Activity
ATTACH;FMTTYPE=image/jpeg:https://mlwgs.com/wp-content/uploads/2024/07/mag-default-image.jpg
ORGANIZER;CN="Mr. Mike Brown":MAILTO:mbrown@gsgis.k12.va.us
END:VEVENT
BEGIN:VEVENT
DTSTART;TZID=America/New_York:20241203T114000
DTEND;TZID=America/New_York:20241203T121500
DTSTAMP:20260421T040501
CREATED:20240815T192711Z
LAST-MODIFIED:20240815T192711Z
UID:10002657-1733226000-1733228100@mlwgs.com
SUMMARY:Model UN Club Meeting (Forum)
DESCRIPTION:
URL:https://mlwgs.com/event/model-un-club-meeting-forum-2/2024-12-03/
LOCATION:MLWGS Forum
CATEGORIES:Club Activity
ATTACH;FMTTYPE=image/jpeg:https://mlwgs.com/wp-content/uploads/2024/07/logo_color-1.jpg
ORGANIZER;CN="Mr. Kyle Rogers":MAILTO:krogers@gsgis.k12.va.us
END:VEVENT
BEGIN:VEVENT
DTSTART;TZID=America/New_York:20241203T114000
DTEND;TZID=America/New_York:20241203T122000
DTSTAMP:20260421T040501
CREATED:20241125T142521Z
LAST-MODIFIED:20241202T191949Z
UID:10003509-1733226000-1733228400@mlwgs.com
SUMMARY:Combined Music Class Rehearsal (Auditorium)
DESCRIPTION:
URL:https://mlwgs.com/event/combined-music-class-rehearsal-aud/2024-12-03/
ATTACH;FMTTYPE=image/jpeg:https://mlwgs.com/wp-content/uploads/2024/07/mag-default-image.jpg
END:VEVENT
BEGIN:VEVENT
DTSTART;TZID=America/New_York:20241203T153000
DTEND;TZID=America/New_York:20241203T163000
DTSTAMP:20260421T040501
CREATED:20241118T152102Z
LAST-MODIFIED:20241118T152103Z
UID:10002386-1733239800-1733243400@mlwgs.com
SUMMARY:Required Faculty Meeting (VIRTUAL)
DESCRIPTION:
URL:https://mlwgs.com/event/faculty-meeting-forum-2-2-2-2/
LOCATION:MLWGS Forum
CATEGORIES:Building Activity for MLWGS
ATTACH;FMTTYPE=image/jpeg:https://mlwgs.com/wp-content/uploads/2024/07/logo_color-1.jpg
ORGANIZER;CN="Dr. Robert Lowerre":MAILTO:rlowerre@gsgis.k12.va.us
END:VEVENT
BEGIN:VEVENT
DTSTART;TZID=America/New_York:20241203T153000
DTEND;TZID=America/New_York:20241203T163000
DTSTAMP:20260421T040501
CREATED:20241203T180235Z
LAST-MODIFIED:20250116T192837Z
UID:10003575-1733239800-1733243400@mlwgs.com
SUMMARY:Step Practice (Forum or Classroom 104 When Needed)
DESCRIPTION:
URL:https://mlwgs.com/event/step-practice-forum-or-available-classroom-as-needed/2024-12-03/
LOCATION:MLWGS Forum
CATEGORIES:Club Activity
ATTACH;FMTTYPE=image/jpeg:https://mlwgs.com/wp-content/uploads/2024/07/mag-default-image.jpg
ORGANIZER;CN="Ms. Nakita Lee":MAILTO:nlee@gsgis.k12.va.us
END:VEVENT
BEGIN:VEVENT
DTSTART;TZID=America/New_York:20241203T170000
DTEND;TZID=America/New_York:20241203T190000
DTSTAMP:20260421T040501
CREATED:20241118T152239Z
LAST-MODIFIED:20241118T152356Z
UID:10002264-1733245200-1733252400@mlwgs.com
SUMMARY:MLWGS Foundation Board Mtg (Off Campus)
DESCRIPTION:
URL:https://mlwgs.com/event/mlwgs-foundation-board-mtg-rm-153-2/
CATEGORIES:GS Foundation
ATTACH;FMTTYPE=image/jpeg:https://mlwgs.com/wp-content/uploads/2024/07/logo_color-1.jpg
ORGANIZER;CN="Ms. Ginger O'Neil":MAILTO:goneil@mlwgsfoundation.org
END:VEVENT
BEGIN:VEVENT
DTSTART;TZID=America/New_York:20241203T173000
DTEND;TZID=America/New_York:20241203T173000
DTSTAMP:20260421T040501
CREATED:20241122T190812Z
LAST-MODIFIED:20241122T190812Z
UID:10003474-1733247000-1733247000@mlwgs.com
SUMMARY:Basketball:  Boys JV (Home)
DESCRIPTION:
URL:https://mlwgs.com/event/basketball-boys-jv-home/
LOCATION:Maggie L. Walker Governor’s School
ATTACH;FMTTYPE=image/jpeg:https://mlwgs.com/wp-content/uploads/2024/07/mag-default-image.jpg
END:VEVENT
BEGIN:VEVENT
DTSTART;TZID=America/New_York:20241203T180000
DTEND;TZID=America/New_York:20241203T190000
DTSTAMP:20260421T040501
CREATED:20240909T180733Z
LAST-MODIFIED:20240909T180733Z
UID:10003207-1733248800-1733252400@mlwgs.com
SUMMARY:Athletic Boosters Meeting (Virtual)
DESCRIPTION:Link to this meeting URL:  https://sites.google.com/view/mlwgs-ab-site/meetings
URL:https://mlwgs.com/event/athletic-boosters-meeting-virtual/2024-12-03/
CATEGORIES:PTSA/Boosters Function
ATTACH;FMTTYPE=image/png:https://mlwgs.com/wp-content/uploads/2017/04/athletics_2-e1493397081216.png
ORGANIZER;CN="Ms. Paige Hawkins":MAILTO:phawkins@gsgis.k12.va.us
END:VEVENT
BEGIN:VEVENT
DTSTART;TZID=America/New_York:20241203T190000
DTEND;TZID=America/New_York:20241203T190000
DTSTAMP:20260421T040501
CREATED:20241122T191013Z
LAST-MODIFIED:20241122T191013Z
UID:10003475-1733252400-1733252400@mlwgs.com
SUMMARY:Basketball:  Boys Varsity (Home)
DESCRIPTION:
URL:https://mlwgs.com/event/basketball-boys-varsity-home/
LOCATION:Maggie L. Walker Governor’s School
ATTACH;FMTTYPE=image/jpeg:https://mlwgs.com/wp-content/uploads/2024/07/mag-default-image.jpg
END:VEVENT
END:VCALENDAR