BEGIN:VCALENDAR
VERSION:2.0
PRODID:-//Maggie L. Walker Governor&#039;s School - ECPv6.15.17.1//NONSGML v1.0//EN
CALSCALE:GREGORIAN
METHOD:PUBLISH
X-WR-CALNAME:Maggie L. Walker Governor&#039;s School
X-ORIGINAL-URL:https://mlwgs.com
X-WR-CALDESC:Events for Maggie L. Walker Governor&#039;s School
REFRESH-INTERVAL;VALUE=DURATION:PT1H
X-Robots-Tag:noindex
X-PUBLISHED-TTL:PT1H
BEGIN:VTIMEZONE
TZID:America/New_York
BEGIN:DAYLIGHT
TZOFFSETFROM:-0500
TZOFFSETTO:-0400
TZNAME:EDT
DTSTART:20230312T070000
END:DAYLIGHT
BEGIN:STANDARD
TZOFFSETFROM:-0400
TZOFFSETTO:-0500
TZNAME:EST
DTSTART:20231105T060000
END:STANDARD
BEGIN:DAYLIGHT
TZOFFSETFROM:-0500
TZOFFSETTO:-0400
TZNAME:EDT
DTSTART:20240310T070000
END:DAYLIGHT
BEGIN:STANDARD
TZOFFSETFROM:-0400
TZOFFSETTO:-0500
TZNAME:EST
DTSTART:20241103T060000
END:STANDARD
BEGIN:DAYLIGHT
TZOFFSETFROM:-0500
TZOFFSETTO:-0400
TZNAME:EDT
DTSTART:20250309T070000
END:DAYLIGHT
BEGIN:STANDARD
TZOFFSETFROM:-0400
TZOFFSETTO:-0500
TZNAME:EST
DTSTART:20251102T060000
END:STANDARD
END:VTIMEZONE
BEGIN:VEVENT
DTSTART;TZID=America/New_York:20241205T083000
DTEND;TZID=America/New_York:20241205T153000
DTSTAMP:20260421T150446
CREATED:20240802T152750Z
LAST-MODIFIED:20240802T153417Z
UID:10002320-1733387400-1733412600@mlwgs.com
SUMMARY:Music Classes in Auditorium All-Day
DESCRIPTION:
URL:https://mlwgs.com/event/music-classes-in-auditorium-all-day-2/2024-12-05/
LOCATION:MLWGS Auditorium
CATEGORIES:Assembly or Other Program
ATTACH;FMTTYPE=image/jpeg:https://mlwgs.com/wp-content/uploads/2024/07/logo_color-1.jpg
ORGANIZER;CN="Mr. Nicholas Merillat":MAILTO:nmerillat@gsgis.k12.va.us
END:VEVENT
BEGIN:VEVENT
DTSTART;TZID=America/New_York:20241205T084000
DTEND;TZID=America/New_York:20241205T134200
DTSTAMP:20260421T150446
CREATED:20241125T144417Z
LAST-MODIFIED:20241125T144533Z
UID:10003514-1733388000-1733406120@mlwgs.com
SUMMARY:SOS Program (Forum)
DESCRIPTION:
URL:https://mlwgs.com/event/sos-program-forum-2/
CATEGORIES:Building Activity for MLWGS
ATTACH;FMTTYPE=image/jpeg:https://mlwgs.com/wp-content/uploads/2024/07/mag-default-image.jpg
ORGANIZER;CN="Ms. Kimberly Forquer":MAILTO:kforquer@gsgis.k12.va.us
END:VEVENT
BEGIN:VEVENT
DTSTART;TZID=America/New_York:20241205T084000
DTEND;TZID=America/New_York:20241205T151000
DTSTAMP:20260421T150446
CREATED:20240807T202839Z
LAST-MODIFIED:20250219T222157Z
UID:10002524-1733388000-1733411400@mlwgs.com
SUMMARY:Schedule A- Even Blocks (2024-2025)
DESCRIPTION:Warning  Bell 8:35 A.M. \nPeriod 2           8:40-10:08 A.M.         88 min. Moment of Silence/Announcements \nPeriod 4           10:13-11:35 A.M.       82 min. \nActivity/Tutoring/Lunch\n11:35-12:15 P.M.                               40 min. \nPeriod 6           12:20-1:42 P.M.          82 min. \nPeriod 8             1:47-3:10 P.M.          83 min. \nBuses Depart 3:20 P.M.
URL:https://mlwgs.com/event/schedule-a-even-blocks-2024-2025-2/2024-12-05/
LOCATION:MLWGS\, 1000 N. Lombardy St.\, Richmond\, 23113\, United States
ATTACH;FMTTYPE=image/jpeg:https://mlwgs.com/wp-content/uploads/2024/07/logo_color-1.jpg
END:VEVENT
BEGIN:VEVENT
DTSTART;TZID=America/New_York:20241205T113000
DTEND;TZID=America/New_York:20241205T121500
DTSTAMP:20260421T150446
CREATED:20241119T175943Z
LAST-MODIFIED:20241119T204829Z
UID:10003461-1733398200-1733400900@mlwgs.com
SUMMARY:FCS Pancakes Sale (Concession Stand)
DESCRIPTION:
URL:https://mlwgs.com/event/sca-pancakes-sale-concession-stand/2024-12-05/
CATEGORIES:Club Activity
ATTACH;FMTTYPE=image/jpeg:https://mlwgs.com/wp-content/uploads/2024/07/mag-default-image.jpg
ORGANIZER;CN="Mr. Mike Brown":MAILTO:mbrown@gsgis.k12.va.us
END:VEVENT
BEGIN:VEVENT
DTSTART;TZID=America/New_York:20241205T114000
DTEND;TZID=America/New_York:20241205T122000
DTSTAMP:20260421T150446
CREATED:20241125T142521Z
LAST-MODIFIED:20241202T191949Z
UID:10003510-1733398800-1733401200@mlwgs.com
SUMMARY:Combined Music Class Rehearsal (Auditorium)
DESCRIPTION:
URL:https://mlwgs.com/event/combined-music-class-rehearsal-aud/2024-12-05/
ATTACH;FMTTYPE=image/jpeg:https://mlwgs.com/wp-content/uploads/2024/07/mag-default-image.jpg
END:VEVENT
BEGIN:VEVENT
DTSTART;TZID=America/New_York:20241205T153000
DTEND;TZID=America/New_York:20241205T163000
DTSTAMP:20260421T150446
CREATED:20240910T134053Z
LAST-MODIFIED:20240910T134053Z
UID:10003246-1733412600-1733416200@mlwgs.com
SUMMARY:Dance Team Practice (Black Box)
DESCRIPTION:
URL:https://mlwgs.com/event/dance-team-practice-black-box/2024-12-05/
LOCATION:MLWGS Black Box
ATTACH;FMTTYPE=image/png:https://mlwgs.com/wp-content/uploads/2024/09/cropped-mw-logo-green.png
ORGANIZER;CN="Ms. Kimberly Forquer":MAILTO:kforquer@gsgis.k12.va.us
END:VEVENT
BEGIN:VEVENT
DTSTART;TZID=America/New_York:20241205T153000
DTEND;TZID=America/New_York:20241205T170000
DTSTAMP:20260421T150446
CREATED:20240822T145332Z
LAST-MODIFIED:20240822T145332Z
UID:10002895-1733412600-1733418000@mlwgs.com
SUMMARY:Testing Lab (Rm 201)
DESCRIPTION:The Testing Lab is available for all teachers to use\, so multiple assessments may be administered simultaneously. To manage this\, we space out students taking the same test\, ask students using computers to sit with their screens facing us\, and enforce the following rules: no food or drinks\, no personal items (including cell phones or earbuds)\, no talking\, and no bathroom breaks once testing has started. \nPlease note that students don’t need to arrive exactly at 3:30—they can come anytime within the Testing Lab window\, as long as they finish by 5:00 PM.
URL:https://mlwgs.com/event/testing-lab-rm-201-3/2024-12-05/
LOCATION:MLWGS Room 201
CATEGORIES:Building Activity for MLWGS
ATTACH;FMTTYPE=image/jpeg:https://mlwgs.com/wp-content/uploads/2024/07/logo_color-1.jpg
END:VEVENT
BEGIN:VEVENT
DTSTART;TZID=America/New_York:20241205T173000
DTEND;TZID=America/New_York:20241205T173000
DTSTAMP:20260421T150446
CREATED:20241122T191211Z
LAST-MODIFIED:20241122T191211Z
UID:10003476-1733419800-1733419800@mlwgs.com
SUMMARY:Basketball:  Boys JV (Home)
DESCRIPTION:
URL:https://mlwgs.com/event/basketball-boys-jv-home-2/
LOCATION:Maggie L. Walker Governor’s School
ATTACH;FMTTYPE=image/jpeg:https://mlwgs.com/wp-content/uploads/2024/07/mag-default-image.jpg
END:VEVENT
BEGIN:VEVENT
DTSTART;TZID=America/New_York:20241205T183000
DTEND;TZID=America/New_York:20241205T183000
DTSTAMP:20260421T150446
CREATED:20241122T191415Z
LAST-MODIFIED:20241122T191415Z
UID:10003478-1733423400-1733423400@mlwgs.com
SUMMARY:Basketball:  Girls Varsity vs Cristo Rey (Away)
DESCRIPTION:
URL:https://mlwgs.com/event/basketball-girls-varsity-vs-cristo-rey-away/
LOCATION:Cristor Rey Richmond
ATTACH;FMTTYPE=image/jpeg:https://mlwgs.com/wp-content/uploads/2024/07/mag-default-image.jpg
END:VEVENT
BEGIN:VEVENT
DTSTART;TZID=America/New_York:20241205T183000
DTEND;TZID=America/New_York:20241205T203000
DTSTAMP:20260421T150446
CREATED:20240801T144047Z
LAST-MODIFIED:20240801T144047Z
UID:10002277-1733423400-1733430600@mlwgs.com
SUMMARY:MLWGS Foundation Director's Circle Reception (Off Campus)
DESCRIPTION:
URL:https://mlwgs.com/event/mlwgs-foundation-directors-circle-reception-off-campus/
CATEGORIES:GS Foundation
ATTACH;FMTTYPE=image/jpeg:https://mlwgs.com/wp-content/uploads/2024/07/logo_color-1.jpg
ORGANIZER;CN="Ms. Ginger O'Neil":MAILTO:goneil@mlwgsfoundation.org
END:VEVENT
BEGIN:VEVENT
DTSTART;TZID=America/New_York:20241205T190000
DTEND;TZID=America/New_York:20241205T190000
DTSTAMP:20260421T150446
CREATED:20241122T191256Z
LAST-MODIFIED:20241122T191256Z
UID:10003477-1733425200-1733425200@mlwgs.com
SUMMARY:Basketball:  Boys Varsity (Home)
DESCRIPTION:
URL:https://mlwgs.com/event/basketball-boys-varsity-home-2/
LOCATION:Maggie L. Walker Governor’s School
ATTACH;FMTTYPE=image/jpeg:https://mlwgs.com/wp-content/uploads/2024/07/mag-default-image.jpg
END:VEVENT
END:VCALENDAR