BEGIN:VCALENDAR
VERSION:2.0
PRODID:-//Maggie L. Walker Governor&#039;s School - ECPv6.15.17.1//NONSGML v1.0//EN
CALSCALE:GREGORIAN
METHOD:PUBLISH
X-WR-CALNAME:Maggie L. Walker Governor&#039;s School
X-ORIGINAL-URL:https://mlwgs.com
X-WR-CALDESC:Events for Maggie L. Walker Governor&#039;s School
REFRESH-INTERVAL;VALUE=DURATION:PT1H
X-Robots-Tag:noindex
X-PUBLISHED-TTL:PT1H
BEGIN:VTIMEZONE
TZID:America/New_York
BEGIN:DAYLIGHT
TZOFFSETFROM:-0500
TZOFFSETTO:-0400
TZNAME:EDT
DTSTART:20230312T070000
END:DAYLIGHT
BEGIN:STANDARD
TZOFFSETFROM:-0400
TZOFFSETTO:-0500
TZNAME:EST
DTSTART:20231105T060000
END:STANDARD
BEGIN:DAYLIGHT
TZOFFSETFROM:-0500
TZOFFSETTO:-0400
TZNAME:EDT
DTSTART:20240310T070000
END:DAYLIGHT
BEGIN:STANDARD
TZOFFSETFROM:-0400
TZOFFSETTO:-0500
TZNAME:EST
DTSTART:20241103T060000
END:STANDARD
BEGIN:DAYLIGHT
TZOFFSETFROM:-0500
TZOFFSETTO:-0400
TZNAME:EDT
DTSTART:20250309T070000
END:DAYLIGHT
BEGIN:STANDARD
TZOFFSETFROM:-0400
TZOFFSETTO:-0500
TZNAME:EST
DTSTART:20251102T060000
END:STANDARD
END:VTIMEZONE
BEGIN:VEVENT
DTSTART;TZID=America/New_York:20241210T080000
DTEND;TZID=America/New_York:20241210T170000
DTSTAMP:20260421T161851
CREATED:20241118T195828Z
LAST-MODIFIED:20241118T195828Z
UID:10003445-1733817600-1733850000@mlwgs.com
SUMMARY:WTP Class Trip (Off Campus)
DESCRIPTION:To Philadelphia
URL:https://mlwgs.com/event/wtp-class-trip-off-campus/2024-12-10/
CATEGORIES:Competition Event
ATTACH;FMTTYPE=image/jpeg:https://mlwgs.com/wp-content/uploads/2024/07/mag-default-image.jpg
ORGANIZER;CN="Mr. Sam Ulmschneider":MAILTO:sulmschneider@gsgis.k12.va.us
END:VEVENT
BEGIN:VEVENT
DTSTART;TZID=America/New_York:20241210T083000
DTEND;TZID=America/New_York:20241210T153000
DTSTAMP:20260421T161851
CREATED:20240802T152750Z
LAST-MODIFIED:20240802T153417Z
UID:10002311-1733819400-1733844600@mlwgs.com
SUMMARY:Music Classes in Auditorium All-Day
DESCRIPTION:
URL:https://mlwgs.com/event/music-classes-in-auditorium-all-day-2/2024-12-10/
LOCATION:MLWGS Auditorium
CATEGORIES:Assembly or Other Program
ATTACH;FMTTYPE=image/jpeg:https://mlwgs.com/wp-content/uploads/2024/07/logo_color-1.jpg
ORGANIZER;CN="Mr. Nicholas Merillat":MAILTO:nmerillat@gsgis.k12.va.us
END:VEVENT
BEGIN:VEVENT
DTSTART;TZID=America/New_York:20241210T084000
DTEND;TZID=America/New_York:20241210T151000
DTSTAMP:20260421T161851
CREATED:20240807T202839Z
LAST-MODIFIED:20250219T222157Z
UID:10002525-1733820000-1733843400@mlwgs.com
SUMMARY:Schedule A- Even Blocks (2024-2025)
DESCRIPTION:Warning  Bell 8:35 A.M. \nPeriod 2           8:40-10:08 A.M.         88 min. Moment of Silence/Announcements \nPeriod 4           10:13-11:35 A.M.       82 min. \nActivity/Tutoring/Lunch\n11:35-12:15 P.M.                               40 min. \nPeriod 6           12:20-1:42 P.M.          82 min. \nPeriod 8             1:47-3:10 P.M.          83 min. \nBuses Depart 3:20 P.M.
URL:https://mlwgs.com/event/schedule-a-even-blocks-2024-2025-2/2024-12-10/
LOCATION:MLWGS\, 1000 N. Lombardy St.\, Richmond\, 23113\, United States
ATTACH;FMTTYPE=image/jpeg:https://mlwgs.com/wp-content/uploads/2024/07/logo_color-1.jpg
END:VEVENT
BEGIN:VEVENT
DTSTART;TZID=America/New_York:20241210T101500
DTEND;TZID=America/New_York:20241210T151500
DTSTAMP:20260421T161851
CREATED:20241202T151142Z
LAST-MODIFIED:20241202T151142Z
UID:10003520-1733825700-1733843700@mlwgs.com
SUMMARY:SOS Program for Juniors (Forum)
DESCRIPTION:
URL:https://mlwgs.com/event/sos-program-for-juniors-forum/
LOCATION:MLWGS Forum
CATEGORIES:Assembly or Other Program
ATTACH;FMTTYPE=image/jpeg:https://mlwgs.com/wp-content/uploads/2024/07/mag-default-image.jpg
ORGANIZER;CN="Ms. Erin Ortiz":MAILTO:eortiz@gsgis.k12.va.us
END:VEVENT
BEGIN:VEVENT
DTSTART;TZID=America/New_York:20241210T113000
DTEND;TZID=America/New_York:20241210T123000
DTSTAMP:20260421T161851
CREATED:20241202T192556Z
LAST-MODIFIED:20241202T192724Z
UID:10003572-1733830200-1733833800@mlwgs.com
SUMMARY:Future Problem Solvers Club Winter Fundraiser (Concession Stand)
DESCRIPTION:
URL:https://mlwgs.com/event/future-problem-solvers-club-winter-fundraiser-concession-stand/2024-12-10/
CATEGORIES:Club Activity
ATTACH;FMTTYPE=image/jpeg:https://mlwgs.com/wp-content/uploads/2024/07/mag-default-image.jpg
ORGANIZER;CN="Dr. Tyler Goldberger":MAILTO:tgoldberger@gsgis.k12.va.us
END:VEVENT
BEGIN:VEVENT
DTSTART;TZID=America/New_York:20241210T114000
DTEND;TZID=America/New_York:20241210T121000
DTSTAMP:20260421T161851
CREATED:20241210T152800Z
LAST-MODIFIED:20241210T192806Z
UID:10003770-1733830800-1733832600@mlwgs.com
SUMMARY:Teacher Welcome Subcommittee (Room 221)
DESCRIPTION:Reserved by Dr. Smith
URL:https://mlwgs.com/event/teacher-welcome-subcommittee-room-221/
CATEGORIES:Club Activity
ATTACH;FMTTYPE=image/jpeg:https://mlwgs.com/wp-content/uploads/2024/07/mag-default-image.jpg
END:VEVENT
BEGIN:VEVENT
DTSTART;TZID=America/New_York:20241210T114000
DTEND;TZID=America/New_York:20241210T121500
DTSTAMP:20260421T161851
CREATED:20240815T192711Z
LAST-MODIFIED:20240815T192711Z
UID:10002658-1733830800-1733832900@mlwgs.com
SUMMARY:Model UN Club Meeting (Forum)
DESCRIPTION:
URL:https://mlwgs.com/event/model-un-club-meeting-forum-2/2024-12-10/
LOCATION:MLWGS Forum
CATEGORIES:Club Activity
ATTACH;FMTTYPE=image/jpeg:https://mlwgs.com/wp-content/uploads/2024/07/logo_color-1.jpg
ORGANIZER;CN="Mr. Kyle Rogers":MAILTO:krogers@gsgis.k12.va.us
END:VEVENT
BEGIN:VEVENT
DTSTART;TZID=America/New_York:20241210T114000
DTEND;TZID=America/New_York:20241210T121500
DTSTAMP:20260421T161851
CREATED:20241125T142953Z
LAST-MODIFIED:20241125T184523Z
UID:10003297-1733830800-1733832900@mlwgs.com
SUMMARY:VML Math Contest (Lower 200-wing)
DESCRIPTION:
URL:https://mlwgs.com/event/vml-math-contest-auditorium-2/
LOCATION:MLWGS Auditorium
CATEGORIES:Competition Event
ATTACH;FMTTYPE=image/png:https://mlwgs.com/wp-content/uploads/2024/09/cropped-mw-logo-green.png
ORGANIZER;CN="Mr. Patrick Kennedy":MAILTO:pkennedy@gsgis.k12.va.us
END:VEVENT
BEGIN:VEVENT
DTSTART;TZID=America/New_York:20241210T114000
DTEND;TZID=America/New_York:20241210T122000
DTSTAMP:20260421T161851
CREATED:20241125T142521Z
LAST-MODIFIED:20241202T191949Z
UID:10003511-1733830800-1733833200@mlwgs.com
SUMMARY:Combined Music Class Rehearsal (Auditorium)
DESCRIPTION:
URL:https://mlwgs.com/event/combined-music-class-rehearsal-aud/2024-12-10/
ATTACH;FMTTYPE=image/jpeg:https://mlwgs.com/wp-content/uploads/2024/07/mag-default-image.jpg
END:VEVENT
BEGIN:VEVENT
DTSTART;TZID=America/New_York:20241210T151500
DTEND;TZID=America/New_York:20241210T170000
DTSTAMP:20260421T161851
CREATED:20241125T141958Z
LAST-MODIFIED:20241125T141958Z
UID:10003507-1733843700-1733850000@mlwgs.com
SUMMARY:Drama:  Spring Musical Auditions (Black Box)
DESCRIPTION:
URL:https://mlwgs.com/event/drama-spring-musical-auditions-black-box/
CATEGORIES:Club Activity
ATTACH;FMTTYPE=image/jpeg:https://mlwgs.com/wp-content/uploads/2024/07/mag-default-image.jpg
ORGANIZER;CN="Ms. Devon Mattys":MAILTO:dmattys@gsgis.k12.va.us
END:VEVENT
BEGIN:VEVENT
DTSTART;TZID=America/New_York:20241210T153000
DTEND;TZID=America/New_York:20241210T163000
DTSTAMP:20260421T161851
CREATED:20240819T193140Z
LAST-MODIFIED:20240819T193140Z
UID:10002787-1733844600-1733848200@mlwgs.com
SUMMARY:Subcommittee Meetings As Needed (Various Locations)
DESCRIPTION:Second Tuesday–flexible format & timing–These Tuesday afternoons will be designated for subcommittee meetings. Some subcommittees may meet during lunch or during alternative times. If you do not have a meeting\, you may leave school at 3:30.
URL:https://mlwgs.com/event/subcommittee-meetings-as-needed-various-locations/2024-12-10/
CATEGORIES:Building Activity for MLWGS
ATTACH;FMTTYPE=image/jpeg:https://mlwgs.com/wp-content/uploads/2024/07/logo_color-1.jpg
END:VEVENT
BEGIN:VEVENT
DTSTART;TZID=America/New_York:20241210T153000
DTEND;TZID=America/New_York:20241210T163000
DTSTAMP:20260421T161851
CREATED:20241203T180235Z
LAST-MODIFIED:20250116T192837Z
UID:10003576-1733844600-1733848200@mlwgs.com
SUMMARY:Step Practice (Forum or Classroom 104 When Needed)
DESCRIPTION:
URL:https://mlwgs.com/event/step-practice-forum-or-available-classroom-as-needed/2024-12-10/
LOCATION:MLWGS Forum
CATEGORIES:Club Activity
ATTACH;FMTTYPE=image/jpeg:https://mlwgs.com/wp-content/uploads/2024/07/mag-default-image.jpg
ORGANIZER;CN="Ms. Nakita Lee":MAILTO:nlee@gsgis.k12.va.us
END:VEVENT
BEGIN:VEVENT
DTSTART;TZID=America/New_York:20241210T180000
DTEND;TZID=America/New_York:20241210T190000
DTSTAMP:20260421T161851
CREATED:20240923T195341Z
LAST-MODIFIED:20240923T195341Z
UID:10003293-1733853600-1733857200@mlwgs.com
SUMMARY:VIRTUAL FY26 Budget Development Town Hall
DESCRIPTION:
URL:https://mlwgs.com/event/virtual-fy26-budget-development-town-hall/
CATEGORIES:Regional School Board
ATTACH;FMTTYPE=image/png:https://mlwgs.com/wp-content/uploads/2024/09/cropped-mw-logo-green.png
ORGANIZER;CN="Dr. Robert Lowerre":MAILTO:rlowerre@gsgis.k12.va.us
END:VEVENT
END:VCALENDAR