BEGIN:VCALENDAR
VERSION:2.0
PRODID:-//Maggie L. Walker Governor&#039;s School - ECPv6.15.17.1//NONSGML v1.0//EN
CALSCALE:GREGORIAN
METHOD:PUBLISH
X-WR-CALNAME:Maggie L. Walker Governor&#039;s School
X-ORIGINAL-URL:https://mlwgs.com
X-WR-CALDESC:Events for Maggie L. Walker Governor&#039;s School
REFRESH-INTERVAL;VALUE=DURATION:PT1H
X-Robots-Tag:noindex
X-PUBLISHED-TTL:PT1H
BEGIN:VTIMEZONE
TZID:America/New_York
BEGIN:DAYLIGHT
TZOFFSETFROM:-0500
TZOFFSETTO:-0400
TZNAME:EDT
DTSTART:20230312T070000
END:DAYLIGHT
BEGIN:STANDARD
TZOFFSETFROM:-0400
TZOFFSETTO:-0500
TZNAME:EST
DTSTART:20231105T060000
END:STANDARD
BEGIN:DAYLIGHT
TZOFFSETFROM:-0500
TZOFFSETTO:-0400
TZNAME:EDT
DTSTART:20240310T070000
END:DAYLIGHT
BEGIN:STANDARD
TZOFFSETFROM:-0400
TZOFFSETTO:-0500
TZNAME:EST
DTSTART:20241103T060000
END:STANDARD
BEGIN:DAYLIGHT
TZOFFSETFROM:-0500
TZOFFSETTO:-0400
TZNAME:EDT
DTSTART:20250309T070000
END:DAYLIGHT
BEGIN:STANDARD
TZOFFSETFROM:-0400
TZOFFSETTO:-0500
TZNAME:EST
DTSTART:20251102T060000
END:STANDARD
END:VTIMEZONE
BEGIN:VEVENT
DTSTART;TZID=America/New_York:20241212T083000
DTEND;TZID=America/New_York:20241212T153000
DTSTAMP:20260421T161911
CREATED:20240802T152750Z
LAST-MODIFIED:20240802T153417Z
UID:10002313-1733992200-1734017400@mlwgs.com
SUMMARY:Music Classes in Auditorium All-Day
DESCRIPTION:
URL:https://mlwgs.com/event/music-classes-in-auditorium-all-day-2/2024-12-12/
LOCATION:MLWGS Auditorium
CATEGORIES:Assembly or Other Program
ATTACH;FMTTYPE=image/jpeg:https://mlwgs.com/wp-content/uploads/2024/07/logo_color-1.jpg
ORGANIZER;CN="Mr. Nicholas Merillat":MAILTO:nmerillat@gsgis.k12.va.us
END:VEVENT
BEGIN:VEVENT
DTSTART;TZID=America/New_York:20241212T084000
DTEND;TZID=America/New_York:20241212T151000
DTSTAMP:20260421T161911
CREATED:20240807T202839Z
LAST-MODIFIED:20250219T222157Z
UID:10002526-1733992800-1734016200@mlwgs.com
SUMMARY:Schedule A- Even Blocks (2024-2025)
DESCRIPTION:Warning  Bell 8:35 A.M. \nPeriod 2           8:40-10:08 A.M.         88 min. Moment of Silence/Announcements \nPeriod 4           10:13-11:35 A.M.       82 min. \nActivity/Tutoring/Lunch\n11:35-12:15 P.M.                               40 min. \nPeriod 6           12:20-1:42 P.M.          82 min. \nPeriod 8             1:47-3:10 P.M.          83 min. \nBuses Depart 3:20 P.M.
URL:https://mlwgs.com/event/schedule-a-even-blocks-2024-2025-2/2024-12-12/
LOCATION:MLWGS\, 1000 N. Lombardy St.\, Richmond\, 23113\, United States
ATTACH;FMTTYPE=image/jpeg:https://mlwgs.com/wp-content/uploads/2024/07/logo_color-1.jpg
END:VEVENT
BEGIN:VEVENT
DTSTART;TZID=America/New_York:20241212T113000
DTEND;TZID=America/New_York:20241212T122000
DTSTAMP:20260421T161911
CREATED:20241210T184346Z
LAST-MODIFIED:20241210T184346Z
UID:10003775-1734003000-1734006000@mlwgs.com
SUMMARY:TSA Cotton Candy Sales (Concession Stand)
DESCRIPTION:
URL:https://mlwgs.com/event/tsa-cotton-candy-sales-concession-stand/2024-12-12/
LOCATION:MLWGS Concession Stand
CATEGORIES:Club Activity
ATTACH;FMTTYPE=image/jpeg:https://mlwgs.com/wp-content/uploads/2024/07/mag-default-image.jpg
ORGANIZER;CN="bra":MAILTO:bgooss@gsgis.k12.va.us
END:VEVENT
BEGIN:VEVENT
DTSTART;TZID=America/New_York:20241212T113500
DTEND;TZID=America/New_York:20241212T121500
DTSTAMP:20260421T161911
CREATED:20240909T174030Z
LAST-MODIFIED:20240909T174030Z
UID:10003204-1734003300-1734005700@mlwgs.com
SUMMARY:TJHHS Meeting (Forum)
DESCRIPTION:
URL:https://mlwgs.com/event/tjhhs-meeting-forum-2/2024-12-12/
LOCATION:MLWGS Forum
CATEGORIES:Honor Society Activity
ATTACH;FMTTYPE=image/png:https://mlwgs.com/wp-content/uploads/2024/09/cropped-mw-logo-green.png
ORGANIZER;CN="Ms. Nakita Lee":MAILTO:nlee@gsgis.k12.va.us
END:VEVENT
BEGIN:VEVENT
DTSTART;TZID=America/New_York:20241212T114000
DTEND;TZID=America/New_York:20241212T121000
DTSTAMP:20260421T161911
CREATED:20241119T181809Z
LAST-MODIFIED:20241121T202822Z
UID:10003463-1734003600-1734005400@mlwgs.com
SUMMARY:Student Ambassadors Meeting- All Members (Black Box)
DESCRIPTION:Mandatory quarterly meeting for all student ambassadors.  Attendance will be taken.
URL:https://mlwgs.com/event/student-ambassadors-meeting-all-members-auditorium/
CATEGORIES:Club Activity
ATTACH;FMTTYPE=image/jpeg:https://mlwgs.com/wp-content/uploads/2024/07/mag-default-image.jpg
END:VEVENT
BEGIN:VEVENT
DTSTART;TZID=America/New_York:20241212T114000
DTEND;TZID=America/New_York:20241212T122000
DTSTAMP:20260421T161911
CREATED:20241125T142521Z
LAST-MODIFIED:20241202T191949Z
UID:10003512-1734003600-1734006000@mlwgs.com
SUMMARY:Combined Music Class Rehearsal (Auditorium)
DESCRIPTION:
URL:https://mlwgs.com/event/combined-music-class-rehearsal-aud/2024-12-12/
ATTACH;FMTTYPE=image/jpeg:https://mlwgs.com/wp-content/uploads/2024/07/mag-default-image.jpg
END:VEVENT
BEGIN:VEVENT
DTSTART;TZID=America/New_York:20241212T124500
DTEND;TZID=America/New_York:20241212T133000
DTSTAMP:20260421T161911
CREATED:20241210T173131Z
LAST-MODIFIED:20241211T145954Z
UID:10003772-1734007500-1734010200@mlwgs.com
SUMMARY:IEP Meeting (Rm 153)
DESCRIPTION:
URL:https://mlwgs.com/event/iep-meeting-rm-153/
LOCATION:MLWGS Room 153
CATEGORIES:Building Activity for MLWGS
ATTACH;FMTTYPE=image/jpeg:https://mlwgs.com/wp-content/uploads/2024/07/mag-default-image.jpg
ORGANIZER;CN="Ms. Kelly Ndayizigiye":MAILTO:kndayizigiye@gsgis.k12.va.us
END:VEVENT
BEGIN:VEVENT
DTSTART;TZID=America/New_York:20241212T153000
DTEND;TZID=America/New_York:20241212T163000
DTSTAMP:20260421T161911
CREATED:20240910T134053Z
LAST-MODIFIED:20240910T134053Z
UID:10003248-1734017400-1734021000@mlwgs.com
SUMMARY:Dance Team Practice (Black Box)
DESCRIPTION:
URL:https://mlwgs.com/event/dance-team-practice-black-box/2024-12-12/
LOCATION:MLWGS Black Box
ATTACH;FMTTYPE=image/png:https://mlwgs.com/wp-content/uploads/2024/09/cropped-mw-logo-green.png
ORGANIZER;CN="Ms. Kimberly Forquer":MAILTO:kforquer@gsgis.k12.va.us
END:VEVENT
BEGIN:VEVENT
DTSTART;TZID=America/New_York:20241212T153000
DTEND;TZID=America/New_York:20241212T170000
DTSTAMP:20260421T161911
CREATED:20240822T145332Z
LAST-MODIFIED:20240822T145332Z
UID:10002896-1734017400-1734022800@mlwgs.com
SUMMARY:Testing Lab (Rm 201)
DESCRIPTION:The Testing Lab is available for all teachers to use\, so multiple assessments may be administered simultaneously. To manage this\, we space out students taking the same test\, ask students using computers to sit with their screens facing us\, and enforce the following rules: no food or drinks\, no personal items (including cell phones or earbuds)\, no talking\, and no bathroom breaks once testing has started. \nPlease note that students don’t need to arrive exactly at 3:30—they can come anytime within the Testing Lab window\, as long as they finish by 5:00 PM.
URL:https://mlwgs.com/event/testing-lab-rm-201-3/2024-12-12/
LOCATION:MLWGS Room 201
CATEGORIES:Building Activity for MLWGS
ATTACH;FMTTYPE=image/jpeg:https://mlwgs.com/wp-content/uploads/2024/07/logo_color-1.jpg
END:VEVENT
END:VCALENDAR