BEGIN:VCALENDAR
VERSION:2.0
PRODID:-//Maggie L. Walker Governor&#039;s School - ECPv6.15.17.1//NONSGML v1.0//EN
CALSCALE:GREGORIAN
METHOD:PUBLISH
X-WR-CALNAME:Maggie L. Walker Governor&#039;s School
X-ORIGINAL-URL:https://mlwgs.com
X-WR-CALDESC:Events for Maggie L. Walker Governor&#039;s School
REFRESH-INTERVAL;VALUE=DURATION:PT1H
X-Robots-Tag:noindex
X-PUBLISHED-TTL:PT1H
BEGIN:VTIMEZONE
TZID:America/New_York
BEGIN:DAYLIGHT
TZOFFSETFROM:-0500
TZOFFSETTO:-0400
TZNAME:EDT
DTSTART:20230312T070000
END:DAYLIGHT
BEGIN:STANDARD
TZOFFSETFROM:-0400
TZOFFSETTO:-0500
TZNAME:EST
DTSTART:20231105T060000
END:STANDARD
BEGIN:DAYLIGHT
TZOFFSETFROM:-0500
TZOFFSETTO:-0400
TZNAME:EDT
DTSTART:20240310T070000
END:DAYLIGHT
BEGIN:STANDARD
TZOFFSETFROM:-0400
TZOFFSETTO:-0500
TZNAME:EST
DTSTART:20241103T060000
END:STANDARD
BEGIN:DAYLIGHT
TZOFFSETFROM:-0500
TZOFFSETTO:-0400
TZNAME:EDT
DTSTART:20250309T070000
END:DAYLIGHT
BEGIN:STANDARD
TZOFFSETFROM:-0400
TZOFFSETTO:-0500
TZNAME:EST
DTSTART:20251102T060000
END:STANDARD
END:VTIMEZONE
BEGIN:VEVENT
DTSTART;TZID=America/New_York:20241217T083000
DTEND;TZID=America/New_York:20241217T153000
DTSTAMP:20260420T172256
CREATED:20240802T152750Z
LAST-MODIFIED:20240802T153417Z
UID:10002316-1734424200-1734449400@mlwgs.com
SUMMARY:Music Classes in Auditorium All-Day
DESCRIPTION:
URL:https://mlwgs.com/event/music-classes-in-auditorium-all-day-2/2024-12-17/
LOCATION:MLWGS Auditorium
CATEGORIES:Assembly or Other Program
ATTACH;FMTTYPE=image/jpeg:https://mlwgs.com/wp-content/uploads/2024/07/logo_color-1.jpg
ORGANIZER;CN="Mr. Nicholas Merillat":MAILTO:nmerillat@gsgis.k12.va.us
END:VEVENT
BEGIN:VEVENT
DTSTART;TZID=America/New_York:20241217T084000
DTEND;TZID=America/New_York:20241217T100000
DTSTAMP:20260420T172256
CREATED:20240826T135633Z
LAST-MODIFIED:20240826T135633Z
UID:10003121-1734424800-1734429600@mlwgs.com
SUMMARY:Leadership Meeting (Rm 153)
DESCRIPTION:
URL:https://mlwgs.com/event/leadership-meeting-rm-153/2024-12-17/
LOCATION:MLWGS Room 153
CATEGORIES:Building Activity for MLWGS
ATTACH;FMTTYPE=image/jpeg:https://mlwgs.com/wp-content/uploads/2024/07/logo_color-1.jpg
ORGANIZER;CN="Dr. Michael Smith":MAILTO:msmith@gsgis,k12.va.us
END:VEVENT
BEGIN:VEVENT
DTSTART;TZID=America/New_York:20241217T084000
DTEND;TZID=America/New_York:20241217T151000
DTSTAMP:20260420T172256
CREATED:20240807T202839Z
LAST-MODIFIED:20250219T222157Z
UID:10002527-1734424800-1734448200@mlwgs.com
SUMMARY:Schedule A- Even Blocks (2024-2025)
DESCRIPTION:Warning  Bell 8:35 A.M. \nPeriod 2           8:40-10:08 A.M.         88 min. Moment of Silence/Announcements \nPeriod 4           10:13-11:35 A.M.       82 min. \nActivity/Tutoring/Lunch\n11:35-12:15 P.M.                               40 min. \nPeriod 6           12:20-1:42 P.M.          82 min. \nPeriod 8             1:47-3:10 P.M.          83 min. \nBuses Depart 3:20 P.M.
URL:https://mlwgs.com/event/schedule-a-even-blocks-2024-2025-2/2024-12-17/
LOCATION:MLWGS\, 1000 N. Lombardy St.\, Richmond\, 23113\, United States
ATTACH;FMTTYPE=image/jpeg:https://mlwgs.com/wp-content/uploads/2024/07/logo_color-1.jpg
END:VEVENT
BEGIN:VEVENT
DTSTART;TZID=America/New_York:20241217T114000
DTEND;TZID=America/New_York:20241217T121500
DTSTAMP:20260420T172256
CREATED:20240815T192711Z
LAST-MODIFIED:20240815T192711Z
UID:10002659-1734435600-1734437700@mlwgs.com
SUMMARY:Model UN Club Meeting (Forum)
DESCRIPTION:
URL:https://mlwgs.com/event/model-un-club-meeting-forum-2/2024-12-17/
LOCATION:MLWGS Forum
CATEGORIES:Club Activity
ATTACH;FMTTYPE=image/jpeg:https://mlwgs.com/wp-content/uploads/2024/07/logo_color-1.jpg
ORGANIZER;CN="Mr. Kyle Rogers":MAILTO:krogers@gsgis.k12.va.us
END:VEVENT
BEGIN:VEVENT
DTSTART;TZID=America/New_York:20241217T153000
DTEND;TZID=America/New_York:20241217T163000
DTSTAMP:20260420T172256
CREATED:20240819T190614Z
LAST-MODIFIED:20240819T190614Z
UID:10002770-1734449400-1734453000@mlwgs.com
SUMMARY:Department Meetings If Needed (Various Locations)
DESCRIPTION:Check with your department chair.
URL:https://mlwgs.com/event/department-meetings-if-needed-various-locations/2024-12-17/
CATEGORIES:Building Activity for MLWGS
ATTACH;FMTTYPE=image/jpeg:https://mlwgs.com/wp-content/uploads/2024/07/logo_color-1.jpg
ORGANIZER;CN="Dr. Lisa Williams":MAILTO:lisa.williams@gsgis.k12.va.us
END:VEVENT
BEGIN:VEVENT
DTSTART;TZID=America/New_York:20241217T153000
DTEND;TZID=America/New_York:20241217T163000
DTSTAMP:20260420T172256
CREATED:20241203T180235Z
LAST-MODIFIED:20250116T192837Z
UID:10003577-1734449400-1734453000@mlwgs.com
SUMMARY:Step Practice (Forum or Classroom 104 When Needed)
DESCRIPTION:
URL:https://mlwgs.com/event/step-practice-forum-or-available-classroom-as-needed/2024-12-17/
LOCATION:MLWGS Forum
CATEGORIES:Club Activity
ATTACH;FMTTYPE=image/jpeg:https://mlwgs.com/wp-content/uploads/2024/07/mag-default-image.jpg
ORGANIZER;CN="Ms. Nakita Lee":MAILTO:nlee@gsgis.k12.va.us
END:VEVENT
BEGIN:VEVENT
DTSTART;TZID=America/New_York:20241217T153000
DTEND;TZID=America/New_York:20241217T170000
DTSTAMP:20260420T172256
CREATED:20241202T154011Z
LAST-MODIFIED:20241202T154239Z
UID:10003523-1734449400-1734454800@mlwgs.com
SUMMARY:AP Gov After School Congressional Simulation (Forum)
DESCRIPTION:
URL:https://mlwgs.com/event/ap-gov-after-school-congressional-simulation-forum/
LOCATION:MLWGS Forum
CATEGORIES:Assembly or Other Program
ATTACH;FMTTYPE=image/jpeg:https://mlwgs.com/wp-content/uploads/2024/07/mag-default-image.jpg
ORGANIZER;CN="Mr. Sam Ulmschneider":MAILTO:sulmschneider@gsgis.k12.va.us
END:VEVENT
END:VCALENDAR