BEGIN:VCALENDAR
VERSION:2.0
PRODID:-//Maggie L. Walker Governor&#039;s School - ECPv6.15.17.1//NONSGML v1.0//EN
CALSCALE:GREGORIAN
METHOD:PUBLISH
X-WR-CALNAME:Maggie L. Walker Governor&#039;s School
X-ORIGINAL-URL:https://mlwgs.com
X-WR-CALDESC:Events for Maggie L. Walker Governor&#039;s School
REFRESH-INTERVAL;VALUE=DURATION:PT1H
X-Robots-Tag:noindex
X-PUBLISHED-TTL:PT1H
BEGIN:VTIMEZONE
TZID:America/New_York
BEGIN:DAYLIGHT
TZOFFSETFROM:-0500
TZOFFSETTO:-0400
TZNAME:EDT
DTSTART:20240310T070000
END:DAYLIGHT
BEGIN:STANDARD
TZOFFSETFROM:-0400
TZOFFSETTO:-0500
TZNAME:EST
DTSTART:20241103T060000
END:STANDARD
BEGIN:DAYLIGHT
TZOFFSETFROM:-0500
TZOFFSETTO:-0400
TZNAME:EDT
DTSTART:20250309T070000
END:DAYLIGHT
BEGIN:STANDARD
TZOFFSETFROM:-0400
TZOFFSETTO:-0500
TZNAME:EST
DTSTART:20251102T060000
END:STANDARD
BEGIN:DAYLIGHT
TZOFFSETFROM:-0500
TZOFFSETTO:-0400
TZNAME:EDT
DTSTART:20260308T070000
END:DAYLIGHT
BEGIN:STANDARD
TZOFFSETFROM:-0400
TZOFFSETTO:-0500
TZNAME:EST
DTSTART:20261101T060000
END:STANDARD
END:VTIMEZONE
BEGIN:VEVENT
DTSTART;TZID=America/New_York:20250109T080000
DTEND;TZID=America/New_York:20250109T170000
DTSTAMP:20260420T130145
CREATED:20250105T222603Z
LAST-MODIFIED:20250109T142712Z
UID:10003936-1736409600-1736442000@mlwgs.com
SUMMARY:CLOSED DUE TO INCLEMENT WEATHER
DESCRIPTION:
URL:https://mlwgs.com/event/closed-due-to-inclement-weather/2025-01-09/
CATEGORIES:Emergency Closing
ATTACH;FMTTYPE=image/jpeg:https://mlwgs.com/wp-content/uploads/2024/07/mag-default-image.jpg
ORGANIZER;CN="Dr. Michael Smith":MAILTO:msmith@gsgis,k12.va.us
END:VEVENT
BEGIN:VEVENT
DTSTART;TZID=America/New_York:20250109T090000
DTEND;TZID=America/New_York:20250109T093000
DTSTAMP:20260420T130145
CREATED:20241105T015153Z
LAST-MODIFIED:20241105T015153Z
UID:10003404-1736413200-1736415000@mlwgs.com
SUMMARY:VIRTUAL Finance Comm. Mtg
DESCRIPTION:
URL:https://mlwgs.com/event/virtual-finance-comm-mtg/
CATEGORIES:Regional School Board
ATTACH;FMTTYPE=image/jpeg:https://mlwgs.com/wp-content/uploads/2024/07/mag-default-image.jpg
END:VEVENT
BEGIN:VEVENT
DTSTART;TZID=America/New_York:20250109T153000
DTEND;TZID=America/New_York:20250109T163000
DTSTAMP:20260420T130145
CREATED:20240910T134053Z
LAST-MODIFIED:20240910T134053Z
UID:10003250-1736436600-1736440200@mlwgs.com
SUMMARY:Dance Team Practice (Black Box)
DESCRIPTION:
URL:https://mlwgs.com/event/dance-team-practice-black-box/2025-01-09/
LOCATION:MLWGS Black Box
ATTACH;FMTTYPE=image/png:https://mlwgs.com/wp-content/uploads/2024/09/cropped-mw-logo-green.png
ORGANIZER;CN="Ms. Kimberly Forquer":MAILTO:kforquer@gsgis.k12.va.us
END:VEVENT
BEGIN:VEVENT
DTSTART;TZID=America/New_York:20250109T153000
DTEND;TZID=America/New_York:20250109T170000
DTSTAMP:20260420T130145
CREATED:20240822T145332Z
LAST-MODIFIED:20240822T145332Z
UID:10002898-1736436600-1736442000@mlwgs.com
SUMMARY:Testing Lab (Rm 201)
DESCRIPTION:The Testing Lab is available for all teachers to use\, so multiple assessments may be administered simultaneously. To manage this\, we space out students taking the same test\, ask students using computers to sit with their screens facing us\, and enforce the following rules: no food or drinks\, no personal items (including cell phones or earbuds)\, no talking\, and no bathroom breaks once testing has started. \nPlease note that students don’t need to arrive exactly at 3:30—they can come anytime within the Testing Lab window\, as long as they finish by 5:00 PM.
URL:https://mlwgs.com/event/testing-lab-rm-201-3/2025-01-09/
LOCATION:MLWGS Room 201
CATEGORIES:Building Activity for MLWGS
ATTACH;FMTTYPE=image/jpeg:https://mlwgs.com/wp-content/uploads/2024/07/logo_color-1.jpg
END:VEVENT
BEGIN:VEVENT
DTSTART;TZID=America/New_York:20250109T153000
DTEND;TZID=America/New_York:20250109T180000
DTSTAMP:20260420T130145
CREATED:20241202T155726Z
LAST-MODIFIED:20241202T161201Z
UID:10003533-1736436600-1736445600@mlwgs.com
SUMMARY:Drama Rehearsal (Auditorium)
DESCRIPTION:
URL:https://mlwgs.com/event/drama-rehearsal-auditorium-4/2025-01-09/
LOCATION:MLWGS Auditorium
CATEGORIES:Drama Activity
ATTACH;FMTTYPE=image/jpeg:https://mlwgs.com/wp-content/uploads/2024/07/mag-default-image.jpg
ORGANIZER;CN="Ms. Devon Mattys":MAILTO:dmattys@gsgis.k12.va.us
END:VEVENT
END:VCALENDAR