BEGIN:VCALENDAR
VERSION:2.0
PRODID:-//Maggie L. Walker Governor&#039;s School - ECPv6.15.17.1//NONSGML v1.0//EN
CALSCALE:GREGORIAN
METHOD:PUBLISH
X-WR-CALNAME:Maggie L. Walker Governor&#039;s School
X-ORIGINAL-URL:https://mlwgs.com
X-WR-CALDESC:Events for Maggie L. Walker Governor&#039;s School
REFRESH-INTERVAL;VALUE=DURATION:PT1H
X-Robots-Tag:noindex
X-PUBLISHED-TTL:PT1H
BEGIN:VTIMEZONE
TZID:America/New_York
BEGIN:DAYLIGHT
TZOFFSETFROM:-0500
TZOFFSETTO:-0400
TZNAME:EDT
DTSTART:20240310T070000
END:DAYLIGHT
BEGIN:STANDARD
TZOFFSETFROM:-0400
TZOFFSETTO:-0500
TZNAME:EST
DTSTART:20241103T060000
END:STANDARD
BEGIN:DAYLIGHT
TZOFFSETFROM:-0500
TZOFFSETTO:-0400
TZNAME:EDT
DTSTART:20250309T070000
END:DAYLIGHT
BEGIN:STANDARD
TZOFFSETFROM:-0400
TZOFFSETTO:-0500
TZNAME:EST
DTSTART:20251102T060000
END:STANDARD
BEGIN:DAYLIGHT
TZOFFSETFROM:-0500
TZOFFSETTO:-0400
TZNAME:EDT
DTSTART:20260308T070000
END:DAYLIGHT
BEGIN:STANDARD
TZOFFSETFROM:-0400
TZOFFSETTO:-0500
TZNAME:EST
DTSTART:20261101T060000
END:STANDARD
END:VTIMEZONE
BEGIN:VEVENT
DTSTART;TZID=America/New_York:20250122T000000
DTEND;TZID=America/New_York:20250122T235959
DTSTAMP:20260420T181122
CREATED:20250122T133943Z
LAST-MODIFIED:20250122T133943Z
UID:10004072-1737504000-1737590399@mlwgs.com
SUMMARY:Closed Due to Inclement Weather
DESCRIPTION:
URL:https://mlwgs.com/event/closed-due-to-inclement-weather-2/
CATEGORIES:Emergency Closing
ATTACH;FMTTYPE=image/jpeg:https://mlwgs.com/wp-content/uploads/2024/07/mag-default-image.jpg
END:VEVENT
BEGIN:VEVENT
DTSTART;TZID=America/New_York:20250122T113000
DTEND;TZID=America/New_York:20250122T121500
DTSTAMP:20260420T181122
CREATED:20240927T161828Z
LAST-MODIFIED:20240927T162006Z
UID:10003330-1737545400-1737548100@mlwgs.com
SUMMARY:Peer Mentors Club Meeting (Rm 153)
DESCRIPTION:
URL:https://mlwgs.com/event/peer-mentors-club-meeting/2025-01-22/
LOCATION:MLWGS Room 153
CATEGORIES:Club Activity
ATTACH;FMTTYPE=image/jpeg:https://mlwgs.com/wp-content/uploads/2024/07/mag-default-image.jpg
ORGANIZER;CN="Ms. Joy Cobb":MAILTO:jcobb@gsgis.k12.va.us
END:VEVENT
BEGIN:VEVENT
DTSTART;TZID=America/New_York:20250122T113000
DTEND;TZID=America/New_York:20250122T121500
DTSTAMP:20260420T181122
CREATED:20250117T150934Z
LAST-MODIFIED:20250117T151325Z
UID:10004016-1737545400-1737548100@mlwgs.com
SUMMARY:We Play Too 3on3 Basketball Tournament (Gymnasium)
DESCRIPTION:Michael White
URL:https://mlwgs.com/event/we-play-too-3on3-basketball-tournament-gymnasium/2025-01-22/
LOCATION:MLWGS Gymnasium
CATEGORIES:Club Activity
ATTACH;FMTTYPE=image/jpeg:https://mlwgs.com/wp-content/uploads/2024/07/mag-default-image.jpg
ORGANIZER;CN="Mr. Michael White":MAILTO:mwhite@gsgis.k12.va.us
END:VEVENT
BEGIN:VEVENT
DTSTART;TZID=America/New_York:20250122T113000
DTEND;TZID=America/New_York:20250122T122000
DTSTAMP:20260420T181122
CREATED:20241205T183226Z
LAST-MODIFIED:20250114T170355Z
UID:10003766-1737545400-1737548400@mlwgs.com
SUMMARY:One Small Step Workshop #2 (Forum)
DESCRIPTION:
URL:https://mlwgs.com/event/one-small-step-workshop-3-library/
LOCATION:MLWGS Forum
CATEGORIES:Assembly or Other Program
ATTACH;FMTTYPE=image/jpeg:https://mlwgs.com/wp-content/uploads/2024/07/mag-default-image.jpg
ORGANIZER;CN="Ms. Wendy DeGroat":MAILTO:wdegroat@gsgis.k12.va.us
END:VEVENT
BEGIN:VEVENT
DTSTART;TZID=America/New_York:20250122T120000
DTEND;TZID=America/New_York:20250122T170000
DTSTAMP:20260420T181122
CREATED:20250110T163143Z
LAST-MODIFIED:20250122T201345Z
UID:10003940-1737547200-1737565200@mlwgs.com
SUMMARY:Digital Report Cards Available in PS
DESCRIPTION:
URL:https://mlwgs.com/event/digital-report-cards-available-in-ps/
CATEGORIES:Report Cards or Interim Reports
ATTACH;FMTTYPE=image/jpeg:https://mlwgs.com/wp-content/uploads/2024/07/mag-default-image.jpg
END:VEVENT
BEGIN:VEVENT
DTSTART;TZID=America/New_York:20250122T153000
DTEND;TZID=America/New_York:20250122T170000
DTSTAMP:20260420T181122
CREATED:20240822T144951Z
LAST-MODIFIED:20240822T145445Z
UID:10002866-1737559800-1737565200@mlwgs.com
SUMMARY:Testing Lab (Rm 201)
DESCRIPTION:The Testing Lab is available for all teachers to use\, so multiple assessments may be administered simultaneously. To manage this\, we space out students taking the same test\, ask students using computers to sit with their screens facing us\, and enforce the following rules: no food or drinks\, no personal items (including cell phones or earbuds)\, no talking\, and no bathroom breaks once testing has started. \nPlease note that students don’t need to arrive exactly at 3:30—they can come anytime within the Testing Lab window\, as long as they finish by 5:00 PM.
URL:https://mlwgs.com/event/testing-lab-rm-201-2/2025-01-22/
LOCATION:MLWGS Room 201
CATEGORIES:Building Activity for MLWGS
ATTACH;FMTTYPE=image/jpeg:https://mlwgs.com/wp-content/uploads/2024/07/logo_color-1.jpg
END:VEVENT
BEGIN:VEVENT
DTSTART;TZID=America/New_York:20250122T153000
DTEND;TZID=America/New_York:20250122T173000
DTSTAMP:20260420T181123
CREATED:20241107T142431Z
LAST-MODIFIED:20241107T142800Z
UID:10003415-1737559800-1737567000@mlwgs.com
SUMMARY:Newtowne Tutoring (Rm-104)
DESCRIPTION:Ms. Hana Voight
URL:https://mlwgs.com/event/newtowne-tutoring-rm-104/2025-01-22/
CATEGORIES:Club Activity
ATTACH;FMTTYPE=image/jpeg:https://mlwgs.com/wp-content/uploads/2024/07/mag-default-image.jpg
END:VEVENT
BEGIN:VEVENT
DTSTART;TZID=America/New_York:20250122T153000
DTEND;TZID=America/New_York:20250122T180000
DTSTAMP:20260420T181123
CREATED:20241202T155726Z
LAST-MODIFIED:20241202T161201Z
UID:10003540-1737559800-1737568800@mlwgs.com
SUMMARY:Drama Rehearsal (Auditorium)
DESCRIPTION:
URL:https://mlwgs.com/event/drama-rehearsal-auditorium-4/2025-01-22/
LOCATION:MLWGS Auditorium
CATEGORIES:Drama Activity
ATTACH;FMTTYPE=image/jpeg:https://mlwgs.com/wp-content/uploads/2024/07/mag-default-image.jpg
ORGANIZER;CN="Ms. Devon Mattys":MAILTO:dmattys@gsgis.k12.va.us
END:VEVENT
BEGIN:VEVENT
DTSTART;TZID=America/New_York:20250122T163000
DTEND;TZID=America/New_York:20250122T190000
DTSTAMP:20260420T181123
CREATED:20241211T150504Z
LAST-MODIFIED:20241211T150504Z
UID:10003777-1737563400-1737572400@mlwgs.com
SUMMARY:NBCT Mtg (Rm 153)
DESCRIPTION:
URL:https://mlwgs.com/event/nbct-mtg-rm-153/
LOCATION:MLWGS Room 153
CATEGORIES:Building Activity for MLWGS
ATTACH;FMTTYPE=image/jpeg:https://mlwgs.com/wp-content/uploads/2024/07/mag-default-image.jpg
ORGANIZER;CN="Dr. Lisa Williams":MAILTO:lisa.williams@gsgis.k12.va.us
END:VEVENT
END:VCALENDAR