BEGIN:VCALENDAR
VERSION:2.0
PRODID:-//Maggie L. Walker Governor&#039;s School - ECPv6.15.17.1//NONSGML v1.0//EN
CALSCALE:GREGORIAN
METHOD:PUBLISH
X-WR-CALNAME:Maggie L. Walker Governor&#039;s School
X-ORIGINAL-URL:https://mlwgs.com
X-WR-CALDESC:Events for Maggie L. Walker Governor&#039;s School
REFRESH-INTERVAL;VALUE=DURATION:PT1H
X-Robots-Tag:noindex
X-PUBLISHED-TTL:PT1H
BEGIN:VTIMEZONE
TZID:America/New_York
BEGIN:DAYLIGHT
TZOFFSETFROM:-0500
TZOFFSETTO:-0400
TZNAME:EDT
DTSTART:20240310T070000
END:DAYLIGHT
BEGIN:STANDARD
TZOFFSETFROM:-0400
TZOFFSETTO:-0500
TZNAME:EST
DTSTART:20241103T060000
END:STANDARD
BEGIN:DAYLIGHT
TZOFFSETFROM:-0500
TZOFFSETTO:-0400
TZNAME:EDT
DTSTART:20250309T070000
END:DAYLIGHT
BEGIN:STANDARD
TZOFFSETFROM:-0400
TZOFFSETTO:-0500
TZNAME:EST
DTSTART:20251102T060000
END:STANDARD
BEGIN:DAYLIGHT
TZOFFSETFROM:-0500
TZOFFSETTO:-0400
TZNAME:EDT
DTSTART:20260308T070000
END:DAYLIGHT
BEGIN:STANDARD
TZOFFSETFROM:-0400
TZOFFSETTO:-0500
TZNAME:EST
DTSTART:20261101T060000
END:STANDARD
END:VTIMEZONE
BEGIN:VEVENT
DTSTART;TZID=America/New_York:20250224T084000
DTEND;TZID=America/New_York:20250224T152000
DTSTAMP:20260420T063542
CREATED:20250203T162826Z
LAST-MODIFIED:20250411T094656Z
UID:10004184-1740386400-1740410400@mlwgs.com
SUMMARY:Schedule A- Odd Blocks (2024-2025)
DESCRIPTION:Warning  Bell 8:35 A.M. \nPeriod 1           8:40-10:08 A.M.         88 min. Moment of Silence/Announcements \nPeriod 3           10:13-11:35 A.M.       82 min. \nActivity/Tutoring/Lunch\n11:35-12:15 P.M.                               40 min. \nPeriod 5           12:20-1:42 P.M.          82 min. \nPeriod 7             1:47-3:10 P.M.          83 min. \nBuses Depart 3:20 P.M.
URL:https://mlwgs.com/event/schedule-a-odd-blocks-2024-2025-2-2-2/2025-02-24/
LOCATION:MLWGS\, 1000 N. Lombardy St.\, Richmond\, 23113\, United States
CATEGORIES:Academics
ATTACH;FMTTYPE=image/jpeg:https://mlwgs.com/wp-content/uploads/2024/07/logo_color-1.jpg
END:VEVENT
BEGIN:VEVENT
DTSTART;TZID=America/New_York:20250224T113000
DTEND;TZID=America/New_York:20250224T120000
DTSTAMP:20260420T063542
CREATED:20250221T131647Z
LAST-MODIFIED:20250221T131647Z
UID:10004280-1740396600-1740398400@mlwgs.com
SUMMARY:MENA Seminar Lee's Lunches
DESCRIPTION:
URL:https://mlwgs.com/event/mena-seminar-lees-lunches-2/
CATEGORIES:Building Activity for MLWGS
ATTACH;FMTTYPE=image/jpeg:https://mlwgs.com/wp-content/uploads/2024/07/mag-default-image.jpg
ORGANIZER;CN="Ms. Robinette Cross":MAILTO:rcross@gsgis.k12.va.is
END:VEVENT
BEGIN:VEVENT
DTSTART;TZID=America/New_York:20250224T113500
DTEND;TZID=America/New_York:20250224T122000
DTSTAMP:20260420T063542
CREATED:20250212T172504Z
LAST-MODIFIED:20250212T172504Z
UID:10004248-1740396900-1740399600@mlwgs.com
SUMMARY:GSMUN Charity Guest Speaker (Forum)
DESCRIPTION:
URL:https://mlwgs.com/event/gsmun-charity-guest-speaker-forum/
LOCATION:MLWGS Forum
CATEGORIES:Club Activity
ATTACH;FMTTYPE=image/jpeg:https://mlwgs.com/wp-content/uploads/2024/07/mag-default-image.jpg
ORGANIZER;CN="Mr. Kyle Rogers":MAILTO:krogers@gsgis.k12.va.us
END:VEVENT
BEGIN:VEVENT
DTSTART;TZID=America/New_York:20250224T140000
DTEND;TZID=America/New_York:20250224T143000
DTSTAMP:20260420T063542
CREATED:20250219T213133Z
LAST-MODIFIED:20250219T213133Z
UID:10004266-1740405600-1740407400@mlwgs.com
SUMMARY:Hold for Pre-Event Mtg (Rm 221)
DESCRIPTION:Youth Art Show
URL:https://mlwgs.com/event/hold-for-pre-event-mtg-rm-221-5/
LOCATION:MLWGS Room 221
CATEGORIES:Building Activity for MLWGS
ATTACH;FMTTYPE=image/jpeg:https://mlwgs.com/wp-content/uploads/2024/07/mag-default-image.jpg
END:VEVENT
BEGIN:VEVENT
DTSTART;TZID=America/New_York:20250224T153000
DTEND;TZID=America/New_York:20250224T170000
DTSTAMP:20260420T063542
CREATED:20240822T144706Z
LAST-MODIFIED:20241029T183442Z
UID:10002836-1740411000-1740416400@mlwgs.com
SUMMARY:Testing Lab (Rm 201)
DESCRIPTION:The Testing Lab is available for all teachers to use\, so multiple assessments may be administered simultaneously. To manage this\, we space out students taking the same test\, ask students using computers to sit with their screens facing us\, and enforce the following rules: no food or drinks\, no personal items (including cell phones or earbuds)\, no talking\, and no bathroom breaks once testing has started. \nPlease note that students don’t need to arrive exactly at 3:30—they can come anytime within the Testing Lab window\, as long as they finish by 5:00 PM.
URL:https://mlwgs.com/event/testing-lab-rm-201/2025-02-24/
LOCATION:MLWGS Room 201
CATEGORIES:Building Activity for MLWGS
ATTACH;FMTTYPE=image/jpeg:https://mlwgs.com/wp-content/uploads/2024/07/logo_color-1.jpg
END:VEVENT
BEGIN:VEVENT
DTSTART;TZID=America/New_York:20250224T153000
DTEND;TZID=America/New_York:20250224T210000
DTSTAMP:20260420T063542
CREATED:20241202T163025Z
LAST-MODIFIED:20241202T163025Z
UID:10003557-1740411000-1740430800@mlwgs.com
SUMMARY:Drama Tech Rehearsal (Auditorium + Black Box + Cafeteria 4-5 pm)
DESCRIPTION:
URL:https://mlwgs.com/event/drama-tech-rehearsal-auditorium-black-box-cafeteria-4-5-pm/2025-02-24/
LOCATION:MLWGS Auditorium
CATEGORIES:Drama Activity
ATTACH;FMTTYPE=image/jpeg:https://mlwgs.com/wp-content/uploads/2024/07/mag-default-image.jpg
ORGANIZER;CN="Ms. Devon Mattys":MAILTO:dmattys@gsgis.k12.va.us
END:VEVENT
BEGIN:VEVENT
DTSTART;TZID=America/New_York:20250224T163000
DTEND;TZID=America/New_York:20250224T190000
DTSTAMP:20260420T063542
CREATED:20241204T142806Z
LAST-MODIFIED:20250116T193339Z
UID:10003685-1740414600-1740423600@mlwgs.com
SUMMARY:Mech Tech Dragons Meeting (Commons & Rms 109\, 111 & 112)
DESCRIPTION:
URL:https://mlwgs.com/event/mech-tech-dragons-meeting-commons-rms-109-111-112/2025-02-24/
CATEGORIES:Club Activity
ATTACH;FMTTYPE=image/jpeg:https://mlwgs.com/wp-content/uploads/2024/07/mag-default-image.jpg
ORGANIZER;CN="Mr. Mark Sailer":MAILTO:msailer@gsgis.k12.va.us
END:VEVENT
END:VCALENDAR