BEGIN:VCALENDAR
VERSION:2.0
PRODID:-//Maggie L. Walker Governor&#039;s School - ECPv6.15.17.1//NONSGML v1.0//EN
CALSCALE:GREGORIAN
METHOD:PUBLISH
X-WR-CALNAME:Maggie L. Walker Governor&#039;s School
X-ORIGINAL-URL:https://mlwgs.com
X-WR-CALDESC:Events for Maggie L. Walker Governor&#039;s School
REFRESH-INTERVAL;VALUE=DURATION:PT1H
X-Robots-Tag:noindex
X-PUBLISHED-TTL:PT1H
BEGIN:VTIMEZONE
TZID:America/New_York
BEGIN:DAYLIGHT
TZOFFSETFROM:-0500
TZOFFSETTO:-0400
TZNAME:EDT
DTSTART:20240310T070000
END:DAYLIGHT
BEGIN:STANDARD
TZOFFSETFROM:-0400
TZOFFSETTO:-0500
TZNAME:EST
DTSTART:20241103T060000
END:STANDARD
BEGIN:DAYLIGHT
TZOFFSETFROM:-0500
TZOFFSETTO:-0400
TZNAME:EDT
DTSTART:20250309T070000
END:DAYLIGHT
BEGIN:STANDARD
TZOFFSETFROM:-0400
TZOFFSETTO:-0500
TZNAME:EST
DTSTART:20251102T060000
END:STANDARD
BEGIN:DAYLIGHT
TZOFFSETFROM:-0500
TZOFFSETTO:-0400
TZNAME:EDT
DTSTART:20260308T070000
END:DAYLIGHT
BEGIN:STANDARD
TZOFFSETFROM:-0400
TZOFFSETTO:-0500
TZNAME:EST
DTSTART:20261101T060000
END:STANDARD
END:VTIMEZONE
BEGIN:VEVENT
DTSTART;TZID=America/New_York:20250326T000000
DTEND;TZID=America/New_York:20250404T235959
DTSTAMP:20260420T015231
CREATED:20241017T161739Z
LAST-MODIFIED:20250116T181010Z
UID:10003375-1742947200-1743811199@mlwgs.com
SUMMARY:MENA International Trip to Morocco
DESCRIPTION:Sponsor: Robinette Cross
URL:https://mlwgs.com/event/mena-international-trip-to-morocco/
CATEGORIES:International Travel
ATTACH;FMTTYPE=image/jpeg:https://mlwgs.com/wp-content/uploads/2024/07/mag-default-image.jpg
ORGANIZER;CN="Ms. Robinette Cross":MAILTO:rcross@gsgis.k12.va.is
END:VEVENT
BEGIN:VEVENT
DTSTART;TZID=America/New_York:20250326T080000
DTEND;TZID=America/New_York:20250326T153000
DTSTAMP:20260420T015231
CREATED:20240730T161302Z
LAST-MODIFIED:20240730T161302Z
UID:10002246-1742976000-1743003000@mlwgs.com
SUMMARY:Spirit Week
DESCRIPTION:
URL:https://mlwgs.com/event/spirit-week-2/2025-03-26/
CATEGORIES:SCA Activity
ATTACH;FMTTYPE=image/jpeg:https://mlwgs.com/wp-content/uploads/2024/07/logo_color-1.jpg
END:VEVENT
BEGIN:VEVENT
DTSTART;TZID=America/New_York:20250326T084000
DTEND;TZID=America/New_York:20250326T152000
DTSTAMP:20260420T015231
CREATED:20250203T162826Z
LAST-MODIFIED:20250411T094656Z
UID:10004192-1742978400-1743002400@mlwgs.com
SUMMARY:Schedule A- Odd Blocks (2024-2025)
DESCRIPTION:Warning  Bell 8:35 A.M. \nPeriod 1           8:40-10:08 A.M.         88 min. Moment of Silence/Announcements \nPeriod 3           10:13-11:35 A.M.       82 min. \nActivity/Tutoring/Lunch\n11:35-12:15 P.M.                               40 min. \nPeriod 5           12:20-1:42 P.M.          82 min. \nPeriod 7             1:47-3:10 P.M.          83 min. \nBuses Depart 3:20 P.M.
URL:https://mlwgs.com/event/schedule-a-odd-blocks-2024-2025-2-2-2/2025-03-26/
LOCATION:MLWGS\, 1000 N. Lombardy St.\, Richmond\, 23113\, United States
CATEGORIES:Academics
ATTACH;FMTTYPE=image/jpeg:https://mlwgs.com/wp-content/uploads/2024/07/logo_color-1.jpg
END:VEVENT
BEGIN:VEVENT
DTSTART;TZID=America/New_York:20250326T113000
DTEND;TZID=America/New_York:20250326T121500
DTSTAMP:20260420T015231
CREATED:20240927T161828Z
LAST-MODIFIED:20240927T162006Z
UID:10003334-1742988600-1742991300@mlwgs.com
SUMMARY:Peer Mentors Club Meeting (Rm 153)
DESCRIPTION:
URL:https://mlwgs.com/event/peer-mentors-club-meeting/2025-03-26/
LOCATION:MLWGS Room 153
CATEGORIES:Club Activity
ATTACH;FMTTYPE=image/jpeg:https://mlwgs.com/wp-content/uploads/2024/07/mag-default-image.jpg
ORGANIZER;CN="Ms. Joy Cobb":MAILTO:jcobb@gsgis.k12.va.us
END:VEVENT
BEGIN:VEVENT
DTSTART;TZID=America/New_York:20250326T113500
DTEND;TZID=America/New_York:20250326T121500
DTSTAMP:20260420T015231
CREATED:20250311T135725Z
LAST-MODIFIED:20250311T135921Z
UID:10004343-1742988900-1742991300@mlwgs.com
SUMMARY:Bhangra Club Pep Rally Practice (Gym)
DESCRIPTION:
URL:https://mlwgs.com/event/pep-rally-practice-gym/2025-03-26/
LOCATION:MLWGS Gymnasium
CATEGORIES:Club Activity
ATTACH;FMTTYPE=image/jpeg:https://mlwgs.com/wp-content/uploads/2024/07/mag-default-image.jpg
ORGANIZER;CN="Ms. Aparna Harger":MAILTO:aharger@gsgis.k12.va.us
END:VEVENT
BEGIN:VEVENT
DTSTART;TZID=America/New_York:20250326T153000
DTEND;TZID=America/New_York:20250326T170000
DTSTAMP:20260420T015231
CREATED:20240822T144951Z
LAST-MODIFIED:20240822T145445Z
UID:10002875-1743003000-1743008400@mlwgs.com
SUMMARY:Testing Lab (Rm 201)
DESCRIPTION:The Testing Lab is available for all teachers to use\, so multiple assessments may be administered simultaneously. To manage this\, we space out students taking the same test\, ask students using computers to sit with their screens facing us\, and enforce the following rules: no food or drinks\, no personal items (including cell phones or earbuds)\, no talking\, and no bathroom breaks once testing has started. \nPlease note that students don’t need to arrive exactly at 3:30—they can come anytime within the Testing Lab window\, as long as they finish by 5:00 PM.
URL:https://mlwgs.com/event/testing-lab-rm-201-2/2025-03-26/
LOCATION:MLWGS Room 201
CATEGORIES:Building Activity for MLWGS
ATTACH;FMTTYPE=image/jpeg:https://mlwgs.com/wp-content/uploads/2024/07/logo_color-1.jpg
END:VEVENT
BEGIN:VEVENT
DTSTART;TZID=America/New_York:20250326T153000
DTEND;TZID=America/New_York:20250326T173000
DTSTAMP:20260420T015231
CREATED:20241107T142431Z
LAST-MODIFIED:20241107T142800Z
UID:10003424-1743003000-1743010200@mlwgs.com
SUMMARY:Newtowne Tutoring (Rm-104)
DESCRIPTION:Ms. Hana Voight
URL:https://mlwgs.com/event/newtowne-tutoring-rm-104/2025-03-26/
CATEGORIES:Club Activity
ATTACH;FMTTYPE=image/jpeg:https://mlwgs.com/wp-content/uploads/2024/07/mag-default-image.jpg
END:VEVENT
BEGIN:VEVENT
DTSTART;TZID=America/New_York:20250326T180000
DTEND;TZID=America/New_York:20250326T200000
DTSTAMP:20260420T015231
CREATED:20240627T153718Z
LAST-MODIFIED:20240730T160819Z
UID:10000199-1743012000-1743019200@mlwgs.com
SUMMARY:New Student Registration
DESCRIPTION:
URL:https://mlwgs.com/event/new-student-registration/
LOCATION:MLWGS\, 1000 N. Lombardy St.\, Richmond\, 23113\, United States
CATEGORIES:Admissions or Middle School Visits
ATTACH;FMTTYPE=image/jpeg:https://mlwgs.com/wp-content/uploads/2024/07/logo_color-1.jpg
END:VEVENT
END:VCALENDAR