BEGIN:VCALENDAR
VERSION:2.0
PRODID:-//Maggie L. Walker Governor&#039;s School - ECPv6.15.17.1//NONSGML v1.0//EN
CALSCALE:GREGORIAN
METHOD:PUBLISH
X-WR-CALNAME:Maggie L. Walker Governor&#039;s School
X-ORIGINAL-URL:https://mlwgs.com
X-WR-CALDESC:Events for Maggie L. Walker Governor&#039;s School
REFRESH-INTERVAL;VALUE=DURATION:PT1H
X-Robots-Tag:noindex
X-PUBLISHED-TTL:PT1H
BEGIN:VTIMEZONE
TZID:America/New_York
BEGIN:DAYLIGHT
TZOFFSETFROM:-0500
TZOFFSETTO:-0400
TZNAME:EDT
DTSTART:20240310T070000
END:DAYLIGHT
BEGIN:STANDARD
TZOFFSETFROM:-0400
TZOFFSETTO:-0500
TZNAME:EST
DTSTART:20241103T060000
END:STANDARD
BEGIN:DAYLIGHT
TZOFFSETFROM:-0500
TZOFFSETTO:-0400
TZNAME:EDT
DTSTART:20250309T070000
END:DAYLIGHT
BEGIN:STANDARD
TZOFFSETFROM:-0400
TZOFFSETTO:-0500
TZNAME:EST
DTSTART:20251102T060000
END:STANDARD
BEGIN:DAYLIGHT
TZOFFSETFROM:-0500
TZOFFSETTO:-0400
TZNAME:EDT
DTSTART:20260308T070000
END:DAYLIGHT
BEGIN:STANDARD
TZOFFSETFROM:-0400
TZOFFSETTO:-0500
TZNAME:EST
DTSTART:20261101T060000
END:STANDARD
END:VTIMEZONE
BEGIN:VEVENT
DTSTART;TZID=America/New_York:20250407T080000
DTEND;TZID=America/New_York:20250417T170000
DTSTAMP:20260420T011641
CREATED:20250311T121309Z
LAST-MODIFIED:20250311T121818Z
UID:10004339-1744012800-1744909200@mlwgs.com
SUMMARY:Visiting German Exchange Students at MLWGS
DESCRIPTION:
URL:https://mlwgs.com/event/visiting-german-exchange-students-at-mlwgs/
CATEGORIES:Assembly or Other Program
ATTACH;FMTTYPE=image/jpeg:https://mlwgs.com/wp-content/uploads/2024/07/mag-default-image.jpg
ORGANIZER;CN="Ms. Kristen Macklin":MAILTO:kmacklin@gsgis.k12.va.us
END:VEVENT
BEGIN:VEVENT
DTSTART;TZID=America/New_York:20250409T000000
DTEND;TZID=America/New_York:20250411T235959
DTSTAMP:20260420T011641
CREATED:20250205T153105Z
LAST-MODIFIED:20250205T153105Z
UID:10004211-1744156800-1744415999@mlwgs.com
SUMMARY:We the People Nationals (Off Campus)
DESCRIPTION:
URL:https://mlwgs.com/event/we-the-people-nationals-off-campus/
CATEGORIES:Competition Event
ATTACH;FMTTYPE=image/jpeg:https://mlwgs.com/wp-content/uploads/2024/07/mag-default-image.jpg
ORGANIZER;CN="Mr. Sam Ulmschneider":MAILTO:sulmschneider@gsgis.k12.va.us
END:VEVENT
BEGIN:VEVENT
DTSTART;TZID=America/New_York:20250409T084000
DTEND;TZID=America/New_York:20250409T152000
DTSTAMP:20260420T011641
CREATED:20250203T162826Z
LAST-MODIFIED:20250411T094656Z
UID:10004194-1744188000-1744212000@mlwgs.com
SUMMARY:Schedule A- Odd Blocks (2024-2025)
DESCRIPTION:Warning  Bell 8:35 A.M. \nPeriod 1           8:40-10:08 A.M.         88 min. Moment of Silence/Announcements \nPeriod 3           10:13-11:35 A.M.       82 min. \nActivity/Tutoring/Lunch\n11:35-12:15 P.M.                               40 min. \nPeriod 5           12:20-1:42 P.M.          82 min. \nPeriod 7             1:47-3:10 P.M.          83 min. \nBuses Depart 3:20 P.M.
URL:https://mlwgs.com/event/schedule-a-odd-blocks-2024-2025-2-2-2/2025-04-09/
LOCATION:MLWGS\, 1000 N. Lombardy St.\, Richmond\, 23113\, United States
CATEGORIES:Academics
ATTACH;FMTTYPE=image/jpeg:https://mlwgs.com/wp-content/uploads/2024/07/logo_color-1.jpg
END:VEVENT
BEGIN:VEVENT
DTSTART;TZID=America/New_York:20250409T113000
DTEND;TZID=America/New_York:20250409T121500
DTSTAMP:20260420T011641
CREATED:20240927T161828Z
LAST-MODIFIED:20240927T162006Z
UID:10003335-1744198200-1744200900@mlwgs.com
SUMMARY:Peer Mentors Club Meeting (Rm 153)
DESCRIPTION:
URL:https://mlwgs.com/event/peer-mentors-club-meeting/2025-04-09/
LOCATION:MLWGS Room 153
CATEGORIES:Club Activity
ATTACH;FMTTYPE=image/jpeg:https://mlwgs.com/wp-content/uploads/2024/07/mag-default-image.jpg
ORGANIZER;CN="Ms. Joy Cobb":MAILTO:jcobb@gsgis.k12.va.us
END:VEVENT
BEGIN:VEVENT
DTSTART;TZID=America/New_York:20250409T123000
DTEND;TZID=America/New_York:20250409T130000
DTSTAMP:20260420T011641
CREATED:20250319T150940Z
LAST-MODIFIED:20250319T150940Z
UID:10004386-1744201800-1744203600@mlwgs.com
SUMMARY:Pre-Event Mtg (Rm 221)
DESCRIPTION:VCU Student Group
URL:https://mlwgs.com/event/pre-event-mtg-rm-221-15/
LOCATION:MLWGS Room 221
CATEGORIES:Building Activity for MLWGS
ATTACH;FMTTYPE=image/jpeg:https://mlwgs.com/wp-content/uploads/2024/07/mag-default-image.jpg
END:VEVENT
BEGIN:VEVENT
DTSTART;TZID=America/New_York:20250409T153000
DTEND;TZID=America/New_York:20250409T170000
DTSTAMP:20260420T011641
CREATED:20240812T165954Z
LAST-MODIFIED:20240909T163648Z
UID:10003196-1744212600-1744218000@mlwgs.com
SUMMARY:Transcribe-a-thon (Library)
DESCRIPTION:On Wednesday\, Oct. 2nd from 3:30 to 5pm\, the MW Library will host its first Transcribe-a-thon for this school year\, an opportunity to decode historic documents into searchable digital versions for the benefit of historians\, scholars\, genealogists\, and other researchers. Ms. Sonya Coleman from the Library of Virginia will be here to share exciting project updates. Enjoy free sweet treats and get Library of Virginia bling this annual kickoff event. Once you participate in-person\, you’ll have the option to continue earning community service hours (up to a max of 35 hours) by transcribing historic documents online from anywhere (as long as you provide the required documentation). Interested? Sign in to your GSGIS Google account & then sign up for this year’s team! \n 
URL:https://mlwgs.com/event/transcribe-a-thon-library/2025-04-09/
LOCATION:MLWGS Library
CATEGORIES:Building Activity for MLWGS
ATTACH;FMTTYPE=image/jpeg:https://mlwgs.com/wp-content/uploads/2024/07/logo_color-1.jpg
ORGANIZER;CN="Ms. Wendy DeGroat":MAILTO:wdegroat@gsgis.k12.va.us
END:VEVENT
BEGIN:VEVENT
DTSTART;TZID=America/New_York:20250409T153000
DTEND;TZID=America/New_York:20250409T170000
DTSTAMP:20260420T011641
CREATED:20240822T144951Z
LAST-MODIFIED:20240822T145445Z
UID:10002876-1744212600-1744218000@mlwgs.com
SUMMARY:Testing Lab (Rm 201)
DESCRIPTION:The Testing Lab is available for all teachers to use\, so multiple assessments may be administered simultaneously. To manage this\, we space out students taking the same test\, ask students using computers to sit with their screens facing us\, and enforce the following rules: no food or drinks\, no personal items (including cell phones or earbuds)\, no talking\, and no bathroom breaks once testing has started. \nPlease note that students don’t need to arrive exactly at 3:30—they can come anytime within the Testing Lab window\, as long as they finish by 5:00 PM.
URL:https://mlwgs.com/event/testing-lab-rm-201-2/2025-04-09/
LOCATION:MLWGS Room 201
CATEGORIES:Building Activity for MLWGS
ATTACH;FMTTYPE=image/jpeg:https://mlwgs.com/wp-content/uploads/2024/07/logo_color-1.jpg
END:VEVENT
BEGIN:VEVENT
DTSTART;TZID=America/New_York:20250409T153000
DTEND;TZID=America/New_York:20250409T173000
DTSTAMP:20260420T011641
CREATED:20241107T142431Z
LAST-MODIFIED:20241107T142800Z
UID:10003425-1744212600-1744219800@mlwgs.com
SUMMARY:Newtowne Tutoring (Rm-104)
DESCRIPTION:Ms. Hana Voight
URL:https://mlwgs.com/event/newtowne-tutoring-rm-104/2025-04-09/
CATEGORIES:Club Activity
ATTACH;FMTTYPE=image/jpeg:https://mlwgs.com/wp-content/uploads/2024/07/mag-default-image.jpg
END:VEVENT
BEGIN:VEVENT
DTSTART;TZID=America/New_York:20250409T153000
DTEND;TZID=America/New_York:20250409T173000
DTSTAMP:20260420T011641
CREATED:20250225T163652Z
LAST-MODIFIED:20250319T172635Z
UID:10004291-1744212600-1744219800@mlwgs.com
SUMMARY:AP US Review Session 2 (Forum)
DESCRIPTION:Mr. Clark
URL:https://mlwgs.com/event/ap-us-review-session-2-forum/
LOCATION:MLWGS Forum
CATEGORIES:Building Activity for MLWGS
ATTACH;FMTTYPE=image/jpeg:https://mlwgs.com/wp-content/uploads/2024/07/mag-default-image.jpg
ORGANIZER;CN="Mr. John Clark":MAILTO:jjclark@gsgis.k12.va.us
END:VEVENT
END:VCALENDAR