BEGIN:VCALENDAR
VERSION:2.0
PRODID:-//Maggie L. Walker Governor&#039;s School - ECPv6.15.17.1//NONSGML v1.0//EN
CALSCALE:GREGORIAN
METHOD:PUBLISH
X-WR-CALNAME:Maggie L. Walker Governor&#039;s School
X-ORIGINAL-URL:https://mlwgs.com
X-WR-CALDESC:Events for Maggie L. Walker Governor&#039;s School
REFRESH-INTERVAL;VALUE=DURATION:PT1H
X-Robots-Tag:noindex
X-PUBLISHED-TTL:PT1H
BEGIN:VTIMEZONE
TZID:America/New_York
BEGIN:DAYLIGHT
TZOFFSETFROM:-0500
TZOFFSETTO:-0400
TZNAME:EDT
DTSTART:20240310T070000
END:DAYLIGHT
BEGIN:STANDARD
TZOFFSETFROM:-0400
TZOFFSETTO:-0500
TZNAME:EST
DTSTART:20241103T060000
END:STANDARD
BEGIN:DAYLIGHT
TZOFFSETFROM:-0500
TZOFFSETTO:-0400
TZNAME:EDT
DTSTART:20250309T070000
END:DAYLIGHT
BEGIN:STANDARD
TZOFFSETFROM:-0400
TZOFFSETTO:-0500
TZNAME:EST
DTSTART:20251102T060000
END:STANDARD
BEGIN:DAYLIGHT
TZOFFSETFROM:-0500
TZOFFSETTO:-0400
TZNAME:EDT
DTSTART:20260308T070000
END:DAYLIGHT
BEGIN:STANDARD
TZOFFSETFROM:-0400
TZOFFSETTO:-0500
TZNAME:EST
DTSTART:20261101T060000
END:STANDARD
END:VTIMEZONE
BEGIN:VEVENT
DTSTART;TZID=America/New_York:20250428T080000
DTEND;TZID=America/New_York:20250428T200000
DTSTAMP:20260424T051829
CREATED:20250128T135219Z
LAST-MODIFIED:20250128T135219Z
UID:10004100-1745827200-1745870400@mlwgs.com
SUMMARY:Music Classes (Auditorium)
DESCRIPTION:
URL:https://mlwgs.com/event/music-classes-auditorium-2/2025-04-28/
LOCATION:MLWGS Auditorium
CATEGORIES:Building Activity for MLWGS
ATTACH;FMTTYPE=image/jpeg:https://mlwgs.com/wp-content/uploads/2024/07/mag-default-image.jpg
ORGANIZER;CN="Mr. Nicholas Merillat":MAILTO:nmerillat@gsgis.k12.va.us
END:VEVENT
BEGIN:VEVENT
DTSTART;TZID=America/New_York:20250428T084000
DTEND;TZID=America/New_York:20250428T151500
DTSTAMP:20260424T051829
CREATED:20250410T203101Z
LAST-MODIFIED:20250411T131048Z
UID:10004440-1745829600-1745853300@mlwgs.com
SUMMARY:SOL's
DESCRIPTION:
URL:https://mlwgs.com/event/sols-2/2025-04-28/
CATEGORIES:Academics
ATTACH;FMTTYPE=image/jpeg:https://mlwgs.com/wp-content/uploads/2024/07/mag-default-image.jpg
END:VEVENT
BEGIN:VEVENT
DTSTART;TZID=America/New_York:20250428T084000
DTEND;TZID=America/New_York:20250428T152000
DTSTAMP:20260424T051829
CREATED:20250203T162826Z
LAST-MODIFIED:20250411T094656Z
UID:10004199-1745829600-1745853600@mlwgs.com
SUMMARY:Schedule A- Odd Blocks (2024-2025)
DESCRIPTION:Warning  Bell 8:35 A.M. \nPeriod 1           8:40-10:08 A.M.         88 min. Moment of Silence/Announcements \nPeriod 3           10:13-11:35 A.M.       82 min. \nActivity/Tutoring/Lunch\n11:35-12:15 P.M.                               40 min. \nPeriod 5           12:20-1:42 P.M.          82 min. \nPeriod 7             1:47-3:10 P.M.          83 min. \nBuses Depart 3:20 P.M.
URL:https://mlwgs.com/event/schedule-a-odd-blocks-2024-2025-2-2-2/2025-04-28/
LOCATION:MLWGS\, 1000 N. Lombardy St.\, Richmond\, 23113\, United States
CATEGORIES:Academics
ATTACH;FMTTYPE=image/jpeg:https://mlwgs.com/wp-content/uploads/2024/07/logo_color-1.jpg
END:VEVENT
BEGIN:VEVENT
DTSTART;TZID=America/New_York:20250428T110000
DTEND;TZID=America/New_York:20250428T113000
DTSTAMP:20260424T051829
CREATED:20250424T151144Z
LAST-MODIFIED:20250424T151144Z
UID:10004463-1745838000-1745839800@mlwgs.com
SUMMARY:Pre-Event Mtg (Rm 221)
DESCRIPTION:For Assemblies
URL:https://mlwgs.com/event/pre-event-mtg-rm-221-19/
LOCATION:MLWGS Room 221
CATEGORIES:Building Activity for MLWGS
ATTACH;FMTTYPE=image/jpeg:https://mlwgs.com/wp-content/uploads/2024/07/mag-default-image.jpg
END:VEVENT
BEGIN:VEVENT
DTSTART;TZID=America/New_York:20250428T114000
DTEND;TZID=America/New_York:20250428T121500
DTSTAMP:20260424T051829
CREATED:20250417T152212Z
LAST-MODIFIED:20250417T152212Z
UID:10004453-1745840400-1745842500@mlwgs.com
SUMMARY:NHS Officer Elections (Forum)
DESCRIPTION:
URL:https://mlwgs.com/event/nhs-officer-elections-forum/
LOCATION:MLWGS Forum
CATEGORIES:Honor Society Activity
ATTACH;FMTTYPE=image/jpeg:https://mlwgs.com/wp-content/uploads/2024/07/mag-default-image.jpg
ORGANIZER;CN="Dr. Rachel Loving":MAILTO:rloving@gsgis.k12.va.us
END:VEVENT
BEGIN:VEVENT
DTSTART;TZID=America/New_York:20250428T153000
DTEND;TZID=America/New_York:20250428T170000
DTSTAMP:20260424T051829
CREATED:20240822T144706Z
LAST-MODIFIED:20241029T183442Z
UID:10002844-1745854200-1745859600@mlwgs.com
SUMMARY:Testing Lab (Rm 201)
DESCRIPTION:The Testing Lab is available for all teachers to use\, so multiple assessments may be administered simultaneously. To manage this\, we space out students taking the same test\, ask students using computers to sit with their screens facing us\, and enforce the following rules: no food or drinks\, no personal items (including cell phones or earbuds)\, no talking\, and no bathroom breaks once testing has started. \nPlease note that students don’t need to arrive exactly at 3:30—they can come anytime within the Testing Lab window\, as long as they finish by 5:00 PM.
URL:https://mlwgs.com/event/testing-lab-rm-201/2025-04-28/
LOCATION:MLWGS Room 201
CATEGORIES:Building Activity for MLWGS
ATTACH;FMTTYPE=image/jpeg:https://mlwgs.com/wp-content/uploads/2024/07/logo_color-1.jpg
END:VEVENT
BEGIN:VEVENT
DTSTART;TZID=America/New_York:20250428T163000
DTEND;TZID=America/New_York:20250428T190000
DTSTAMP:20260424T051829
CREATED:20241204T142806Z
LAST-MODIFIED:20250116T193339Z
UID:10003692-1745857800-1745866800@mlwgs.com
SUMMARY:Mech Tech Dragons Meeting (Commons & Rms 109\, 111 & 112)
DESCRIPTION:
URL:https://mlwgs.com/event/mech-tech-dragons-meeting-commons-rms-109-111-112/2025-04-28/
CATEGORIES:Club Activity
ATTACH;FMTTYPE=image/jpeg:https://mlwgs.com/wp-content/uploads/2024/07/mag-default-image.jpg
ORGANIZER;CN="Mr. Mark Sailer":MAILTO:msailer@gsgis.k12.va.us
END:VEVENT
END:VCALENDAR