BEGIN:VCALENDAR
VERSION:2.0
PRODID:-//Maggie L. Walker Governor&#039;s School - ECPv6.15.17.1//NONSGML v1.0//EN
CALSCALE:GREGORIAN
METHOD:PUBLISH
X-WR-CALNAME:Maggie L. Walker Governor&#039;s School
X-ORIGINAL-URL:https://mlwgs.com
X-WR-CALDESC:Events for Maggie L. Walker Governor&#039;s School
REFRESH-INTERVAL;VALUE=DURATION:PT1H
X-Robots-Tag:noindex
X-PUBLISHED-TTL:PT1H
BEGIN:VTIMEZONE
TZID:America/New_York
BEGIN:DAYLIGHT
TZOFFSETFROM:-0500
TZOFFSETTO:-0400
TZNAME:EDT
DTSTART:20240310T070000
END:DAYLIGHT
BEGIN:STANDARD
TZOFFSETFROM:-0400
TZOFFSETTO:-0500
TZNAME:EST
DTSTART:20241103T060000
END:STANDARD
BEGIN:DAYLIGHT
TZOFFSETFROM:-0500
TZOFFSETTO:-0400
TZNAME:EDT
DTSTART:20250309T070000
END:DAYLIGHT
BEGIN:STANDARD
TZOFFSETFROM:-0400
TZOFFSETTO:-0500
TZNAME:EST
DTSTART:20251102T060000
END:STANDARD
BEGIN:DAYLIGHT
TZOFFSETFROM:-0500
TZOFFSETTO:-0400
TZNAME:EDT
DTSTART:20260308T070000
END:DAYLIGHT
BEGIN:STANDARD
TZOFFSETFROM:-0400
TZOFFSETTO:-0500
TZNAME:EST
DTSTART:20261101T060000
END:STANDARD
END:VTIMEZONE
BEGIN:VEVENT
DTSTART;TZID=America/New_York:20250430T080000
DTEND;TZID=America/New_York:20250430T200000
DTSTAMP:20260424T051843
CREATED:20250128T135219Z
LAST-MODIFIED:20250128T135219Z
UID:10004102-1746000000-1746043200@mlwgs.com
SUMMARY:Music Classes (Auditorium)
DESCRIPTION:
URL:https://mlwgs.com/event/music-classes-auditorium-2/2025-04-30/
LOCATION:MLWGS Auditorium
CATEGORIES:Building Activity for MLWGS
ATTACH;FMTTYPE=image/jpeg:https://mlwgs.com/wp-content/uploads/2024/07/mag-default-image.jpg
ORGANIZER;CN="Mr. Nicholas Merillat":MAILTO:nmerillat@gsgis.k12.va.us
END:VEVENT
BEGIN:VEVENT
DTSTART;TZID=America/New_York:20250430T081000
DTEND;TZID=America/New_York:20250430T151500
DTSTAMP:20260424T051843
CREATED:20250410T203101Z
LAST-MODIFIED:20250411T131048Z
UID:10004442-1746000600-1746026100@mlwgs.com
SUMMARY:SOL's
DESCRIPTION:
URL:https://mlwgs.com/event/sols-2/2025-04-30/
CATEGORIES:Academics
ATTACH;FMTTYPE=image/jpeg:https://mlwgs.com/wp-content/uploads/2024/07/mag-default-image.jpg
END:VEVENT
BEGIN:VEVENT
DTSTART;TZID=America/New_York:20250430T084000
DTEND;TZID=America/New_York:20250430T152000
DTSTAMP:20260424T051843
CREATED:20250203T162826Z
LAST-MODIFIED:20250411T094656Z
UID:10004200-1746002400-1746026400@mlwgs.com
SUMMARY:Schedule A- Odd Blocks (2024-2025)
DESCRIPTION:Warning  Bell 8:35 A.M. \nPeriod 1           8:40-10:08 A.M.         88 min. Moment of Silence/Announcements \nPeriod 3           10:13-11:35 A.M.       82 min. \nActivity/Tutoring/Lunch\n11:35-12:15 P.M.                               40 min. \nPeriod 5           12:20-1:42 P.M.          82 min. \nPeriod 7             1:47-3:10 P.M.          83 min. \nBuses Depart 3:20 P.M.
URL:https://mlwgs.com/event/schedule-a-odd-blocks-2024-2025-2-2-2/2025-04-30/
LOCATION:MLWGS\, 1000 N. Lombardy St.\, Richmond\, 23113\, United States
CATEGORIES:Academics
ATTACH;FMTTYPE=image/jpeg:https://mlwgs.com/wp-content/uploads/2024/07/logo_color-1.jpg
END:VEVENT
BEGIN:VEVENT
DTSTART;TZID=America/New_York:20250430T103000
DTEND;TZID=America/New_York:20250430T110000
DTSTAMP:20260424T051843
CREATED:20250424T130942Z
LAST-MODIFIED:20250424T130942Z
UID:10004462-1746009000-1746010800@mlwgs.com
SUMMARY:Anna Julia Cooper MS Visit (Forum)
DESCRIPTION:
URL:https://mlwgs.com/event/anna-julia-cooper-ms-visit-forum/
LOCATION:MLWGS Forum
CATEGORIES:Building Activity for MLWGS
ATTACH;FMTTYPE=image/jpeg:https://mlwgs.com/wp-content/uploads/2024/07/mag-default-image.jpg
ORGANIZER;CN="Ms. Aparna Harger":MAILTO:aharger@gsgis.k12.va.us
END:VEVENT
BEGIN:VEVENT
DTSTART;TZID=America/New_York:20250430T153000
DTEND;TZID=America/New_York:20250430T170000
DTSTAMP:20260424T051843
CREATED:20240822T144951Z
LAST-MODIFIED:20240822T145445Z
UID:10002879-1746027000-1746032400@mlwgs.com
SUMMARY:Testing Lab (Rm 201)
DESCRIPTION:The Testing Lab is available for all teachers to use\, so multiple assessments may be administered simultaneously. To manage this\, we space out students taking the same test\, ask students using computers to sit with their screens facing us\, and enforce the following rules: no food or drinks\, no personal items (including cell phones or earbuds)\, no talking\, and no bathroom breaks once testing has started. \nPlease note that students don’t need to arrive exactly at 3:30—they can come anytime within the Testing Lab window\, as long as they finish by 5:00 PM.
URL:https://mlwgs.com/event/testing-lab-rm-201-2/2025-04-30/
LOCATION:MLWGS Room 201
CATEGORIES:Building Activity for MLWGS
ATTACH;FMTTYPE=image/jpeg:https://mlwgs.com/wp-content/uploads/2024/07/logo_color-1.jpg
END:VEVENT
BEGIN:VEVENT
DTSTART;TZID=America/New_York:20250430T153000
DTEND;TZID=America/New_York:20250430T183000
DTSTAMP:20260424T051843
CREATED:20250128T144242Z
LAST-MODIFIED:20250128T144442Z
UID:10004118-1746027000-1746037800@mlwgs.com
SUMMARY:Band and Chorus Dress Rehearsal (Auditorium + Cafeteria)
DESCRIPTION:Auditorium\, Cafeteria\, Dinner served in Cafeteria from 5:00-6:30.
URL:https://mlwgs.com/event/band-and-chorus-dress-rehearsal-auditorium-cafeteria/
LOCATION:MLWGS Auditorium
CATEGORIES:Building Activity for MLWGS
ATTACH;FMTTYPE=image/jpeg:https://mlwgs.com/wp-content/uploads/2024/07/mag-default-image.jpg
END:VEVENT
BEGIN:VEVENT
DTSTART;TZID=America/New_York:20250430T170000
DTEND;TZID=America/New_York:20250430T183000
DTSTAMP:20260424T051843
CREATED:20240801T140056Z
LAST-MODIFIED:20240814T141100Z
UID:10002259-1746032400-1746037800@mlwgs.com
SUMMARY:MLWGS Foundation Development Comm. Mtg (Rm 153)
DESCRIPTION:
URL:https://mlwgs.com/event/mlwgs-foundation-development-comm-mtg-rm-153/2025-04-30/
LOCATION:MLWGS Room 153
CATEGORIES:GS Foundation
ATTACH;FMTTYPE=image/jpeg:https://mlwgs.com/wp-content/uploads/2024/07/logo_color-1.jpg
ORGANIZER;CN="Ms. Ginger O'Neil":MAILTO:goneil@mlwgsfoundation.org
END:VEVENT
BEGIN:VEVENT
DTSTART;TZID=America/New_York:20250430T190000
DTEND;TZID=America/New_York:20250430T203000
DTSTAMP:20260424T051843
CREATED:20241011T155615Z
LAST-MODIFIED:20241011T155615Z
UID:10003358-1746039600-1746045000@mlwgs.com
SUMMARY:Band and Chorus Concert (Auditorium)
DESCRIPTION:
URL:https://mlwgs.com/event/band-and-chorus-concert-auditorium/
LOCATION:MLWGS Auditorium
CATEGORIES:Building Activity for MLWGS
ATTACH;FMTTYPE=image/jpeg:https://mlwgs.com/wp-content/uploads/2024/07/mag-default-image.jpg
ORGANIZER;CN="Mr. Nicholas Merillat":MAILTO:nmerillat@gsgis.k12.va.us
END:VEVENT
END:VCALENDAR