BEGIN:VCALENDAR
VERSION:2.0
PRODID:-//Maggie L. Walker Governor&#039;s School - ECPv6.15.17.1//NONSGML v1.0//EN
CALSCALE:GREGORIAN
METHOD:PUBLISH
X-WR-CALNAME:Maggie L. Walker Governor&#039;s School
X-ORIGINAL-URL:https://mlwgs.com
X-WR-CALDESC:Events for Maggie L. Walker Governor&#039;s School
REFRESH-INTERVAL;VALUE=DURATION:PT1H
X-Robots-Tag:noindex
X-PUBLISHED-TTL:PT1H
BEGIN:VTIMEZONE
TZID:America/New_York
BEGIN:DAYLIGHT
TZOFFSETFROM:-0500
TZOFFSETTO:-0400
TZNAME:EDT
DTSTART:20240310T070000
END:DAYLIGHT
BEGIN:STANDARD
TZOFFSETFROM:-0400
TZOFFSETTO:-0500
TZNAME:EST
DTSTART:20241103T060000
END:STANDARD
BEGIN:DAYLIGHT
TZOFFSETFROM:-0500
TZOFFSETTO:-0400
TZNAME:EDT
DTSTART:20250309T070000
END:DAYLIGHT
BEGIN:STANDARD
TZOFFSETFROM:-0400
TZOFFSETTO:-0500
TZNAME:EST
DTSTART:20251102T060000
END:STANDARD
BEGIN:DAYLIGHT
TZOFFSETFROM:-0500
TZOFFSETTO:-0400
TZNAME:EDT
DTSTART:20260308T070000
END:DAYLIGHT
BEGIN:STANDARD
TZOFFSETFROM:-0400
TZOFFSETTO:-0500
TZNAME:EST
DTSTART:20261101T060000
END:STANDARD
END:VTIMEZONE
BEGIN:VEVENT
DTSTART;TZID=America/New_York:20250501T000000
DTEND;TZID=America/New_York:20250501T235959
DTSTAMP:20260419T214754
CREATED:20250408T131007Z
LAST-MODIFIED:20250408T131007Z
UID:10004413-1746057600-1746143999@mlwgs.com
SUMMARY:National School Principal's Day of Recognition
DESCRIPTION:
URL:https://mlwgs.com/event/national-school-principals-day-of-recognition/
CATEGORIES:Assembly or Other Program
ATTACH;FMTTYPE=image/jpeg:https://mlwgs.com/wp-content/uploads/2024/07/mag-default-image.jpg
END:VEVENT
BEGIN:VEVENT
DTSTART;TZID=America/New_York:20250501T000000
DTEND;TZID=America/New_York:20250504T235959
DTSTAMP:20260419T214754
CREATED:20250415T124859Z
LAST-MODIFIED:20250415T124859Z
UID:10004449-1746057600-1746403199@mlwgs.com
SUMMARY:TSA Technosphere (Hampton\, VA)
DESCRIPTION:
URL:https://mlwgs.com/event/tsa-technosphere-hampton-va/
CATEGORIES:Competition Event
ATTACH;FMTTYPE=image/jpeg:https://mlwgs.com/wp-content/uploads/2024/07/mag-default-image.jpg
END:VEVENT
BEGIN:VEVENT
DTSTART;TZID=America/New_York:20250501T080000
DTEND;TZID=America/New_York:20250501T200000
DTSTAMP:20260419T214754
CREATED:20250128T135219Z
LAST-MODIFIED:20250128T135219Z
UID:10004103-1746086400-1746129600@mlwgs.com
SUMMARY:Music Classes (Auditorium)
DESCRIPTION:
URL:https://mlwgs.com/event/music-classes-auditorium-2/2025-05-01/
LOCATION:MLWGS Auditorium
CATEGORIES:Building Activity for MLWGS
ATTACH;FMTTYPE=image/jpeg:https://mlwgs.com/wp-content/uploads/2024/07/mag-default-image.jpg
ORGANIZER;CN="Mr. Nicholas Merillat":MAILTO:nmerillat@gsgis.k12.va.us
END:VEVENT
BEGIN:VEVENT
DTSTART;TZID=America/New_York:20250501T081000
DTEND;TZID=America/New_York:20250501T151500
DTSTAMP:20260419T214754
CREATED:20250410T203101Z
LAST-MODIFIED:20250411T131048Z
UID:10004443-1746087000-1746112500@mlwgs.com
SUMMARY:SOL's
DESCRIPTION:
URL:https://mlwgs.com/event/sols-2/2025-05-01/
CATEGORIES:Academics
ATTACH;FMTTYPE=image/jpeg:https://mlwgs.com/wp-content/uploads/2024/07/mag-default-image.jpg
END:VEVENT
BEGIN:VEVENT
DTSTART;TZID=America/New_York:20250501T084000
DTEND;TZID=America/New_York:20250501T151000
DTSTAMP:20260419T214754
CREATED:20250411T094632Z
LAST-MODIFIED:20250411T094632Z
UID:10002560-1746088800-1746112200@mlwgs.com
SUMMARY:Schedule A- Even Blocks (2024-2025)
DESCRIPTION:Warning  Bell 8:35 A.M. \nPeriod 2           8:40-10:08 A.M.         88 min. Moment of Silence/Announcements \nPeriod 4           10:13-11:35 A.M.       82 min. \nActivity/Tutoring/Lunch\n11:35-12:15 P.M.                               40 min. \nPeriod 6           12:20-1:42 P.M.          82 min. \nPeriod 8             1:47-3:10 P.M.          83 min. \nBuses Depart 3:20 P.M.
URL:https://mlwgs.com/event/schedule-a-even-blocks-2024-2025-2-2/2025-05-01/
LOCATION:MLWGS\, 1000 N. Lombardy St.\, Richmond\, 23113\, United States
CATEGORIES:Academics
ATTACH;FMTTYPE=image/jpeg:https://mlwgs.com/wp-content/uploads/2024/07/logo_color-1.jpg
END:VEVENT
BEGIN:VEVENT
DTSTART;TZID=America/New_York:20250501T113000
DTEND;TZID=America/New_York:20250501T121500
DTSTAMP:20260419T214754
CREATED:20250408T181411Z
LAST-MODIFIED:20250408T181411Z
UID:10004419-1746099000-1746101700@mlwgs.com
SUMMARY:TJHHS Jeopardy (Forum)
DESCRIPTION:
URL:https://mlwgs.com/event/tjhhs-jeopardy-forum/
LOCATION:MLWGS Forum
CATEGORIES:Honor Society Activity
ATTACH;FMTTYPE=image/jpeg:https://mlwgs.com/wp-content/uploads/2024/07/mag-default-image.jpg
ORGANIZER;CN="Ms. Nakita Lee":MAILTO:nlee@gsgis.k12.va.us
END:VEVENT
BEGIN:VEVENT
DTSTART;TZID=America/New_York:20250501T153000
DTEND;TZID=America/New_York:20250501T170000
DTSTAMP:20260419T214754
CREATED:20240822T145332Z
LAST-MODIFIED:20240822T145332Z
UID:10002913-1746113400-1746118800@mlwgs.com
SUMMARY:Testing Lab (Rm 201)
DESCRIPTION:The Testing Lab is available for all teachers to use\, so multiple assessments may be administered simultaneously. To manage this\, we space out students taking the same test\, ask students using computers to sit with their screens facing us\, and enforce the following rules: no food or drinks\, no personal items (including cell phones or earbuds)\, no talking\, and no bathroom breaks once testing has started. \nPlease note that students don’t need to arrive exactly at 3:30—they can come anytime within the Testing Lab window\, as long as they finish by 5:00 PM.
URL:https://mlwgs.com/event/testing-lab-rm-201-3/2025-05-01/
LOCATION:MLWGS Room 201
CATEGORIES:Building Activity for MLWGS
ATTACH;FMTTYPE=image/jpeg:https://mlwgs.com/wp-content/uploads/2024/07/logo_color-1.jpg
END:VEVENT
BEGIN:VEVENT
DTSTART;TZID=America/New_York:20250501T173000
DTEND;TZID=America/New_York:20250501T190000
DTSTAMP:20260419T214754
CREATED:20250421T150905Z
LAST-MODIFIED:20250421T150905Z
UID:10004456-1746120600-1746126000@mlwgs.com
SUMMARY:Senior Parent Send-Off sponsored by the MLWGS Foundation (Off campus)
DESCRIPTION:
URL:https://mlwgs.com/event/senior-parent-send-off-sponsored-by-the-mlwgs-foundation-off-campus/
CATEGORIES:GS Foundation
ATTACH;FMTTYPE=image/jpeg:https://mlwgs.com/wp-content/uploads/2024/07/mag-default-image.jpg
ORGANIZER;CN="Ms. Ginger O'Neil":MAILTO:goneil@mlwgsfoundation.org
END:VEVENT
END:VCALENDAR