BEGIN:VCALENDAR
VERSION:2.0
PRODID:-//Maggie L. Walker Governor&#039;s School - ECPv6.15.17.1//NONSGML v1.0//EN
CALSCALE:GREGORIAN
METHOD:PUBLISH
X-WR-CALNAME:Maggie L. Walker Governor&#039;s School
X-ORIGINAL-URL:https://mlwgs.com
X-WR-CALDESC:Events for Maggie L. Walker Governor&#039;s School
REFRESH-INTERVAL;VALUE=DURATION:PT1H
X-Robots-Tag:noindex
X-PUBLISHED-TTL:PT1H
BEGIN:VTIMEZONE
TZID:America/New_York
BEGIN:DAYLIGHT
TZOFFSETFROM:-0500
TZOFFSETTO:-0400
TZNAME:EDT
DTSTART:20250309T070000
END:DAYLIGHT
BEGIN:STANDARD
TZOFFSETFROM:-0400
TZOFFSETTO:-0500
TZNAME:EST
DTSTART:20251102T060000
END:STANDARD
BEGIN:DAYLIGHT
TZOFFSETFROM:-0500
TZOFFSETTO:-0400
TZNAME:EDT
DTSTART:20260308T070000
END:DAYLIGHT
BEGIN:STANDARD
TZOFFSETFROM:-0400
TZOFFSETTO:-0500
TZNAME:EST
DTSTART:20261101T060000
END:STANDARD
BEGIN:DAYLIGHT
TZOFFSETFROM:-0500
TZOFFSETTO:-0400
TZNAME:EDT
DTSTART:20270314T070000
END:DAYLIGHT
BEGIN:STANDARD
TZOFFSETFROM:-0400
TZOFFSETTO:-0500
TZNAME:EST
DTSTART:20271107T060000
END:STANDARD
END:VTIMEZONE
BEGIN:VEVENT
DTSTART;TZID=America/New_York:20260225T000000
DTEND;TZID=America/New_York:20260302T235959
DTSTAMP:20260421T040536
CREATED:20260204T175649Z
LAST-MODIFIED:20260204T175649Z
UID:10009392-1771977600-1772495999@mlwgs.com
SUMMARY:Math Modeling to SABR Diamond Dollars competition (Off Campus)
DESCRIPTION:Phoenix
URL:https://mlwgs.com/event/math-modeling-to-sabr-diamond-dollars-competition-off-campus/
CATEGORIES:Competition Event
ATTACH;FMTTYPE=image/jpeg:https://mlwgs.com/wp-content/uploads/2024/07/mag-default-image.jpg
ORGANIZER;CN="Mr. Dickson Benesh":MAILTO:dbenesh@gsgis.k12.va.us
END:VEVENT
BEGIN:VEVENT
DTSTART;TZID=America/New_York:20260227T000000
DTEND;TZID=America/New_York:20260313T235959
DTSTAMP:20260421T040536
CREATED:20251204T152717Z
LAST-MODIFIED:20260206T183517Z
UID:10007430-1772150400-1773446399@mlwgs.com
SUMMARY:MLWGS Hosts Visiting Japanese Exchange
DESCRIPTION:February 28 – March 14\nStudents from our partner school in Japan are visiting Maggie L. Walker.  \nOur partner school\, Chiben Gakuen\, is in Wakayama\, Japan\, about 2 hours and 30 minutes south of Kyoto via train. The exchange is supported by our school\, and we are planning on having 12 high school students from Japan visit.
URL:https://mlwgs.com/event/mlwgs-hosts-visiting-japanese-exchange/
CATEGORIES:International Travel
ATTACH;FMTTYPE=image/jpeg:https://mlwgs.com/wp-content/uploads/2024/07/mag-default-image.jpg
ORGANIZER;CN="Ms. Yoko Eshita":MAILTO:yeshita@gsgis.k12.va.us
END:VEVENT
BEGIN:VEVENT
DTSTART;TZID=America/New_York:20260302T000000
DTEND;TZID=America/New_York:20260303T235959
DTSTAMP:20260421T040536
CREATED:20260223T204443Z
LAST-MODIFIED:20260223T204443Z
UID:10009536-1772409600-1772582399@mlwgs.com
SUMMARY:VHSL State Championship for Indoor Track (Off Campus)
DESCRIPTION:Liberty Univ.
URL:https://mlwgs.com/event/vhsl-state-championship-for-indoor-track-off-campus/
CATEGORIES:Athletic Activities (Not Games)
ATTACH;FMTTYPE=image/jpeg:https://mlwgs.com/wp-content/uploads/2024/07/mag-default-image.jpg
ORGANIZER;CN="Mr. Ryan Webb":MAILTO:rwebb@gsgis.k12.va.us
END:VEVENT
BEGIN:VEVENT
DTSTART;TZID=America/New_York:20260302T080000
DTEND;TZID=America/New_York:20260302T200000
DTSTAMP:20260421T040536
CREATED:20250923T165638Z
LAST-MODIFIED:20250923T165638Z
UID:10007294-1772438400-1772481600@mlwgs.com
SUMMARY:Music Classes (Auditorium)
DESCRIPTION:
URL:https://mlwgs.com/event/music-classes-auditorium-6/2026-03-02/
LOCATION:MLWGS Auditorium
CATEGORIES:Visual or Performing Arts Activity
ATTACH;FMTTYPE=image/jpeg:https://mlwgs.com/wp-content/uploads/2024/07/mag-default-image.jpg
ORGANIZER;CN="Mr. Nicholas Merillat":MAILTO:nmerillat@gsgis.k12.va.us
END:VEVENT
BEGIN:VEVENT
DTSTART;TZID=America/New_York:20260302T084000
DTEND;TZID=America/New_York:20260302T100000
DTSTAMP:20260421T040536
CREATED:20260226T181735Z
LAST-MODIFIED:20260226T181832Z
UID:10009655-1772440800-1772445600@mlwgs.com
SUMMARY:Welcome Reception for Japanese High School Exchange Students (Library)
DESCRIPTION:
URL:https://mlwgs.com/event/welcome-reception-for-japanese-high-school-exchange-students-library/
LOCATION:MLWGS Library
CATEGORIES:Building Activity for MLWGS
ATTACH;FMTTYPE=image/jpeg:https://mlwgs.com/wp-content/uploads/2024/07/mag-default-image.jpg
ORGANIZER;CN="Ms. Yoko Eshita":MAILTO:yeshita@gsgis.k12.va.us
END:VEVENT
BEGIN:VEVENT
DTSTART;TZID=America/New_York:20260302T084000
DTEND;TZID=America/New_York:20260302T151000
DTSTAMP:20260421T040536
CREATED:20251022T185448Z
LAST-MODIFIED:20251022T185644Z
UID:10005136-1772440800-1772464200@mlwgs.com
SUMMARY:Schedule A- Odd Blocks (2025-2026)
DESCRIPTION:Warning Bell 8:35 A.M. \nPeriod 1           8:40-10:08 A.M.         88 min. Moment of Silence/Announcements \nPeriod 3           10:13-11:35 A.M.       82 min. \nActivity/Tutoring/Lunch\n11:35-12:15 P.M.                               40 min. \nPeriod 5           12:20-1:42 P.M.          82 min. \nPeriod 7             1:47-3:10 P.M.          83 min. \nBuses Depart 3:20 P.M.
URL:https://mlwgs.com/event/schedule-a-odd-blocks-2025-2026-3/2026-03-02/
LOCATION:MLWGS\, 1000 N. Lombardy St.\, Richmond\, 23113\, United States
CATEGORIES:Academics
ATTACH;FMTTYPE=image/jpeg:https://mlwgs.com/wp-content/uploads/2024/07/mag-default-image.jpg
END:VEVENT
BEGIN:VEVENT
DTSTART;TZID=America/New_York:20260302T085000
DTEND;TZID=America/New_York:20260305T151500
DTSTAMP:20260421T040536
CREATED:20250602T154431Z
LAST-MODIFIED:20250602T154431Z
UID:10004604-1772441400-1772723700@mlwgs.com
SUMMARY:English 10 SOL's
DESCRIPTION:
URL:https://mlwgs.com/event/english-10-sols/
CATEGORIES:Academics
ATTACH;FMTTYPE=image/jpeg:https://mlwgs.com/wp-content/uploads/2024/07/mag-default-image.jpg
END:VEVENT
BEGIN:VEVENT
DTSTART;TZID=America/New_York:20260302T090000
DTEND;TZID=America/New_York:20260302T140000
DTSTAMP:20260421T040536
CREATED:20251022T192948Z
LAST-MODIFIED:20260108T204753Z
UID:10005802-1772442000-1772460000@mlwgs.com
SUMMARY:GRASP Representative-Available by Appt Only (Room 103)
DESCRIPTION:Students and/or their parents may schedule appts with Mrs. Aronson to discuss financial aid for college by visiting her Calendly link (available from the senior counselors).
URL:https://mlwgs.com/event/grasp-representative-available-by-appt-only-room-103-2/2026-03-02/
LOCATION:MLWGS Room 103
CATEGORIES:Senior Activity
ATTACH;FMTTYPE=image/jpeg:https://mlwgs.com/wp-content/uploads/2024/07/mag-default-image.jpg
ORGANIZER;CN="Ms. Kimberly Forquer":MAILTO:kforquer@gsgis.k12.va.us
END:VEVENT
BEGIN:VEVENT
DTSTART;TZID=America/New_York:20260302T153000
DTEND;TZID=America/New_York:20260302T163000
DTSTAMP:20260421T040536
CREATED:20260218T153753Z
LAST-MODIFIED:20260218T153753Z
UID:10009457-1772465400-1772469000@mlwgs.com
SUMMARY:GSAC Volunteer Training (Forum)
DESCRIPTION:
URL:https://mlwgs.com/event/gsac-volunteer-training-forum/
LOCATION:MLWGS Forum
CATEGORIES:Club Activity
ATTACH;FMTTYPE=image/jpeg:https://mlwgs.com/wp-content/uploads/2024/07/mag-default-image.jpg
ORGANIZER;CN="Mr. Adam Rotche":MAILTO:arotche@gsgis.k12.va.us
END:VEVENT
BEGIN:VEVENT
DTSTART;TZID=America/New_York:20260302T153000
DTEND;TZID=America/New_York:20260302T183000
DTSTAMP:20260421T040536
CREATED:20250819T131516Z
LAST-MODIFIED:20250819T131516Z
UID:10005869-1772465400-1772476200@mlwgs.com
SUMMARY:Drama Class Performance Preparation and Dinner (Black Box)
DESCRIPTION:
URL:https://mlwgs.com/event/drama-class-performance-preparation-and-dinner-black-box/
LOCATION:MLWGS Black Box
CATEGORIES:Drama Activity
ATTACH;FMTTYPE=image/jpeg:https://mlwgs.com/wp-content/uploads/2024/07/mag-default-image.jpg
END:VEVENT
BEGIN:VEVENT
DTSTART;TZID=America/New_York:20260302T160000
DTEND;TZID=America/New_York:20260302T190000
DTSTAMP:20260421T040536
CREATED:20250702T133733Z
LAST-MODIFIED:20250702T133733Z
UID:10005523-1772467200-1772478000@mlwgs.com
SUMMARY:Robotics Build Season Meeting (Commons\, Rms 109\, 111 & 112)
DESCRIPTION:
URL:https://mlwgs.com/event/robotics-build-season-meeting-commons-rms-109-111-112/2026-03-02/
CATEGORIES:Club Activity
ATTACH;FMTTYPE=image/jpeg:https://mlwgs.com/wp-content/uploads/2024/07/mag-default-image.jpg
ORGANIZER;CN="Mr. Mark Sailer":MAILTO:msailer@gsgis.k12.va.us
END:VEVENT
BEGIN:VEVENT
DTSTART;TZID=America/New_York:20260302T183000
DTEND;TZID=America/New_York:20260302T203000
DTSTAMP:20260421T040536
CREATED:20250819T131657Z
LAST-MODIFIED:20250819T131657Z
UID:10005870-1772476200-1772483400@mlwgs.com
SUMMARY:Drama Class Performance Assessment (Black Box)
DESCRIPTION:
URL:https://mlwgs.com/event/drama-class-performance-assessment-black-box-2/
LOCATION:MLWGS Black Box
CATEGORIES:Drama Activity
ATTACH;FMTTYPE=image/jpeg:https://mlwgs.com/wp-content/uploads/2024/07/mag-default-image.jpg
ORGANIZER;CN="Mr. Joesph Revell":MAILTO:jrevell@gsgis.k12.va.us
END:VEVENT
END:VCALENDAR