BEGIN:VCALENDAR
VERSION:2.0
PRODID:-//Maggie L. Walker Governor&#039;s School - ECPv6.15.17.1//NONSGML v1.0//EN
CALSCALE:GREGORIAN
METHOD:PUBLISH
X-WR-CALNAME:Maggie L. Walker Governor&#039;s School
X-ORIGINAL-URL:https://mlwgs.com
X-WR-CALDESC:Events for Maggie L. Walker Governor&#039;s School
REFRESH-INTERVAL;VALUE=DURATION:PT1H
X-Robots-Tag:noindex
X-PUBLISHED-TTL:PT1H
BEGIN:VTIMEZONE
TZID:America/New_York
BEGIN:DAYLIGHT
TZOFFSETFROM:-0500
TZOFFSETTO:-0400
TZNAME:EDT
DTSTART:20250309T070000
END:DAYLIGHT
BEGIN:STANDARD
TZOFFSETFROM:-0400
TZOFFSETTO:-0500
TZNAME:EST
DTSTART:20251102T060000
END:STANDARD
BEGIN:DAYLIGHT
TZOFFSETFROM:-0500
TZOFFSETTO:-0400
TZNAME:EDT
DTSTART:20260308T070000
END:DAYLIGHT
BEGIN:STANDARD
TZOFFSETFROM:-0400
TZOFFSETTO:-0500
TZNAME:EST
DTSTART:20261101T060000
END:STANDARD
BEGIN:DAYLIGHT
TZOFFSETFROM:-0500
TZOFFSETTO:-0400
TZNAME:EDT
DTSTART:20270314T070000
END:DAYLIGHT
BEGIN:STANDARD
TZOFFSETFROM:-0400
TZOFFSETTO:-0500
TZNAME:EST
DTSTART:20271107T060000
END:STANDARD
END:VTIMEZONE
BEGIN:VEVENT
DTSTART;TZID=America/New_York:20260227T000000
DTEND;TZID=America/New_York:20260313T235959
DTSTAMP:20260419T125720
CREATED:20251204T152717Z
LAST-MODIFIED:20260206T183517Z
UID:10007430-1772150400-1773446399@mlwgs.com
SUMMARY:MLWGS Hosts Visiting Japanese Exchange
DESCRIPTION:February 28 – March 14\nStudents from our partner school in Japan are visiting Maggie L. Walker.  \nOur partner school\, Chiben Gakuen\, is in Wakayama\, Japan\, about 2 hours and 30 minutes south of Kyoto via train. The exchange is supported by our school\, and we are planning on having 12 high school students from Japan visit.
URL:https://mlwgs.com/event/mlwgs-hosts-visiting-japanese-exchange/
CATEGORIES:International Travel
ATTACH;FMTTYPE=image/jpeg:https://mlwgs.com/wp-content/uploads/2024/07/mag-default-image.jpg
ORGANIZER;CN="Ms. Yoko Eshita":MAILTO:yeshita@gsgis.k12.va.us
END:VEVENT
BEGIN:VEVENT
DTSTART;TZID=America/New_York:20260313T080000
DTEND;TZID=America/New_York:20260313T200000
DTSTAMP:20260419T125720
CREATED:20250923T165638Z
LAST-MODIFIED:20250923T165638Z
UID:10007303-1773388800-1773432000@mlwgs.com
SUMMARY:Music Classes (Auditorium)
DESCRIPTION:
URL:https://mlwgs.com/event/music-classes-auditorium-6/2026-03-13/
LOCATION:MLWGS Auditorium
CATEGORIES:Visual or Performing Arts Activity
ATTACH;FMTTYPE=image/jpeg:https://mlwgs.com/wp-content/uploads/2024/07/mag-default-image.jpg
ORGANIZER;CN="Mr. Nicholas Merillat":MAILTO:nmerillat@gsgis.k12.va.us
END:VEVENT
BEGIN:VEVENT
DTSTART;TZID=America/New_York:20260313T083000
DTEND;TZID=America/New_York:20260313T150000
DTSTAMP:20260419T125720
CREATED:20260116T172441Z
LAST-MODIFIED:20260116T172441Z
UID:10009376-1773390600-1773414000@mlwgs.com
SUMMARY:Future Dragon Day - Richmond Students
DESCRIPTION:Future Dragon Days are when we host the 8th graders who have been accepted to our school.  Basically\, they come live a day in the life of a MLWGS student and use their experience to help decide if they are going to accept the invitation to join our Dragon Nation.
URL:https://mlwgs.com/event/future-dragon-day-richmond-students/
CATEGORIES:Admissions or Middle School Visits
ATTACH;FMTTYPE=image/jpeg:https://mlwgs.com/wp-content/uploads/2024/07/mag-default-image.jpg
END:VEVENT
BEGIN:VEVENT
DTSTART;TZID=America/New_York:20260313T084000
DTEND;TZID=America/New_York:20260313T151500
DTSTAMP:20260419T125720
CREATED:20250123T150019Z
LAST-MODIFIED:20260220T182420Z
UID:10009394-1773391200-1773414900@mlwgs.com
SUMMARY:Schedule B: All Blocks (NO ADVISORY)
DESCRIPTION:1\n08:40 AM\n09:20 AM\n40\n\n\n\n2\n09:25 AM\n10:05 AM\n40\n\n\n\n3\n10:10 AM\n10:50 AM\n40\n\n\n\n4\n10:55 AM\n11:35 AM\n40\n\n\n\n5\n12:20 PM\n01:00 PM\n40\n\n\n\n6\n01:05 PM\n01:45 PM\n40\n\n\n\n7\n01:50 PM\n02:30 PM\n40\n\n\n\n8\n02:35 PM\n03:15 PM\n40
URL:https://mlwgs.com/event/schedule-b-all-blocks-no-advisory/2026-03-13/
CATEGORIES:Academics
ATTACH;FMTTYPE=image/jpeg:https://mlwgs.com/wp-content/uploads/2024/07/mag-default-image.jpg
END:VEVENT
BEGIN:VEVENT
DTSTART;TZID=America/New_York:20260313T100000
DTEND;TZID=America/New_York:20260313T113000
DTSTAMP:20260419T125720
CREATED:20250603T130147Z
LAST-MODIFIED:20250603T130147Z
UID:10005049-1773396000-1773401400@mlwgs.com
SUMMARY:Mentorship Class (Forum)
DESCRIPTION:
URL:https://mlwgs.com/event/mentorship-class-forum-10/2026-03-13/
LOCATION:MLWGS Forum
CATEGORIES:Academics
ATTACH;FMTTYPE=image/jpeg:https://mlwgs.com/wp-content/uploads/2024/07/mag-default-image.jpg
ORGANIZER;CN="Mr. Les Cook":MAILTO:tcook@gsgis.k12.va.us
END:VEVENT
BEGIN:VEVENT
DTSTART;TZID=America/New_York:20260313T114500
DTEND;TZID=America/New_York:20260313T121000
DTSTAMP:20260419T125720
CREATED:20260310T195714Z
LAST-MODIFIED:20260310T195714Z
UID:10009675-1773402300-1773403800@mlwgs.com
SUMMARY:MLWGS Talent Show Sponsored by the SCA (Commons)
DESCRIPTION:Friday (3/13)\n11:45 – Ocean View Dining Band ft. “Champagne Supernova” by Oasis\nJacob Williamson (‘26)\, Joe Van Drew (‘26)\, Joel Pritchard (‘26)\, Isaiah Jones (‘26)\, Abe Stubblefield (‘26)\, Ashton Kochel (‘27)\n11:55 – Solo Singing\nJensen Qi (‘27)\n11:58 – Magic\nHagen Roberts (‘29)\n12:05 – “Creep” by Stone Temple Pilots\nMax Ullman (‘29)
URL:https://mlwgs.com/event/mlwgs-talent-show-sponsored-by-the-sca-commons-2/
LOCATION:MLWGS Commons (1st Floor)
CATEGORIES:SCA Activity
ATTACH;FMTTYPE=image/jpeg:https://mlwgs.com/wp-content/uploads/2024/07/mag-default-image.jpg
ORGANIZER;CN="Ms. Erin Ortiz":MAILTO:eortiz@gsgis.k12.va.us
END:VEVENT
BEGIN:VEVENT
DTSTART;TZID=America/New_York:20260313T135000
DTEND;TZID=America/New_York:20260313T151500
DTSTAMP:20260419T125720
CREATED:20250603T132338Z
LAST-MODIFIED:20250603T132338Z
UID:10005056-1773409800-1773414900@mlwgs.com
SUMMARY:Mentorship Class (Forum)
DESCRIPTION:
URL:https://mlwgs.com/event/mentorship-class-forum-11/2026-03-13/
LOCATION:MLWGS Forum
CATEGORIES:Academics
ATTACH;FMTTYPE=image/jpeg:https://mlwgs.com/wp-content/uploads/2024/07/mag-default-image.jpg
END:VEVENT
BEGIN:VEVENT
DTSTART;TZID=America/New_York:20260313T140000
DTEND;TZID=America/New_York:20260313T160000
DTSTAMP:20260419T125720
CREATED:20250807T160406Z
LAST-MODIFIED:20250807T160406Z
UID:10005661-1773410400-1773417600@mlwgs.com
SUMMARY:Intermediate Band Assessment (Atlee High School)
DESCRIPTION:
URL:https://mlwgs.com/event/intermediate-band-assessment-atlee-high-school/
CATEGORIES:Visual or Performing Arts Activity
ATTACH;FMTTYPE=image/jpeg:https://mlwgs.com/wp-content/uploads/2024/07/mag-default-image.jpg
END:VEVENT
BEGIN:VEVENT
DTSTART;TZID=America/New_York:20260313T153000
DTEND;TZID=America/New_York:20260313T163000
DTSTAMP:20260419T125720
CREATED:20260224T163035Z
LAST-MODIFIED:20260224T163035Z
UID:10009614-1773415800-1773419400@mlwgs.com
SUMMARY:Bhangra practice (Black Box)
DESCRIPTION:
URL:https://mlwgs.com/event/bhangra-practice-black-box-11/2026-03-13/
LOCATION:MLWGS Black Box
CATEGORIES:Club Activity
ATTACH;FMTTYPE=image/jpeg:https://mlwgs.com/wp-content/uploads/2024/07/mag-default-image.jpg
ORGANIZER;CN="Ms. Amanda Lemco":MAILTO:alemco@gsgis.k12.va.us
END:VEVENT
BEGIN:VEVENT
DTSTART;TZID=America/New_York:20260313T160000
DTEND;TZID=America/New_York:20260313T180000
DTSTAMP:20260419T125720
CREATED:20260129T191635Z
LAST-MODIFIED:20260309T142643Z
UID:10009388-1773417600-1773424800@mlwgs.com
SUMMARY:Video Viewing of Daughters (Forum)
DESCRIPTION:Daughters
URL:https://mlwgs.com/event/video-viewing-of-daughters-forum/
LOCATION:MLWGS Forum
CATEGORIES:Building Activity for MLWGS
ATTACH;FMTTYPE=image/jpeg:https://mlwgs.com/wp-content/uploads/2024/07/mag-default-image.jpg
ORGANIZER;CN="Ms. Robinette Cross":MAILTO:rcross@gsgis.k12.va.is
END:VEVENT
BEGIN:VEVENT
DTSTART;TZID=America/New_York:20260313T160000
DTEND;TZID=America/New_York:20260313T203000
DTSTAMP:20260419T125720
CREATED:20260206T180257Z
LAST-MODIFIED:20260206T180257Z
UID:10009415-1773417600-1773433800@mlwgs.com
SUMMARY:Robotics (Caf\, Commons\, Rms 109\, 111 &  112)
DESCRIPTION:
URL:https://mlwgs.com/event/robotics-caf-commons-rms-109-111-112/2026-03-13/
CATEGORIES:Club Activity
ATTACH;FMTTYPE=image/jpeg:https://mlwgs.com/wp-content/uploads/2024/07/mag-default-image.jpg
ORGANIZER;CN="Mr. Mark Sailer":MAILTO:msailer@gsgis.k12.va.us
END:VEVENT
END:VCALENDAR