BEGIN:VCALENDAR
VERSION:2.0
PRODID:-//Maggie L. Walker Governor&#039;s School - ECPv6.15.17.1//NONSGML v1.0//EN
CALSCALE:GREGORIAN
METHOD:PUBLISH
X-WR-CALNAME:Maggie L. Walker Governor&#039;s School
X-ORIGINAL-URL:https://mlwgs.com
X-WR-CALDESC:Events for Maggie L. Walker Governor&#039;s School
REFRESH-INTERVAL;VALUE=DURATION:PT1H
X-Robots-Tag:noindex
X-PUBLISHED-TTL:PT1H
BEGIN:VTIMEZONE
TZID:America/New_York
BEGIN:DAYLIGHT
TZOFFSETFROM:-0500
TZOFFSETTO:-0400
TZNAME:EDT
DTSTART:20250309T070000
END:DAYLIGHT
BEGIN:STANDARD
TZOFFSETFROM:-0400
TZOFFSETTO:-0500
TZNAME:EST
DTSTART:20251102T060000
END:STANDARD
BEGIN:DAYLIGHT
TZOFFSETFROM:-0500
TZOFFSETTO:-0400
TZNAME:EDT
DTSTART:20260308T070000
END:DAYLIGHT
BEGIN:STANDARD
TZOFFSETFROM:-0400
TZOFFSETTO:-0500
TZNAME:EST
DTSTART:20261101T060000
END:STANDARD
BEGIN:DAYLIGHT
TZOFFSETFROM:-0500
TZOFFSETTO:-0400
TZNAME:EDT
DTSTART:20270314T070000
END:DAYLIGHT
BEGIN:STANDARD
TZOFFSETFROM:-0400
TZOFFSETTO:-0500
TZNAME:EST
DTSTART:20271107T060000
END:STANDARD
END:VTIMEZONE
BEGIN:VEVENT
DTSTART;TZID=America/New_York:20260319T000000
DTEND;TZID=America/New_York:20260322T235959
DTSTAMP:20260421T040536
CREATED:20251210T155509Z
LAST-MODIFIED:20260206T182906Z
UID:10007449-1773878400-1774223999@mlwgs.com
SUMMARY:AP African American Studies - Trip to Charleston\, South Carolina
DESCRIPTION:
URL:https://mlwgs.com/event/ap-african-american-studies-trip-to-charleston-south-carolina/
CATEGORIES:Field Trip
ATTACH;FMTTYPE=image/jpeg:https://mlwgs.com/wp-content/uploads/2024/07/mag-default-image.jpg
ORGANIZER;CN="Ms. Nakita Lee":MAILTO:nlee@gsgis.k12.va.us
END:VEVENT
BEGIN:VEVENT
DTSTART;TZID=America/New_York:20260320T170000
DTEND;TZID=America/New_York:20260322T180000
DTSTAMP:20260421T040536
CREATED:20251111T180626Z
LAST-MODIFIED:20251111T181757Z
UID:10007400-1774026000-1774202400@mlwgs.com
SUMMARY:FCH District Chesapeake Event - Robotics Competition (Off Campus)
DESCRIPTION:https://www.thebluealliance.com/event/2026vache \nhttps://www.firstchesapeake.org/event/frc/2026/vache
URL:https://mlwgs.com/event/fch-district-chesapeake-event-robotics-competition/
CATEGORIES:Competition Event
ATTACH;FMTTYPE=image/jpeg:https://mlwgs.com/wp-content/uploads/2024/07/mag-default-image.jpg
ORGANIZER;CN="Mr. Mark Sailer":MAILTO:msailer@gsgis.k12.va.us
END:VEVENT
BEGIN:VEVENT
DTSTART;TZID=America/New_York:20260321T083000
DTEND;TZID=America/New_York:20260321T120000
DTSTAMP:20260421T040536
CREATED:20260223T190805Z
LAST-MODIFIED:20260303T152155Z
UID:10009533-1774081800-1774094400@mlwgs.com
SUMMARY:Skills Assessments for Incoming Freshmen (MLWGS)
DESCRIPTION:Check-in starts at 8:30 am.  Testing starts at 9:00 am. \nAssessments for the Class of 2030 \nThis document contains important info on skills assessment for languages\, math\, and fine arts. Each 8th-grader present at Future Dragon Days will receive a hard copy of this handout.
URL:https://mlwgs.com/event/skills-assessments-for-incoming-freshmen-mlwgs/
CATEGORIES:Admissions or Middle School Visits
ATTACH;FMTTYPE=image/jpeg:https://mlwgs.com/wp-content/uploads/2024/07/mag-default-image.jpg
ORGANIZER;CN="Mr. Michael White":MAILTO:mwhite@gsgis.k12.va.us
END:VEVENT
END:VCALENDAR