BEGIN:VCALENDAR
VERSION:2.0
PRODID:-//Maggie L. Walker Governor&#039;s School - ECPv6.15.17.1//NONSGML v1.0//EN
CALSCALE:GREGORIAN
METHOD:PUBLISH
X-WR-CALNAME:Maggie L. Walker Governor&#039;s School
X-ORIGINAL-URL:https://mlwgs.com
X-WR-CALDESC:Events for Maggie L. Walker Governor&#039;s School
REFRESH-INTERVAL;VALUE=DURATION:PT1H
X-Robots-Tag:noindex
X-PUBLISHED-TTL:PT1H
BEGIN:VTIMEZONE
TZID:America/New_York
BEGIN:DAYLIGHT
TZOFFSETFROM:-0500
TZOFFSETTO:-0400
TZNAME:EDT
DTSTART:20250309T070000
END:DAYLIGHT
BEGIN:STANDARD
TZOFFSETFROM:-0400
TZOFFSETTO:-0500
TZNAME:EST
DTSTART:20251102T060000
END:STANDARD
BEGIN:DAYLIGHT
TZOFFSETFROM:-0500
TZOFFSETTO:-0400
TZNAME:EDT
DTSTART:20260308T070000
END:DAYLIGHT
BEGIN:STANDARD
TZOFFSETFROM:-0400
TZOFFSETTO:-0500
TZNAME:EST
DTSTART:20261101T060000
END:STANDARD
BEGIN:DAYLIGHT
TZOFFSETFROM:-0500
TZOFFSETTO:-0400
TZNAME:EDT
DTSTART:20270314T070000
END:DAYLIGHT
BEGIN:STANDARD
TZOFFSETFROM:-0400
TZOFFSETTO:-0500
TZNAME:EST
DTSTART:20271107T060000
END:STANDARD
END:VTIMEZONE
BEGIN:VEVENT
DTSTART;TZID=America/New_York:20260323T084000
DTEND;TZID=America/New_York:20260323T151000
DTSTAMP:20260421T051120
CREATED:20251022T185448Z
LAST-MODIFIED:20251022T185644Z
UID:10005142-1774255200-1774278600@mlwgs.com
SUMMARY:Schedule A- Odd Blocks (2025-2026)
DESCRIPTION:Warning Bell 8:35 A.M. \nPeriod 1           8:40-10:08 A.M.         88 min. Moment of Silence/Announcements \nPeriod 3           10:13-11:35 A.M.       82 min. \nActivity/Tutoring/Lunch\n11:35-12:15 P.M.                               40 min. \nPeriod 5           12:20-1:42 P.M.          82 min. \nPeriod 7             1:47-3:10 P.M.          83 min. \nBuses Depart 3:20 P.M.
URL:https://mlwgs.com/event/schedule-a-odd-blocks-2025-2026-3/2026-03-23/
LOCATION:MLWGS\, 1000 N. Lombardy St.\, Richmond\, 23113\, United States
CATEGORIES:Academics
ATTACH;FMTTYPE=image/jpeg:https://mlwgs.com/wp-content/uploads/2024/07/mag-default-image.jpg
END:VEVENT
BEGIN:VEVENT
DTSTART;TZID=America/New_York:20260323T090000
DTEND;TZID=America/New_York:20260323T140000
DTSTAMP:20260421T051120
CREATED:20251022T192948Z
LAST-MODIFIED:20260108T204753Z
UID:10005805-1774256400-1774274400@mlwgs.com
SUMMARY:GRASP Representative-Available by Appt Only (Room 103)
DESCRIPTION:Students and/or their parents may schedule appts with Mrs. Aronson to discuss financial aid for college by visiting her Calendly link (available from the senior counselors).
URL:https://mlwgs.com/event/grasp-representative-available-by-appt-only-room-103-2/2026-03-23/
LOCATION:MLWGS Room 103
CATEGORIES:Senior Activity
ATTACH;FMTTYPE=image/jpeg:https://mlwgs.com/wp-content/uploads/2024/07/mag-default-image.jpg
ORGANIZER;CN="Ms. Kimberly Forquer":MAILTO:kforquer@gsgis.k12.va.us
END:VEVENT
BEGIN:VEVENT
DTSTART;TZID=America/New_York:20260323T113500
DTEND;TZID=America/New_York:20260323T121500
DTSTAMP:20260421T051120
CREATED:20260312T171904Z
LAST-MODIFIED:20260312T171904Z
UID:10009680-1774265700-1774268100@mlwgs.com
SUMMARY:Operation Smile Mtg (Forum)
DESCRIPTION:
URL:https://mlwgs.com/event/operation-smile-mtg-forum/
LOCATION:MLWGS Forum
CATEGORIES:Club Activity
ATTACH;FMTTYPE=image/jpeg:https://mlwgs.com/wp-content/uploads/2024/07/mag-default-image.jpg
END:VEVENT
BEGIN:VEVENT
DTSTART;TZID=America/New_York:20260323T153000
DTEND;TZID=America/New_York:20260323T170000
DTSTAMP:20260421T051120
CREATED:20260323T120840Z
LAST-MODIFIED:20260323T120952Z
UID:10007291-1774279800-1774285200@mlwgs.com
SUMMARY:Multicultural Assembly Rehearsal - All Groups (AUD)
DESCRIPTION:
URL:https://mlwgs.com/event/multicultural-assembly-practice-all-groups-black-box-3/
LOCATION:MLWGS Auditorium
CATEGORIES:Club Activity
ATTACH;FMTTYPE=image/jpeg:https://mlwgs.com/wp-content/uploads/2024/07/mag-default-image.jpg
ORGANIZER;CN="Ms. Amanda Lemco":MAILTO:alemco@gsgis.k12.va.us
END:VEVENT
BEGIN:VEVENT
DTSTART;TZID=America/New_York:20260323T183000
DTEND;TZID=America/New_York:20260323T193000
DTSTAMP:20260421T051120
CREATED:20260302T185329Z
LAST-MODIFIED:20260302T185329Z
UID:10009665-1774290600-1774294200@mlwgs.com
SUMMARY:Zoom Meeting (Great Aspirations Scholarship Program) Sponsored by the PTSA and GRASP
DESCRIPTION:The PTSA is co-hosting a program with GRASP (Great Aspirations Scholarship Program) on paying for college on March 23rd at 6:30pm via Zoom. \nThis program will go over the FAFSA\, the CSS profile and scholarships for approximately 30 minutes\, followed by a Q&A. \nZoom Link:\nhttps://linkprotect.cudasvc.com/url?a=https%3a%2f%2fus02web.zoom.us%2fj%2f88583116557%3fpwd%3dO1rAolzbbAcKbXttH1K8UDhQ0MROxj.1&c=E\,1\,Vrj8uT-S6Pd3v6fahk2-KeohL5er6uT80qG3A3oQ-OQEipmcOD09NkReGcgZOj613dkMVUf-fSR7gu_MzuKyy0oK8MxxsT7nvTamw1Gd&typo=0
URL:https://mlwgs.com/event/zoom-meeting-great-aspirations-scholarship-program-sponsored-by-the-ptsa-and-grasp/
CATEGORIES:PTSA/Boosters Function
ATTACH;FMTTYPE=image/jpeg:https://mlwgs.com/wp-content/uploads/2024/07/mag-default-image.jpg
END:VEVENT
END:VCALENDAR