BEGIN:VCALENDAR
VERSION:2.0
PRODID:-//Maggie L. Walker Governor&#039;s School - ECPv6.15.17.1//NONSGML v1.0//EN
CALSCALE:GREGORIAN
METHOD:PUBLISH
X-WR-CALNAME:Maggie L. Walker Governor&#039;s School
X-ORIGINAL-URL:https://mlwgs.com
X-WR-CALDESC:Events for Maggie L. Walker Governor&#039;s School
REFRESH-INTERVAL;VALUE=DURATION:PT1H
X-Robots-Tag:noindex
X-PUBLISHED-TTL:PT1H
BEGIN:VTIMEZONE
TZID:America/New_York
BEGIN:DAYLIGHT
TZOFFSETFROM:-0500
TZOFFSETTO:-0400
TZNAME:EDT
DTSTART:20250309T070000
END:DAYLIGHT
BEGIN:STANDARD
TZOFFSETFROM:-0400
TZOFFSETTO:-0500
TZNAME:EST
DTSTART:20251102T060000
END:STANDARD
BEGIN:DAYLIGHT
TZOFFSETFROM:-0500
TZOFFSETTO:-0400
TZNAME:EDT
DTSTART:20260308T070000
END:DAYLIGHT
BEGIN:STANDARD
TZOFFSETFROM:-0400
TZOFFSETTO:-0500
TZNAME:EST
DTSTART:20261101T060000
END:STANDARD
BEGIN:DAYLIGHT
TZOFFSETFROM:-0500
TZOFFSETTO:-0400
TZNAME:EDT
DTSTART:20270314T070000
END:DAYLIGHT
BEGIN:STANDARD
TZOFFSETFROM:-0400
TZOFFSETTO:-0500
TZNAME:EST
DTSTART:20271107T060000
END:STANDARD
END:VTIMEZONE
BEGIN:VEVENT
DTSTART;TZID=America/New_York:20260324T000000
DTEND;TZID=America/New_York:20260324T235959
DTSTAMP:20260421T051512
CREATED:20250602T195043Z
LAST-MODIFIED:20251205T194936Z
UID:10005035-1774310400-1774396799@mlwgs.com
SUMMARY:Multicultural Assembly Day
DESCRIPTION:
URL:https://mlwgs.com/event/multicultural-assembly-day/
LOCATION:MLWGS Auditorium
CATEGORIES:Assembly or Other Program
ATTACH;FMTTYPE=image/jpeg:https://mlwgs.com/wp-content/uploads/2024/07/mag-default-image.jpg
END:VEVENT
BEGIN:VEVENT
DTSTART;TZID=America/New_York:20260324T084000
DTEND;TZID=America/New_York:20260324T151500
DTSTAMP:20260421T051512
CREATED:20250611T190400Z
LAST-MODIFIED:20260220T182834Z
UID:10005487-1774341600-1774365300@mlwgs.com
SUMMARY:Schedule A- Even Classes Meet (MODIFIED: MULTICULTURAL ASSEMBLY)
DESCRIPTION:2\n08:40 AM\n09:55 AM\n75\n\n\n\n4\n10:00 AM\n11:10 AM\n70\n\n\n\n6\n11:45 AM\n01:55 PM\n130\n\n\n\n8\n02:00 PM\n03:10 PM\n70\n\n\n\nOdd Numbered classes:\n11:45-11:50: Attendance taken and leave bags in 6th Block classroom\nPA Dismissal to Auditorium\n11:55-12:45: Act I\n12:50-1:55: Classtime \nEven Numbered classes and Study Hall:\n11:45-12:55: Classtime\, leave bags\nPA Dismissal to Auditorium\n1:00-1:50: Act II\n1:50-1:55: Report to Block 6 to get bags
URL:https://mlwgs.com/event/schedule-b-all-classes-meet-modified-multicultural-assembly-2/
LOCATION:MLWGS\, 1000 N. Lombardy St.\, Richmond\, 23113\, United States
CATEGORIES:Academics
ATTACH;FMTTYPE=image/jpeg:https://mlwgs.com/wp-content/uploads/2024/07/mag-default-image.jpg
END:VEVENT
BEGIN:VEVENT
DTSTART;TZID=America/New_York:20260324T100000
DTEND;TZID=America/New_York:20260324T140000
DTSTAMP:20260421T051512
CREATED:20250812T140656Z
LAST-MODIFIED:20250812T140656Z
UID:10005752-1774346400-1774360800@mlwgs.com
SUMMARY:Admission Appeals Hearing (Rm 153)
DESCRIPTION:Planning Committee
URL:https://mlwgs.com/event/admission-appeals-hearing-rm-153/
LOCATION:MLWGS Room 153
CATEGORIES:Admissions or Middle School Visits
ATTACH;FMTTYPE=image/jpeg:https://mlwgs.com/wp-content/uploads/2024/07/mag-default-image.jpg
END:VEVENT
BEGIN:VEVENT
DTSTART;TZID=America/New_York:20260324T111500
DTEND;TZID=America/New_York:20260324T123000
DTSTAMP:20260421T051512
CREATED:20260227T193211Z
LAST-MODIFIED:20260227T193211Z
UID:10009660-1774350900-1774355400@mlwgs.com
SUMMARY:Case Management (Room 103)
DESCRIPTION:Joy Cobb
URL:https://mlwgs.com/event/case-management-room-103/2026-03-24/
LOCATION:MLWGS Room 103
CATEGORIES:Building Activity for MLWGS
ATTACH;FMTTYPE=image/jpeg:https://mlwgs.com/wp-content/uploads/2024/07/mag-default-image.jpg
ORGANIZER;CN="Ms. Joy Cobb":MAILTO:jcobb@gsgis.k12.va.us
END:VEVENT
BEGIN:VEVENT
DTSTART;TZID=America/New_York:20260324T113500
DTEND;TZID=America/New_York:20260324T121500
DTSTAMP:20260421T051512
CREATED:20260224T135852Z
LAST-MODIFIED:20260224T140209Z
UID:10009540-1774352100-1774354500@mlwgs.com
SUMMARY:Model UN Meeting (Forum)
DESCRIPTION:
URL:https://mlwgs.com/event/model-un-meeting-forum/2026-03-24/
LOCATION:MLWGS Forum
CATEGORIES:Club Activity
ATTACH;FMTTYPE=image/jpeg:https://mlwgs.com/wp-content/uploads/2024/07/mag-default-image.jpg
ORGANIZER;CN="Ms. Jaelyn Szerokman":MAILTO:jszerokman@gsgis.k12.va.us
END:VEVENT
BEGIN:VEVENT
DTSTART;TZID=America/New_York:20260324T120000
DTEND;TZID=America/New_York:20260324T190000
DTSTAMP:20260421T051512
CREATED:20250807T155552Z
LAST-MODIFIED:20250807T155552Z
UID:10005658-1774353600-1774378800@mlwgs.com
SUMMARY:Chorus Assessment (Off Campus)
DESCRIPTION:
URL:https://mlwgs.com/event/chorus-assessment-off-campus/2026-03-24/
CATEGORIES:Visual or Performing Arts Activity
ATTACH;FMTTYPE=image/jpeg:https://mlwgs.com/wp-content/uploads/2024/07/mag-default-image.jpg
ORGANIZER;CN="Mr. Joesph Revell":MAILTO:jrevell@gsgis.k12.va.us
END:VEVENT
BEGIN:VEVENT
DTSTART;TZID=America/New_York:20260324T150000
DTEND;TZID=America/New_York:20260324T170000
DTSTAMP:20260421T051512
CREATED:20260324T133818Z
LAST-MODIFIED:20260324T133818Z
UID:10009711-1774364400-1774371600@mlwgs.com
SUMMARY:PTSA Text-A-Thon (Rm 153)
DESCRIPTION:
URL:https://mlwgs.com/event/ptsa-text-a-thon-rm-153/
LOCATION:MLWGS Room 153
CATEGORIES:PTSA/Boosters Function
ATTACH;FMTTYPE=image/jpeg:https://mlwgs.com/wp-content/uploads/2024/07/mag-default-image.jpg
END:VEVENT
BEGIN:VEVENT
DTSTART;TZID=America/New_York:20260324T180000
DTEND;TZID=America/New_York:20260324T193000
DTSTAMP:20260421T051512
CREATED:20260309T143103Z
LAST-MODIFIED:20260309T143103Z
UID:10007292-1774375200-1774380600@mlwgs.com
SUMMARY:Multicultural Performance (Auditorium)
DESCRIPTION:
URL:https://mlwgs.com/event/multicultural-assembly-practice-all-groups-black-box-2/
CATEGORIES:Club Activity
ATTACH;FMTTYPE=image/jpeg:https://mlwgs.com/wp-content/uploads/2024/07/mag-default-image.jpg
ORGANIZER;CN="Ms. Amanda Lemco":MAILTO:alemco@gsgis.k12.va.us
END:VEVENT
END:VCALENDAR