BEGIN:VCALENDAR
VERSION:2.0
PRODID:-//Maggie L. Walker Governor&#039;s School - ECPv6.15.17.1//NONSGML v1.0//EN
CALSCALE:GREGORIAN
METHOD:PUBLISH
X-WR-CALNAME:Maggie L. Walker Governor&#039;s School
X-ORIGINAL-URL:https://mlwgs.com
X-WR-CALDESC:Events for Maggie L. Walker Governor&#039;s School
REFRESH-INTERVAL;VALUE=DURATION:PT1H
X-Robots-Tag:noindex
X-PUBLISHED-TTL:PT1H
BEGIN:VTIMEZONE
TZID:America/New_York
BEGIN:DAYLIGHT
TZOFFSETFROM:-0500
TZOFFSETTO:-0400
TZNAME:EDT
DTSTART:20250309T070000
END:DAYLIGHT
BEGIN:STANDARD
TZOFFSETFROM:-0400
TZOFFSETTO:-0500
TZNAME:EST
DTSTART:20251102T060000
END:STANDARD
BEGIN:DAYLIGHT
TZOFFSETFROM:-0500
TZOFFSETTO:-0400
TZNAME:EDT
DTSTART:20260308T070000
END:DAYLIGHT
BEGIN:STANDARD
TZOFFSETFROM:-0400
TZOFFSETTO:-0500
TZNAME:EST
DTSTART:20261101T060000
END:STANDARD
BEGIN:DAYLIGHT
TZOFFSETFROM:-0500
TZOFFSETTO:-0400
TZNAME:EDT
DTSTART:20270314T070000
END:DAYLIGHT
BEGIN:STANDARD
TZOFFSETFROM:-0400
TZOFFSETTO:-0500
TZNAME:EST
DTSTART:20271107T060000
END:STANDARD
END:VTIMEZONE
BEGIN:VEVENT
DTSTART;TZID=America/New_York:20260326T000000
DTEND;TZID=America/New_York:20260329T235959
DTSTAMP:20260421T051347
CREATED:20260311T173704Z
LAST-MODIFIED:20260311T173704Z
UID:10009677-1774483200-1774828799@mlwgs.com
SUMMARY:Baseball Seminar to Cooperstown\, NY (Off Campus)
DESCRIPTION:
URL:https://mlwgs.com/event/baseball-seminar-to-cooperstown-ny-off-campus-2/
CATEGORIES:Field Trip
ATTACH;FMTTYPE=image/jpeg:https://mlwgs.com/wp-content/uploads/2024/07/mag-default-image.jpg
ORGANIZER;CN="Mr. Dickson Benesh":MAILTO:dbenesh@gsgis.k12.va.us
END:VEVENT
BEGIN:VEVENT
DTSTART;TZID=America/New_York:20260326T000000
DTEND;TZID=America/New_York:20260403T235959
DTSTAMP:20260421T051347
CREATED:20251121T162003Z
LAST-MODIFIED:20251121T162003Z
UID:10007410-1774483200-1775260799@mlwgs.com
SUMMARY:Cross - Morocco (Off Campus)
DESCRIPTION:
URL:https://mlwgs.com/event/cross-morocco-off-campus/
CATEGORIES:International Travel
ATTACH;FMTTYPE=image/jpeg:https://mlwgs.com/wp-content/uploads/2024/07/mag-default-image.jpg
ORGANIZER;CN="Ms. Robinette Cross":MAILTO:rcross@gsgis.k12.va.is
END:VEVENT
BEGIN:VEVENT
DTSTART;TZID=America/New_York:20260327T000000
DTEND;TZID=America/New_York:20260403T235959
DTSTAMP:20260421T051347
CREATED:20250321T161104Z
LAST-MODIFIED:20260211T164509Z
UID:10004397-1774569600-1775260799@mlwgs.com
SUMMARY:Barnes: Belize (Off Campus)
DESCRIPTION:RSB approved March 20\, 2025
URL:https://mlwgs.com/event/belize-international-trip/
CATEGORIES:International Travel
ATTACH;FMTTYPE=image/jpeg:https://mlwgs.com/wp-content/uploads/2024/07/mag-default-image.jpg
ORGANIZER;CN="Mr. David Barnes":MAILTO:dbarnes@gsgis.k12.va.us
END:VEVENT
BEGIN:VEVENT
DTSTART;TZID=America/New_York:20260327T083000
DTEND;TZID=America/New_York:20260327T190000
DTSTAMP:20260421T051347
CREATED:20260317T135454Z
LAST-MODIFIED:20260317T135608Z
UID:10009686-1774600200-1774638000@mlwgs.com
SUMMARY:German AP Classes Field Trip to Washington\, DC
DESCRIPTION:Visiting the German Embassy
URL:https://mlwgs.com/event/german-ap-classes-field-trip-to-washington-dc/
CATEGORIES:Field Trip
ATTACH;FMTTYPE=image/jpeg:https://mlwgs.com/wp-content/uploads/2024/07/mag-default-image.jpg
ORGANIZER;CN="Ms. Kristen Macklin":MAILTO:kmacklin@gsgis.k12.va.us
END:VEVENT
BEGIN:VEVENT
DTSTART;TZID=America/New_York:20260327T084000
DTEND;TZID=America/New_York:20260327T151500
DTSTAMP:20260421T051347
CREATED:20250123T150019Z
LAST-MODIFIED:20260220T182420Z
UID:10009526-1774600800-1774624500@mlwgs.com
SUMMARY:Schedule B: All Blocks (NO ADVISORY)
DESCRIPTION:1\n08:40 AM\n09:20 AM\n40\n\n\n\n2\n09:25 AM\n10:05 AM\n40\n\n\n\n3\n10:10 AM\n10:50 AM\n40\n\n\n\n4\n10:55 AM\n11:35 AM\n40\n\n\n\n5\n12:20 PM\n01:00 PM\n40\n\n\n\n6\n01:05 PM\n01:45 PM\n40\n\n\n\n7\n01:50 PM\n02:30 PM\n40\n\n\n\n8\n02:35 PM\n03:15 PM\n40
URL:https://mlwgs.com/event/schedule-b-all-blocks-no-advisory/2026-03-27/
CATEGORIES:Academics
ATTACH;FMTTYPE=image/jpeg:https://mlwgs.com/wp-content/uploads/2024/07/mag-default-image.jpg
END:VEVENT
BEGIN:VEVENT
DTSTART;TZID=America/New_York:20260327T100000
DTEND;TZID=America/New_York:20260327T113000
DTSTAMP:20260421T051347
CREATED:20250603T134100Z
LAST-MODIFIED:20250603T134100Z
UID:10005075-1774605600-1774611000@mlwgs.com
SUMMARY:Mentorship Class (Forum)
DESCRIPTION:
URL:https://mlwgs.com/event/mentorship-class-forum-14/2026-03-27/1/
LOCATION:MLWGS Forum
CATEGORIES:Academics
ATTACH;FMTTYPE=image/jpeg:https://mlwgs.com/wp-content/uploads/2024/07/mag-default-image.jpg
ORGANIZER;CN="Mr. Les Cook":MAILTO:tcook@gsgis.k12.va.us
END:VEVENT
BEGIN:VEVENT
DTSTART;TZID=America/New_York:20260327T135000
DTEND;TZID=America/New_York:20260327T151500
DTSTAMP:20260421T051347
CREATED:20250603T134100Z
LAST-MODIFIED:20250603T134100Z
UID:10005076-1774619400-1774624500@mlwgs.com
SUMMARY:Mentorship Class (Forum)
DESCRIPTION:
URL:https://mlwgs.com/event/mentorship-class-forum-14/2026-03-27/2/
LOCATION:MLWGS Forum
CATEGORIES:Academics
ATTACH;FMTTYPE=image/jpeg:https://mlwgs.com/wp-content/uploads/2024/07/mag-default-image.jpg
ORGANIZER;CN="Mr. Les Cook":MAILTO:tcook@gsgis.k12.va.us
END:VEVENT
BEGIN:VEVENT
DTSTART;TZID=America/New_York:20260327T170000
DTEND;TZID=America/New_York:20260329T180000
DTSTAMP:20260421T051347
CREATED:20251111T181159Z
LAST-MODIFIED:20251111T181715Z
UID:10007402-1774630800-1774807200@mlwgs.com
SUMMARY:FCH District Blacksburg Event - Robotics Competition (Off Campus)
DESCRIPTION:https://www.thebluealliance.com/event/2026vabla \nhttps://www.firstchesapeake.org/event/frc/2026/vabla
URL:https://mlwgs.com/event/fch-district-blacksburg-event-robotics-competition/
CATEGORIES:Competition Event
ATTACH;FMTTYPE=image/jpeg:https://mlwgs.com/wp-content/uploads/2024/07/mag-default-image.jpg
ORGANIZER;CN="Mr. Mark Sailer":MAILTO:msailer@gsgis.k12.va.us
END:VEVENT
END:VCALENDAR