BEGIN:VCALENDAR
VERSION:2.0
PRODID:-//Maggie L. Walker Governor&#039;s School - ECPv6.15.17.1//NONSGML v1.0//EN
CALSCALE:GREGORIAN
METHOD:PUBLISH
X-WR-CALNAME:Maggie L. Walker Governor&#039;s School
X-ORIGINAL-URL:https://mlwgs.com
X-WR-CALDESC:Events for Maggie L. Walker Governor&#039;s School
REFRESH-INTERVAL;VALUE=DURATION:PT1H
X-Robots-Tag:noindex
X-PUBLISHED-TTL:PT1H
BEGIN:VTIMEZONE
TZID:America/New_York
BEGIN:DAYLIGHT
TZOFFSETFROM:-0500
TZOFFSETTO:-0400
TZNAME:EDT
DTSTART:20240310T070000
END:DAYLIGHT
BEGIN:STANDARD
TZOFFSETFROM:-0400
TZOFFSETTO:-0500
TZNAME:EST
DTSTART:20241103T060000
END:STANDARD
BEGIN:DAYLIGHT
TZOFFSETFROM:-0500
TZOFFSETTO:-0400
TZNAME:EDT
DTSTART:20250309T070000
END:DAYLIGHT
BEGIN:STANDARD
TZOFFSETFROM:-0400
TZOFFSETTO:-0500
TZNAME:EST
DTSTART:20251102T060000
END:STANDARD
BEGIN:DAYLIGHT
TZOFFSETFROM:-0500
TZOFFSETTO:-0400
TZNAME:EDT
DTSTART:20260308T070000
END:DAYLIGHT
BEGIN:STANDARD
TZOFFSETFROM:-0400
TZOFFSETTO:-0500
TZNAME:EST
DTSTART:20261101T060000
END:STANDARD
BEGIN:DAYLIGHT
TZOFFSETFROM:-0500
TZOFFSETTO:-0400
TZNAME:EDT
DTSTART:20270314T070000
END:DAYLIGHT
BEGIN:STANDARD
TZOFFSETFROM:-0400
TZOFFSETTO:-0500
TZNAME:EST
DTSTART:20271107T060000
END:STANDARD
END:VTIMEZONE
BEGIN:VEVENT
DTSTART;TZID=America/New_York:20260408T180000
DTEND;TZID=America/New_York:20260408T200000
DTSTAMP:20260419T093752
CREATED:20250801T182240Z
LAST-MODIFIED:20250801T182330Z
UID:10005618-1775671200-1775678400@mlwgs.com
SUMMARY:New Student Registration (MLWGS)
DESCRIPTION:
URL:https://mlwgs.com/event/new-student-registration-mlwgs/
CATEGORIES:Admissions or Middle School Visits
ATTACH;FMTTYPE=image/jpeg:https://mlwgs.com/wp-content/uploads/2024/07/mag-default-image.jpg
ORGANIZER;CN="Ms. Joy Cobb":MAILTO:jcobb@gsgis.k12.va.us
END:VEVENT
BEGIN:VEVENT
DTSTART;TZID=America/New_York:20260324T100000
DTEND;TZID=America/New_York:20260324T140000
DTSTAMP:20260419T093752
CREATED:20250812T140656Z
LAST-MODIFIED:20250812T140656Z
UID:10005752-1774346400-1774360800@mlwgs.com
SUMMARY:Admission Appeals Hearing (Rm 153)
DESCRIPTION:Planning Committee
URL:https://mlwgs.com/event/admission-appeals-hearing-rm-153/
LOCATION:MLWGS Room 153
CATEGORIES:Admissions or Middle School Visits
ATTACH;FMTTYPE=image/jpeg:https://mlwgs.com/wp-content/uploads/2024/07/mag-default-image.jpg
END:VEVENT
BEGIN:VEVENT
DTSTART;TZID=America/New_York:20260321T083000
DTEND;TZID=America/New_York:20260321T120000
DTSTAMP:20260419T093752
CREATED:20260223T190805Z
LAST-MODIFIED:20260303T152155Z
UID:10009533-1774081800-1774094400@mlwgs.com
SUMMARY:Skills Assessments for Incoming Freshmen (MLWGS)
DESCRIPTION:Check-in starts at 8:30 am.  Testing starts at 9:00 am. \nAssessments for the Class of 2030 \nThis document contains important info on skills assessment for languages\, math\, and fine arts. Each 8th-grader present at Future Dragon Days will receive a hard copy of this handout.
URL:https://mlwgs.com/event/skills-assessments-for-incoming-freshmen-mlwgs/
CATEGORIES:Admissions or Middle School Visits
ATTACH;FMTTYPE=image/jpeg:https://mlwgs.com/wp-content/uploads/2024/07/mag-default-image.jpg
ORGANIZER;CN="Mr. Michael White":MAILTO:mwhite@gsgis.k12.va.us
END:VEVENT
BEGIN:VEVENT
DTSTART;TZID=America/New_York:20260313T083000
DTEND;TZID=America/New_York:20260313T150000
DTSTAMP:20260419T093752
CREATED:20260116T172441Z
LAST-MODIFIED:20260116T172441Z
UID:10009376-1773390600-1773414000@mlwgs.com
SUMMARY:Future Dragon Day - Richmond Students
DESCRIPTION:Future Dragon Days are when we host the 8th graders who have been accepted to our school.  Basically\, they come live a day in the life of a MLWGS student and use their experience to help decide if they are going to accept the invitation to join our Dragon Nation.
URL:https://mlwgs.com/event/future-dragon-day-richmond-students/
CATEGORIES:Admissions or Middle School Visits
ATTACH;FMTTYPE=image/jpeg:https://mlwgs.com/wp-content/uploads/2024/07/mag-default-image.jpg
END:VEVENT
BEGIN:VEVENT
DTSTART;TZID=America/New_York:20260312T090000
DTEND;TZID=America/New_York:20260312T143000
DTSTAMP:20260419T093752
CREATED:20260123T182733Z
LAST-MODIFIED:20260123T182733Z
UID:10009384-1773306000-1773325800@mlwgs.com
SUMMARY:VIRTUAL Course Registration for Returning Students in AY27
DESCRIPTION:Counselors will be meeting with all students about their schedules during February and March and will be providing students with copies of the necessary forms during this meeting. The Course Registration Form will require parent signatures and possibly teacher signatures for advanced courses. Rising juniors and seniors who plan to take one or more Dual Enrollment courses through Virginia Commonwealth University must complete the VCU Dual Enrollment packet which contains three forms\, each requiring a student and parent signature. Students must turn in their completed/signed forms (including VCU forms\, if applicable\, to register for classes in PowerSchool that day.
URL:https://mlwgs.com/event/virtual-course-registration-for-returning-students-in-ay27/
CATEGORIES:Admissions or Middle School Visits
ATTACH;FMTTYPE=image/jpeg:https://mlwgs.com/wp-content/uploads/2024/07/mag-default-image.jpg
ORGANIZER;CN="Ms. Joy Cobb":MAILTO:jcobb@gsgis.k12.va.us
END:VEVENT
BEGIN:VEVENT
DTSTART;TZID=America/New_York:20260311T083000
DTEND;TZID=America/New_York:20260311T150000
DTSTAMP:20260419T093752
CREATED:20260116T172323Z
LAST-MODIFIED:20260116T172323Z
UID:10009375-1773217800-1773241200@mlwgs.com
SUMMARY:Future Dragon Day - Chesterfield Students
DESCRIPTION:Future Dragon Days are when we host the 8th graders who have been accepted to our school.  Basically\, they come live a day in the life of a MLWGS student and use their experience to help decide if they are going to accept the invitation to join our Dragon Nation.
URL:https://mlwgs.com/event/future-dragon-day-chesterfield-students/
CATEGORIES:Admissions or Middle School Visits
ATTACH;FMTTYPE=image/jpeg:https://mlwgs.com/wp-content/uploads/2024/07/mag-default-image.jpg
END:VEVENT
BEGIN:VEVENT
DTSTART;TZID=America/New_York:20260310T083000
DTEND;TZID=America/New_York:20260310T150000
DTSTAMP:20260419T093752
CREATED:20260116T172213Z
LAST-MODIFIED:20260116T172213Z
UID:10009374-1773131400-1773154800@mlwgs.com
SUMMARY:Future Dragon Day - Charles City\, Colonial Heights\, Dinwiddie\, Goochland\, Hanover\, Hopewell\, King & Queen\, New Kent\, Petersburg\, Powhatan and Prince George Students
DESCRIPTION:Future Dragon Days are when we host the 8th graders who have been accepted to our school.  Basically\, they come live a day in the life of a MLWGS student and use their experience to help decide if they are going to accept the invitation to join our Dragon Nation.
URL:https://mlwgs.com/event/future-dragon-day-charles-city-colonial-heights-dinwiddie-goochland-hanover-hopewell-king-queen-new-kent-petersburg-powhatan-and-prince-george-students/
CATEGORIES:Admissions or Middle School Visits
ATTACH;FMTTYPE=image/jpeg:https://mlwgs.com/wp-content/uploads/2024/07/mag-default-image.jpg
END:VEVENT
BEGIN:VEVENT
DTSTART;TZID=America/New_York:20260306T083000
DTEND;TZID=America/New_York:20260306T150000
DTSTAMP:20260419T093752
CREATED:20260116T172014Z
LAST-MODIFIED:20260116T172230Z
UID:10009373-1772785800-1772809200@mlwgs.com
SUMMARY:Future Dragon Day - Henrico Students
DESCRIPTION:Future Dragon Days are when we host the 8th graders who have been accepted to our school.  Basically\, they come live a day in the life of a MLWGS student and use their experience to help decide if they are going to accept the invitation to join our Dragon Nation.
URL:https://mlwgs.com/event/future-dragon-days-henrico-students/
CATEGORIES:Admissions or Middle School Visits
ATTACH;FMTTYPE=image/jpeg:https://mlwgs.com/wp-content/uploads/2024/07/mag-default-image.jpg
END:VEVENT
BEGIN:VEVENT
DTSTART;TZID=America/New_York:20260205T073000
DTEND;TZID=America/New_York:20260205T120000
DTSTAMP:20260419T093752
CREATED:20260202T141703Z
LAST-MODIFIED:20260202T141703Z
UID:10009389-1770276600-1770292800@mlwgs.com
SUMMARY:Make-up Testing (Rms 104\, 105\, 153 & BB)
DESCRIPTION:Dr. Loving
URL:https://mlwgs.com/event/make-up-testing-rms-104-105-153-bb/
LOCATION:MLWGS\, 1000 N. Lombardy St.\, Richmond\, 23113\, United States
CATEGORIES:Admissions or Middle School Visits
ATTACH;FMTTYPE=image/jpeg:https://mlwgs.com/wp-content/uploads/2024/07/mag-default-image.jpg
END:VEVENT
BEGIN:VEVENT
DTSTART;TZID=America/New_York:20260205T000000
DTEND;TZID=America/New_York:20260205T235959
DTSTAMP:20260419T093752
CREATED:20250812T140447Z
LAST-MODIFIED:20260105T192441Z
UID:10005751-1770249600-1770335999@mlwgs.com
SUMMARY:Regional Evaluation Day (Brightpoint-Chester)
DESCRIPTION:
URL:https://mlwgs.com/event/regional-evaluation-day-location-tbd/
CATEGORIES:Admissions or Middle School Visits
ATTACH;FMTTYPE=image/jpeg:https://mlwgs.com/wp-content/uploads/2024/07/mag-default-image.jpg
END:VEVENT
BEGIN:VEVENT
DTSTART;TZID=America/New_York:20260131T080000
DTEND;TZID=America/New_York:20260131T170000
DTSTAMP:20260419T093752
CREATED:20250530T140631Z
LAST-MODIFIED:20250530T140631Z
UID:10004533-1769846400-1769878800@mlwgs.com
SUMMARY:New Student Assessment Day Snow Date
DESCRIPTION:
URL:https://mlwgs.com/event/new-student-assessment-day-snow-date/
CATEGORIES:Admissions or Middle School Visits
ATTACH;FMTTYPE=image/jpeg:https://mlwgs.com/wp-content/uploads/2024/07/mag-default-image.jpg
END:VEVENT
BEGIN:VEVENT
DTSTART;TZID=America/New_York:20260124T080000
DTEND;TZID=America/New_York:20260124T163000
DTSTAMP:20260419T093752
CREATED:20250530T140545Z
LAST-MODIFIED:20260105T190132Z
UID:10004532-1769241600-1769272200@mlwgs.com
SUMMARY:New Student Assessment Day
DESCRIPTION:
URL:https://mlwgs.com/event/new-student-assessment-day/
CATEGORIES:Admissions or Middle School Visits
ATTACH;FMTTYPE=image/jpeg:https://mlwgs.com/wp-content/uploads/2024/07/mag-default-image.jpg
END:VEVENT
BEGIN:VEVENT
DTSTART;TZID=America/New_York:20251025T080000
DTEND;TZID=America/New_York:20251025T150000
DTSTAMP:20260419T093752
CREATED:20250530T192452Z
LAST-MODIFIED:20250929T123043Z
UID:10004564-1761379200-1761404400@mlwgs.com
SUMMARY:Information Forum for Prospective Students
DESCRIPTION:Saturday Open House–1 hour and 30 minutes for each session  \nInformation Forum for prospective students and parents at MLWGS. \n8 AM – Hanover and Richmond families\n10 AM – Colonial Heights\, Dinwiddie\, Henrico\, Hopewell\, King & Queen\, Petersburg\,\nPrince George families\n1 PM – Charles City\, Chesterfield\, Goochland\, New Kent\, and Powhatan families \nThe program will start in the auditorium.  That session includes a welcome\, academics\, and support services.  Families will then transition to the cafeteria & commons for an exploration of student life\, clubs\, and athletics (Expo style).  The final part will be a session in classrooms with current students\, teachers\, and parents.
URL:https://mlwgs.com/event/information-forum-for-prospective-students-2/
LOCATION:MLWGS\, 1000 N. Lombardy St.\, Richmond\, 23113\, United States
CATEGORIES:Admissions or Middle School Visits
ATTACH;FMTTYPE=image/jpeg:https://mlwgs.com/wp-content/uploads/2024/07/mag-default-image.jpg
END:VEVENT
BEGIN:VEVENT
DTSTART;TZID=America/New_York:20251015T134500
DTEND;TZID=America/New_York:20251015T151500
DTSTAMP:20260419T093752
CREATED:20250819T183238Z
LAST-MODIFIED:20250819T183238Z
UID:10005881-1760535900-1760541300@mlwgs.com
SUMMARY:RPS: Henderson MS (Off Campus)
DESCRIPTION:
URL:https://mlwgs.com/event/rps-henderson-ms-off-campus/
CATEGORIES:Admissions or Middle School Visits
ATTACH;FMTTYPE=image/jpeg:https://mlwgs.com/wp-content/uploads/2024/07/mag-default-image.jpg
END:VEVENT
BEGIN:VEVENT
DTSTART;TZID=America/New_York:20251015T104500
DTEND;TZID=America/New_York:20251015T122000
DTSTAMP:20260419T093752
CREATED:20250819T183131Z
LAST-MODIFIED:20250819T183131Z
UID:10005880-1760525100-1760530800@mlwgs.com
SUMMARY:RPS: Franklin Military MS (Off Campus)
DESCRIPTION:
URL:https://mlwgs.com/event/rps-franklin-military-ms-off-campus/
CATEGORIES:Admissions or Middle School Visits
ATTACH;FMTTYPE=image/jpeg:https://mlwgs.com/wp-content/uploads/2024/07/mag-default-image.jpg
END:VEVENT
BEGIN:VEVENT
DTSTART;TZID=America/New_York:20251014T143000
DTEND;TZID=America/New_York:20251014T160000
DTSTAMP:20260419T093752
CREATED:20250819T183023Z
LAST-MODIFIED:20250819T183023Z
UID:10005879-1760452200-1760457600@mlwgs.com
SUMMARY:RPS: River City MS (Off Campus)
DESCRIPTION:
URL:https://mlwgs.com/event/rps-river-city-ms-off-campus/
CATEGORIES:Admissions or Middle School Visits
ATTACH;FMTTYPE=image/jpeg:https://mlwgs.com/wp-content/uploads/2024/07/mag-default-image.jpg
END:VEVENT
BEGIN:VEVENT
DTSTART;TZID=America/New_York:20251014T101000
DTEND;TZID=America/New_York:20251014T113000
DTSTAMP:20260419T093752
CREATED:20250819T182925Z
LAST-MODIFIED:20250819T182925Z
UID:10005878-1760436600-1760441400@mlwgs.com
SUMMARY:RPS: MLK MS (Off Campus)
DESCRIPTION:
URL:https://mlwgs.com/event/rps-mlk-ms-off-campus/
CATEGORIES:Admissions or Middle School Visits
ATTACH;FMTTYPE=image/jpeg:https://mlwgs.com/wp-content/uploads/2024/07/mag-default-image.jpg
END:VEVENT
BEGIN:VEVENT
DTSTART;TZID=America/New_York:20251013T180000
DTEND;TZID=America/New_York:20251013T190000
DTSTAMP:20260419T093752
CREATED:20250911T235603Z
LAST-MODIFIED:20250911T235625Z
UID:10007230-1760378400-1760382000@mlwgs.com
SUMMARY:Hopewell MS Visit at Woodson (Off Campus)
DESCRIPTION:
URL:https://mlwgs.com/event/hopewell-ms-visit-off-campus/
CATEGORIES:Admissions or Middle School Visits
ATTACH;FMTTYPE=image/jpeg:https://mlwgs.com/wp-content/uploads/2024/07/mag-default-image.jpg
END:VEVENT
BEGIN:VEVENT
DTSTART;TZID=America/New_York:20251010T134500
DTEND;TZID=America/New_York:20251010T151500
DTSTAMP:20260419T093752
CREATED:20250819T182825Z
LAST-MODIFIED:20250819T182825Z
UID:10005877-1760103900-1760109300@mlwgs.com
SUMMARY:RPS: Lucille Brown MS (Off Campus)
DESCRIPTION:
URL:https://mlwgs.com/event/rps-lucille-brown-ms-off-campus/
CATEGORIES:Admissions or Middle School Visits
ATTACH;FMTTYPE=image/jpeg:https://mlwgs.com/wp-content/uploads/2024/07/mag-default-image.jpg
END:VEVENT
BEGIN:VEVENT
DTSTART;TZID=America/New_York:20251010T101000
DTEND;TZID=America/New_York:20251010T113000
DTSTAMP:20260419T093752
CREATED:20250819T182711Z
LAST-MODIFIED:20250819T182711Z
UID:10005876-1760091000-1760095800@mlwgs.com
SUMMARY:RPS: Albert Hill MS (Off Campus)
DESCRIPTION:
URL:https://mlwgs.com/event/rps-albert-hill-ms-off-campus/
CATEGORIES:Admissions or Middle School Visits
ATTACH;FMTTYPE=image/jpeg:https://mlwgs.com/wp-content/uploads/2024/07/mag-default-image.jpg
END:VEVENT
BEGIN:VEVENT
DTSTART;TZID=America/New_York:20251009T134500
DTEND;TZID=America/New_York:20251009T151500
DTSTAMP:20260419T093752
CREATED:20250819T182603Z
LAST-MODIFIED:20250819T182603Z
UID:10005875-1760017500-1760022900@mlwgs.com
SUMMARY:RPS: Boushall MS (Off Campus)
DESCRIPTION:
URL:https://mlwgs.com/event/rps-boushall-ms-off-campus/
CATEGORIES:Admissions or Middle School Visits
ATTACH;FMTTYPE=image/jpeg:https://mlwgs.com/wp-content/uploads/2024/07/mag-default-image.jpg
END:VEVENT
BEGIN:VEVENT
DTSTART;TZID=America/New_York:20251009T100000
DTEND;TZID=America/New_York:20251009T113000
DTSTAMP:20260419T093752
CREATED:20250819T182457Z
LAST-MODIFIED:20250819T182457Z
UID:10005874-1760004000-1760009400@mlwgs.com
SUMMARY:RPS: Dogwood MS (Off Campus)
DESCRIPTION:
URL:https://mlwgs.com/event/rps-dogwood-ms-off-campus/
CATEGORIES:Admissions or Middle School Visits
ATTACH;FMTTYPE=image/jpeg:https://mlwgs.com/wp-content/uploads/2024/07/mag-default-image.jpg
END:VEVENT
BEGIN:VEVENT
DTSTART;TZID=America/New_York:20251008T183000
DTEND;TZID=America/New_York:20251008T193000
DTSTAMP:20260419T093752
CREATED:20250911T235716Z
LAST-MODIFIED:20250911T235716Z
UID:10007231-1759948200-1759951800@mlwgs.com
SUMMARY:Chesterfield HS Fair at Monacan HS (Off Campus)
DESCRIPTION:
URL:https://mlwgs.com/event/chesterfield-hs-fair-at-monacan-hs-off-campus/
CATEGORIES:Admissions or Middle School Visits
ATTACH;FMTTYPE=image/jpeg:https://mlwgs.com/wp-content/uploads/2024/07/mag-default-image.jpg
END:VEVENT
BEGIN:VEVENT
DTSTART;TZID=America/New_York:20250930T183000
DTEND;TZID=America/New_York:20250930T193000
DTSTAMP:20260419T093752
CREATED:20250911T234433Z
LAST-MODIFIED:20250911T234433Z
UID:10007229-1759257000-1759260600@mlwgs.com
SUMMARY:Chesterfield HS Fair at Bird (Off Campus)
DESCRIPTION:
URL:https://mlwgs.com/event/chesterfield-hs-fair-at-bird-off-campus/
CATEGORIES:Admissions or Middle School Visits
ATTACH;FMTTYPE=image/jpeg:https://mlwgs.com/wp-content/uploads/2024/07/mag-default-image.jpg
END:VEVENT
BEGIN:VEVENT
DTSTART;TZID=America/New_York:20250930T180000
DTEND;TZID=America/New_York:20250930T200000
DTSTAMP:20260419T093752
CREATED:20250730T171447Z
LAST-MODIFIED:20250730T171447Z
UID:10005594-1759255200-1759262400@mlwgs.com
SUMMARY:Goochland HS Expo
DESCRIPTION:
URL:https://mlwgs.com/event/goochland-hs-expo/
CATEGORIES:Admissions or Middle School Visits
ATTACH;FMTTYPE=image/jpeg:https://mlwgs.com/wp-content/uploads/2024/07/mag-default-image.jpg
END:VEVENT
BEGIN:VEVENT
DTSTART;TZID=America/New_York:20250930T173000
DTEND;TZID=America/New_York:20250930T183000
DTSTAMP:20260419T093752
CREATED:20250911T234330Z
LAST-MODIFIED:20250915T213149Z
UID:10007228-1759253400-1759257000@mlwgs.com
SUMMARY:Virtual Henrico Information Night (Online)
DESCRIPTION:
URL:https://mlwgs.com/event/virtual-henrico-hs-fair-online/
CATEGORIES:Admissions or Middle School Visits
ATTACH;FMTTYPE=image/jpeg:https://mlwgs.com/wp-content/uploads/2024/07/mag-default-image.jpg
END:VEVENT
BEGIN:VEVENT
DTSTART;TZID=America/New_York:20250924T160000
DTEND;TZID=America/New_York:20250924T163000
DTSTAMP:20260419T093752
CREATED:20250911T234240Z
LAST-MODIFIED:20250911T234240Z
UID:10007227-1758729600-1758731400@mlwgs.com
SUMMARY:St. Joseph's MS Visit-Powhatan (Off Campus)
DESCRIPTION:
URL:https://mlwgs.com/event/st-josephs-ms-visit-powhatan-off-campus/
CATEGORIES:Admissions or Middle School Visits
ATTACH;FMTTYPE=image/jpeg:https://mlwgs.com/wp-content/uploads/2024/07/mag-default-image.jpg
END:VEVENT
BEGIN:VEVENT
DTSTART;TZID=America/New_York:20250923T170000
DTEND;TZID=America/New_York:20250923T190000
DTSTAMP:20260419T093752
CREATED:20250911T231840Z
LAST-MODIFIED:20250911T231840Z
UID:10007226-1758646800-1758654000@mlwgs.com
SUMMARY:Powhatan HS Fair at Powhatan HS (Off Campus)
DESCRIPTION:
URL:https://mlwgs.com/event/powhatan-hs-fair-at-powhatan-hs-off-campus/
CATEGORIES:Admissions or Middle School Visits
ATTACH;FMTTYPE=image/jpeg:https://mlwgs.com/wp-content/uploads/2024/07/mag-default-image.jpg
END:VEVENT
BEGIN:VEVENT
DTSTART;TZID=America/New_York:20250918T180000
DTEND;TZID=America/New_York:20250918T193000
DTSTAMP:20260419T093752
CREATED:20250730T171233Z
LAST-MODIFIED:20250730T171233Z
UID:10005593-1758218400-1758223800@mlwgs.com
SUMMARY:Prince George HS Expo (Off Campus)
DESCRIPTION:
URL:https://mlwgs.com/event/prince-george-hs-expo-off-campus/
CATEGORIES:Admissions or Middle School Visits
ATTACH;FMTTYPE=image/jpeg:https://mlwgs.com/wp-content/uploads/2024/07/mag-default-image.jpg
ORGANIZER;CN="Dr. Michael Smith":MAILTO:msmith@gsgis,k12.va.us
END:VEVENT
BEGIN:VEVENT
DTSTART;TZID=America/New_York:20250916T100000
DTEND;TZID=America/New_York:20250916T120000
DTSTAMP:20260419T093752
CREATED:20250812T140316Z
LAST-MODIFIED:20250812T140316Z
UID:10005750-1758016800-1758024000@mlwgs.com
SUMMARY:Planning Committee Meeting (Rm 153)
DESCRIPTION:
URL:https://mlwgs.com/event/planning-committee-meeting-rm-153/
LOCATION:MLWGS Room 153
CATEGORIES:Admissions or Middle School Visits
ATTACH;FMTTYPE=image/jpeg:https://mlwgs.com/wp-content/uploads/2024/07/mag-default-image.jpg
END:VEVENT
END:VCALENDAR