BEGIN:VCALENDAR
VERSION:2.0
PRODID:-//Maggie L. Walker Governor&#039;s School - ECPv6.15.17.1//NONSGML v1.0//EN
CALSCALE:GREGORIAN
METHOD:PUBLISH
X-WR-CALNAME:Maggie L. Walker Governor&#039;s School
X-ORIGINAL-URL:https://mlwgs.com
X-WR-CALDESC:Events for Maggie L. Walker Governor&#039;s School
REFRESH-INTERVAL;VALUE=DURATION:PT1H
X-Robots-Tag:noindex
X-PUBLISHED-TTL:PT1H
BEGIN:VTIMEZONE
TZID:America/New_York
BEGIN:DAYLIGHT
TZOFFSETFROM:-0500
TZOFFSETTO:-0400
TZNAME:EDT
DTSTART:20230312T070000
END:DAYLIGHT
BEGIN:STANDARD
TZOFFSETFROM:-0400
TZOFFSETTO:-0500
TZNAME:EST
DTSTART:20231105T060000
END:STANDARD
BEGIN:DAYLIGHT
TZOFFSETFROM:-0500
TZOFFSETTO:-0400
TZNAME:EDT
DTSTART:20240310T070000
END:DAYLIGHT
BEGIN:STANDARD
TZOFFSETFROM:-0400
TZOFFSETTO:-0500
TZNAME:EST
DTSTART:20241103T060000
END:STANDARD
BEGIN:DAYLIGHT
TZOFFSETFROM:-0500
TZOFFSETTO:-0400
TZNAME:EDT
DTSTART:20250309T070000
END:DAYLIGHT
BEGIN:STANDARD
TZOFFSETFROM:-0400
TZOFFSETTO:-0500
TZNAME:EST
DTSTART:20251102T060000
END:STANDARD
BEGIN:DAYLIGHT
TZOFFSETFROM:-0500
TZOFFSETTO:-0400
TZNAME:EDT
DTSTART:20260308T070000
END:DAYLIGHT
BEGIN:STANDARD
TZOFFSETFROM:-0400
TZOFFSETTO:-0500
TZNAME:EST
DTSTART:20261101T060000
END:STANDARD
END:VTIMEZONE
BEGIN:VEVENT
DTSTART;TZID=America/New_York:20250930T173000
DTEND;TZID=America/New_York:20250930T183000
DTSTAMP:20260419T182252
CREATED:20250911T234330Z
LAST-MODIFIED:20250915T213149Z
UID:10007228-1759253400-1759257000@mlwgs.com
SUMMARY:Virtual Henrico Information Night (Online)
DESCRIPTION:
URL:https://mlwgs.com/event/virtual-henrico-hs-fair-online/
CATEGORIES:Admissions or Middle School Visits
ATTACH;FMTTYPE=image/jpeg:https://mlwgs.com/wp-content/uploads/2024/07/mag-default-image.jpg
END:VEVENT
BEGIN:VEVENT
DTSTART;TZID=America/New_York:20250924T160000
DTEND;TZID=America/New_York:20250924T163000
DTSTAMP:20260419T182252
CREATED:20250911T234240Z
LAST-MODIFIED:20250911T234240Z
UID:10007227-1758729600-1758731400@mlwgs.com
SUMMARY:St. Joseph's MS Visit-Powhatan (Off Campus)
DESCRIPTION:
URL:https://mlwgs.com/event/st-josephs-ms-visit-powhatan-off-campus/
CATEGORIES:Admissions or Middle School Visits
ATTACH;FMTTYPE=image/jpeg:https://mlwgs.com/wp-content/uploads/2024/07/mag-default-image.jpg
END:VEVENT
BEGIN:VEVENT
DTSTART;TZID=America/New_York:20250923T170000
DTEND;TZID=America/New_York:20250923T190000
DTSTAMP:20260419T182252
CREATED:20250911T231840Z
LAST-MODIFIED:20250911T231840Z
UID:10007226-1758646800-1758654000@mlwgs.com
SUMMARY:Powhatan HS Fair at Powhatan HS (Off Campus)
DESCRIPTION:
URL:https://mlwgs.com/event/powhatan-hs-fair-at-powhatan-hs-off-campus/
CATEGORIES:Admissions or Middle School Visits
ATTACH;FMTTYPE=image/jpeg:https://mlwgs.com/wp-content/uploads/2024/07/mag-default-image.jpg
END:VEVENT
BEGIN:VEVENT
DTSTART;TZID=America/New_York:20250918T180000
DTEND;TZID=America/New_York:20250918T193000
DTSTAMP:20260419T182252
CREATED:20250730T171233Z
LAST-MODIFIED:20250730T171233Z
UID:10005593-1758218400-1758223800@mlwgs.com
SUMMARY:Prince George HS Expo (Off Campus)
DESCRIPTION:
URL:https://mlwgs.com/event/prince-george-hs-expo-off-campus/
CATEGORIES:Admissions or Middle School Visits
ATTACH;FMTTYPE=image/jpeg:https://mlwgs.com/wp-content/uploads/2024/07/mag-default-image.jpg
ORGANIZER;CN="Dr. Michael Smith":MAILTO:msmith@gsgis,k12.va.us
END:VEVENT
BEGIN:VEVENT
DTSTART;TZID=America/New_York:20250916T100000
DTEND;TZID=America/New_York:20250916T120000
DTSTAMP:20260419T182252
CREATED:20250812T140316Z
LAST-MODIFIED:20250812T140316Z
UID:10005750-1758016800-1758024000@mlwgs.com
SUMMARY:Planning Committee Meeting (Rm 153)
DESCRIPTION:
URL:https://mlwgs.com/event/planning-committee-meeting-rm-153/
LOCATION:MLWGS Room 153
CATEGORIES:Admissions or Middle School Visits
ATTACH;FMTTYPE=image/jpeg:https://mlwgs.com/wp-content/uploads/2024/07/mag-default-image.jpg
END:VEVENT
BEGIN:VEVENT
DTSTART;TZID=America/New_York:20250911T173000
DTEND;TZID=America/New_York:20250911T203000
DTSTAMP:20260419T182252
CREATED:20250812T141325Z
LAST-MODIFIED:20250812T141325Z
UID:10005754-1757611800-1757622600@mlwgs.com
SUMMARY:Henrico: High School Fair at Tucker HS
DESCRIPTION:
URL:https://mlwgs.com/event/henrico-high-school-fair-at-tucker-hs/
CATEGORIES:Admissions or Middle School Visits
ATTACH;FMTTYPE=image/jpeg:https://mlwgs.com/wp-content/uploads/2024/07/mag-default-image.jpg
END:VEVENT
BEGIN:VEVENT
DTSTART;TZID=America/New_York:20250906T110000
DTEND;TZID=America/New_York:20250906T140000
DTSTAMP:20260419T182252
CREATED:20250819T182236Z
LAST-MODIFIED:20250819T182236Z
UID:10005873-1757156400-1757167200@mlwgs.com
SUMMARY:Henrico: HS Fair at Highland Springs (Off Campus)
DESCRIPTION:
URL:https://mlwgs.com/event/henrico-hs-fair-at-highland-springs-off-campus/
CATEGORIES:Admissions or Middle School Visits
ATTACH;FMTTYPE=image/jpeg:https://mlwgs.com/wp-content/uploads/2024/07/mag-default-image.jpg
ORGANIZER;CN="Dr. Michael Smith":MAILTO:msmith@gsgis,k12.va.us
END:VEVENT
BEGIN:VEVENT
DTSTART;TZID=America/New_York:20250709T090000
DTEND;TZID=America/New_York:20250709T130000
DTSTAMP:20260419T182252
CREATED:20240627T153733Z
LAST-MODIFIED:20240627T162354Z
UID:10000203-1752051600-1752066000@mlwgs.com
SUMMARY:New Student Assessment (Room 153)
DESCRIPTION:
URL:https://mlwgs.com/event/new-student-assessment-room-153/
LOCATION:MLWGS Room 153
CATEGORIES:Admissions or Middle School Visits
ATTACH;FMTTYPE=image/jpeg:https://mlwgs.com/wp-content/uploads/2024/07/mag-default-image.jpg
END:VEVENT
BEGIN:VEVENT
DTSTART;TZID=America/New_York:20250419T083000
DTEND;TZID=America/New_York:20250419T120000
DTSTAMP:20260419T182252
CREATED:20250303T192106Z
LAST-MODIFIED:20250320T194539Z
UID:10004321-1745051400-1745064000@mlwgs.com
SUMMARY:MLWGS Dare to be a Dragon
DESCRIPTION:We anticipate 200 fifth graders from all 14 partnering divisions are invited to Maggie L. Walker Governor’s School on Saturday\, April 19th to attend 6 exciting workshops on coding\, math\, languages\, art\, drama\, creative writing\, and more! Note: Gifted coordinators from our partnering divisions agreed to a specific number of invitations based on their current number of seats. \nA special shout-out to the teachers and student leaders who have volunteered their time for one of our amazing sessions\, and also fun activities\, like face-painting and balloon animals\, during the break.
URL:https://mlwgs.com/event/hold-for-mlwgs-dare-to-be-a-dragon/
CATEGORIES:Admissions or Middle School Visits
ATTACH;FMTTYPE=image/jpeg:https://mlwgs.com/wp-content/uploads/2024/07/mag-default-image.jpg
ORGANIZER;CN="Dr. Michael Smith":MAILTO:msmith@gsgis,k12.va.us
END:VEVENT
BEGIN:VEVENT
DTSTART;TZID=America/New_York:20250326T180000
DTEND;TZID=America/New_York:20250326T200000
DTSTAMP:20260419T182252
CREATED:20240627T153718Z
LAST-MODIFIED:20240730T160819Z
UID:10000199-1743012000-1743019200@mlwgs.com
SUMMARY:New Student Registration
DESCRIPTION:
URL:https://mlwgs.com/event/new-student-registration/
LOCATION:MLWGS\, 1000 N. Lombardy St.\, Richmond\, 23113\, United States
CATEGORIES:Admissions or Middle School Visits
ATTACH;FMTTYPE=image/jpeg:https://mlwgs.com/wp-content/uploads/2024/07/logo_color-1.jpg
END:VEVENT
BEGIN:VEVENT
DTSTART;TZID=America/New_York:20250322T083000
DTEND;TZID=America/New_York:20250322T123000
DTSTAMP:20260419T182252
CREATED:20250121T165046Z
LAST-MODIFIED:20250311T122750Z
UID:10004034-1742632200-1742646600@mlwgs.com
SUMMARY:Mathematics\, Arts & Language Assessments for the Class of 2029 (MLWGS)
DESCRIPTION:
URL:https://mlwgs.com/event/mathematics-testing-for-the-class-of-2029-mlwgs/
CATEGORIES:Admissions or Middle School Visits
ATTACH;FMTTYPE=image/jpeg:https://mlwgs.com/wp-content/uploads/2024/07/mag-default-image.jpg
ORGANIZER;CN="Ms. Connie Hill":MAILTO:chill@gsgis.k12.va.us
END:VEVENT
BEGIN:VEVENT
DTSTART;TZID=America/New_York:20250321T084500
DTEND;TZID=America/New_York:20250321T143000
DTSTAMP:20260419T182252
CREATED:20240627T153718Z
LAST-MODIFIED:20240730T160654Z
UID:10000198-1742546700-1742567400@mlwgs.com
SUMMARY:Future Dragon Day for Waitlisted Students
DESCRIPTION:
URL:https://mlwgs.com/event/future-dragon-day-for-waitlisted-students/
LOCATION:MLWGS\, 1000 N. Lombardy St.\, Richmond\, 23113\, United States
CATEGORIES:Admissions or Middle School Visits
ATTACH;FMTTYPE=image/jpeg:https://mlwgs.com/wp-content/uploads/2024/07/logo_color-1.jpg
END:VEVENT
BEGIN:VEVENT
DTSTART;TZID=America/New_York:20250314T093000
DTEND;TZID=America/New_York:20250314T143000
DTSTAMP:20260419T182252
CREATED:20250228T175051Z
LAST-MODIFIED:20250228T175051Z
UID:10004314-1741944600-1741962600@mlwgs.com
SUMMARY:Future Dragon Days Freshman Q&A sessions (Forum)
DESCRIPTION:
URL:https://mlwgs.com/event/future-dragon-days-freshman-qa-sessions-forum/2025-03-14/
LOCATION:MLWGS Forum
CATEGORIES:Admissions or Middle School Visits
ATTACH;FMTTYPE=image/jpeg:https://mlwgs.com/wp-content/uploads/2024/07/mag-default-image.jpg
ORGANIZER;CN="Mr. Michael White":MAILTO:mwhite@gsgis.k12.va.us
END:VEVENT
BEGIN:VEVENT
DTSTART;TZID=America/New_York:20250314T084500
DTEND;TZID=America/New_York:20250314T143000
DTSTAMP:20260419T182252
CREATED:20240627T153717Z
LAST-MODIFIED:20240730T160048Z
UID:10002241-1741941900-1741962600@mlwgs.com
SUMMARY:Future Dragon Day
DESCRIPTION:
URL:https://mlwgs.com/event/future-dragon-day/2025-03-14/
CATEGORIES:Admissions or Middle School Visits
ATTACH;FMTTYPE=image/jpeg:https://mlwgs.com/wp-content/uploads/2024/07/logo_color-1.jpg
END:VEVENT
BEGIN:VEVENT
DTSTART;TZID=America/New_York:20250314T083000
DTEND;TZID=America/New_York:20250314T143000
DTSTAMP:20260419T182252
CREATED:20240828T141007Z
LAST-MODIFIED:20250225T203317Z
UID:10003158-1741941000-1741962600@mlwgs.com
SUMMARY:MLWGS Visitation Day for Rising Freshmen
DESCRIPTION:March 11 is for Hanover\, Charles City\, Colonial Heights\, Dinwiddie\, Goochland\, Hopewell\, King & Queen\, New Kent\, Petersburg\, Powhatan\, Prince George. \nMarch 12 is for Chesterfield \nMarch 13 is for Henrico \nMarch 14 is for Richmond
URL:https://mlwgs.com/event/mlwgs-visitation-day-for-rising-freshmen/2025-03-14/
LOCATION:MLWGS\, 1000 N. Lombardy St.\, Richmond\, 23113\, United States
CATEGORIES:Admissions or Middle School Visits
ATTACH;FMTTYPE=image/jpeg:https://mlwgs.com/wp-content/uploads/2024/07/logo_color-1.jpg
END:VEVENT
BEGIN:VEVENT
DTSTART;TZID=America/New_York:20250313T113500
DTEND;TZID=America/New_York:20250313T121500
DTSTAMP:20260419T182252
CREATED:20241219T135608Z
LAST-MODIFIED:20241219T135608Z
UID:10003861-1741865700-1741868100@mlwgs.com
SUMMARY:Bhangra and Future Dragons (Auditorium)
DESCRIPTION:
URL:https://mlwgs.com/event/bhangra-and-future-dragons-auditorium/2025-03-13/
LOCATION:MLWGS Auditorium
CATEGORIES:Admissions or Middle School Visits
ATTACH;FMTTYPE=image/jpeg:https://mlwgs.com/wp-content/uploads/2024/07/mag-default-image.jpg
ORGANIZER;CN="Ms. Amanda Lemco":MAILTO:alemco@gsgis.k12.va.us
END:VEVENT
BEGIN:VEVENT
DTSTART;TZID=America/New_York:20250313T093000
DTEND;TZID=America/New_York:20250313T143000
DTSTAMP:20260419T182252
CREATED:20250228T175051Z
LAST-MODIFIED:20250228T175051Z
UID:10004313-1741858200-1741876200@mlwgs.com
SUMMARY:Future Dragon Days Freshman Q&A sessions (Forum)
DESCRIPTION:
URL:https://mlwgs.com/event/future-dragon-days-freshman-qa-sessions-forum/2025-03-13/
LOCATION:MLWGS Forum
CATEGORIES:Admissions or Middle School Visits
ATTACH;FMTTYPE=image/jpeg:https://mlwgs.com/wp-content/uploads/2024/07/mag-default-image.jpg
ORGANIZER;CN="Mr. Michael White":MAILTO:mwhite@gsgis.k12.va.us
END:VEVENT
BEGIN:VEVENT
DTSTART;TZID=America/New_York:20250313T084500
DTEND;TZID=America/New_York:20250313T143000
DTSTAMP:20260419T182252
CREATED:20240627T153717Z
LAST-MODIFIED:20240730T160048Z
UID:10002240-1741855500-1741876200@mlwgs.com
SUMMARY:Future Dragon Day
DESCRIPTION:
URL:https://mlwgs.com/event/future-dragon-day/2025-03-13/
CATEGORIES:Admissions or Middle School Visits
ATTACH;FMTTYPE=image/jpeg:https://mlwgs.com/wp-content/uploads/2024/07/logo_color-1.jpg
END:VEVENT
BEGIN:VEVENT
DTSTART;TZID=America/New_York:20250313T083000
DTEND;TZID=America/New_York:20250313T143000
DTSTAMP:20260419T182252
CREATED:20240828T141007Z
LAST-MODIFIED:20250225T203317Z
UID:10003157-1741854600-1741876200@mlwgs.com
SUMMARY:MLWGS Visitation Day for Rising Freshmen
DESCRIPTION:March 11 is for Hanover\, Charles City\, Colonial Heights\, Dinwiddie\, Goochland\, Hopewell\, King & Queen\, New Kent\, Petersburg\, Powhatan\, Prince George. \nMarch 12 is for Chesterfield \nMarch 13 is for Henrico \nMarch 14 is for Richmond
URL:https://mlwgs.com/event/mlwgs-visitation-day-for-rising-freshmen/2025-03-13/
LOCATION:MLWGS\, 1000 N. Lombardy St.\, Richmond\, 23113\, United States
CATEGORIES:Admissions or Middle School Visits
ATTACH;FMTTYPE=image/jpeg:https://mlwgs.com/wp-content/uploads/2024/07/logo_color-1.jpg
END:VEVENT
BEGIN:VEVENT
DTSTART;TZID=America/New_York:20250312T113500
DTEND;TZID=America/New_York:20250312T121500
DTSTAMP:20260419T182252
CREATED:20241219T135608Z
LAST-MODIFIED:20241219T135608Z
UID:10003860-1741779300-1741781700@mlwgs.com
SUMMARY:Bhangra and Future Dragons (Auditorium)
DESCRIPTION:
URL:https://mlwgs.com/event/bhangra-and-future-dragons-auditorium/2025-03-12/
LOCATION:MLWGS Auditorium
CATEGORIES:Admissions or Middle School Visits
ATTACH;FMTTYPE=image/jpeg:https://mlwgs.com/wp-content/uploads/2024/07/mag-default-image.jpg
ORGANIZER;CN="Ms. Amanda Lemco":MAILTO:alemco@gsgis.k12.va.us
END:VEVENT
BEGIN:VEVENT
DTSTART;TZID=America/New_York:20250312T093000
DTEND;TZID=America/New_York:20250312T150000
DTSTAMP:20260419T182252
CREATED:20250228T175051Z
LAST-MODIFIED:20250228T175051Z
UID:10004312-1741771800-1741791600@mlwgs.com
SUMMARY:Future Dragon Days Freshman Q&A sessions (Forum)
DESCRIPTION:
URL:https://mlwgs.com/event/future-dragon-days-freshman-qa-sessions-forum/2025-03-12/
LOCATION:MLWGS Forum
CATEGORIES:Admissions or Middle School Visits
ATTACH;FMTTYPE=image/jpeg:https://mlwgs.com/wp-content/uploads/2024/07/mag-default-image.jpg
ORGANIZER;CN="Mr. Michael White":MAILTO:mwhite@gsgis.k12.va.us
END:VEVENT
BEGIN:VEVENT
DTSTART;TZID=America/New_York:20250312T084500
DTEND;TZID=America/New_York:20250312T143000
DTSTAMP:20260419T182252
CREATED:20240627T153717Z
LAST-MODIFIED:20240730T160048Z
UID:10000197-1741769100-1741789800@mlwgs.com
SUMMARY:Future Dragon Day
DESCRIPTION:
URL:https://mlwgs.com/event/future-dragon-day/2025-03-12/
CATEGORIES:Admissions or Middle School Visits
ATTACH;FMTTYPE=image/jpeg:https://mlwgs.com/wp-content/uploads/2024/07/logo_color-1.jpg
END:VEVENT
BEGIN:VEVENT
DTSTART;TZID=America/New_York:20250312T083000
DTEND;TZID=America/New_York:20250312T143000
DTSTAMP:20260419T182252
CREATED:20240828T141007Z
LAST-MODIFIED:20250225T203317Z
UID:10003156-1741768200-1741789800@mlwgs.com
SUMMARY:MLWGS Visitation Day for Rising Freshmen
DESCRIPTION:March 11 is for Hanover\, Charles City\, Colonial Heights\, Dinwiddie\, Goochland\, Hopewell\, King & Queen\, New Kent\, Petersburg\, Powhatan\, Prince George. \nMarch 12 is for Chesterfield \nMarch 13 is for Henrico \nMarch 14 is for Richmond
URL:https://mlwgs.com/event/mlwgs-visitation-day-for-rising-freshmen/2025-03-12/
LOCATION:MLWGS\, 1000 N. Lombardy St.\, Richmond\, 23113\, United States
CATEGORIES:Admissions or Middle School Visits
ATTACH;FMTTYPE=image/jpeg:https://mlwgs.com/wp-content/uploads/2024/07/logo_color-1.jpg
END:VEVENT
BEGIN:VEVENT
DTSTART;TZID=America/New_York:20250311T093000
DTEND;TZID=America/New_York:20250311T143000
DTSTAMP:20260419T182252
CREATED:20250228T175051Z
LAST-MODIFIED:20250228T175051Z
UID:10004311-1741685400-1741703400@mlwgs.com
SUMMARY:Future Dragon Days Freshman Q&A sessions (Forum)
DESCRIPTION:
URL:https://mlwgs.com/event/future-dragon-days-freshman-qa-sessions-forum/2025-03-11/
LOCATION:MLWGS Forum
CATEGORIES:Admissions or Middle School Visits
ATTACH;FMTTYPE=image/jpeg:https://mlwgs.com/wp-content/uploads/2024/07/mag-default-image.jpg
ORGANIZER;CN="Mr. Michael White":MAILTO:mwhite@gsgis.k12.va.us
END:VEVENT
BEGIN:VEVENT
DTSTART;TZID=America/New_York:20250311T083000
DTEND;TZID=America/New_York:20250311T143000
DTSTAMP:20260419T182252
CREATED:20240828T141007Z
LAST-MODIFIED:20250225T203317Z
UID:10003754-1741681800-1741703400@mlwgs.com
SUMMARY:MLWGS Visitation Day for Rising Freshmen
DESCRIPTION:March 11 is for Hanover\, Charles City\, Colonial Heights\, Dinwiddie\, Goochland\, Hopewell\, King & Queen\, New Kent\, Petersburg\, Powhatan\, Prince George. \nMarch 12 is for Chesterfield \nMarch 13 is for Henrico \nMarch 14 is for Richmond
URL:https://mlwgs.com/event/mlwgs-visitation-day-for-rising-freshmen/2025-03-11/
LOCATION:MLWGS\, 1000 N. Lombardy St.\, Richmond\, 23113\, United States
CATEGORIES:Admissions or Middle School Visits
ATTACH;FMTTYPE=image/jpeg:https://mlwgs.com/wp-content/uploads/2024/07/logo_color-1.jpg
END:VEVENT
BEGIN:VEVENT
DTSTART;TZID=America/New_York:20250206T080000
DTEND;TZID=America/New_York:20250206T153000
DTSTAMP:20260419T182252
CREATED:20240627T153717Z
LAST-MODIFIED:20241211T201333Z
UID:10000196-1738828800-1738855800@mlwgs.com
SUMMARY:Regional Application Evaluation Day (J. Sargeant Reynolds-Goochland)
DESCRIPTION:
URL:https://mlwgs.com/event/regional-application-evaluation-day-location-tbd/
CATEGORIES:Admissions or Middle School Visits
ATTACH;FMTTYPE=image/jpeg:https://mlwgs.com/wp-content/uploads/2024/07/logo_color-1.jpg
END:VEVENT
BEGIN:VEVENT
DTSTART;TZID=America/New_York:20250204T080000
DTEND;TZID=America/New_York:20250204T130000
DTSTAMP:20260419T182252
CREATED:20240627T153703Z
LAST-MODIFIED:20250204T211220Z
UID:10000195-1738656000-1738674000@mlwgs.com
SUMMARY:New Student Assessment Make-Up (Room 153\, 8am - 1pm)
DESCRIPTION:
URL:https://mlwgs.com/event/new-student-assessment-make-up-room-153/
CATEGORIES:Admissions or Middle School Visits
ATTACH;FMTTYPE=image/jpeg:https://mlwgs.com/wp-content/uploads/2024/07/mag-default-image.jpg
END:VEVENT
BEGIN:VEVENT
DTSTART;TZID=America/New_York:20250201T090000
DTEND;TZID=America/New_York:20250201T123000
DTSTAMP:20260419T182252
CREATED:20250113T152315Z
LAST-MODIFIED:20250113T152315Z
UID:10003976-1738400400-1738413000@mlwgs.com
SUMMARY:Student Assessments
DESCRIPTION:
URL:https://mlwgs.com/event/student-assessments/
CATEGORIES:Admissions or Middle School Visits
ATTACH;FMTTYPE=image/jpeg:https://mlwgs.com/wp-content/uploads/2024/07/mag-default-image.jpg
END:VEVENT
BEGIN:VEVENT
DTSTART;TZID=America/New_York:20250125T080000
DTEND;TZID=America/New_York:20250125T170000
DTSTAMP:20260419T182252
CREATED:20240627T153633Z
LAST-MODIFIED:20240808T194225Z
UID:10000185-1737792000-1737824400@mlwgs.com
SUMMARY:Student Assessment Day for the Class of 2029
DESCRIPTION:
URL:https://mlwgs.com/event/student-assessment-day-for-the-class-of-2029/
CATEGORIES:Admissions or Middle School Visits
ATTACH;FMTTYPE=image/jpeg:https://mlwgs.com/wp-content/uploads/2024/07/logo_color-1.jpg
END:VEVENT
BEGIN:VEVENT
DTSTART;TZID=America/New_York:20241028T173000
DTEND;TZID=America/New_York:20241028T190000
DTSTAMP:20260419T182252
CREATED:20240827T183235Z
LAST-MODIFIED:20240827T183235Z
UID:10003154-1730136600-1730142000@mlwgs.com
SUMMARY:Hanover HS Fair (Atlee)
DESCRIPTION:
URL:https://mlwgs.com/event/hanover-hs-fair-atlee/
CATEGORIES:Admissions or Middle School Visits
ATTACH;FMTTYPE=image/jpeg:https://mlwgs.com/wp-content/uploads/2024/07/logo_color-1.jpg
ORGANIZER;CN="Dr. Robert Lowerre":MAILTO:rlowerre@gsgis.k12.va.us
END:VEVENT
END:VCALENDAR