BEGIN:VCALENDAR
VERSION:2.0
PRODID:-//Maggie L. Walker Governor&#039;s School - ECPv6.15.17.1//NONSGML v1.0//EN
CALSCALE:GREGORIAN
METHOD:PUBLISH
X-WR-CALNAME:Maggie L. Walker Governor&#039;s School
X-ORIGINAL-URL:https://mlwgs.com
X-WR-CALDESC:Events for Maggie L. Walker Governor&#039;s School
REFRESH-INTERVAL;VALUE=DURATION:PT1H
X-Robots-Tag:noindex
X-PUBLISHED-TTL:PT1H
BEGIN:VTIMEZONE
TZID:America/New_York
BEGIN:DAYLIGHT
TZOFFSETFROM:-0500
TZOFFSETTO:-0400
TZNAME:EDT
DTSTART:20240310T070000
END:DAYLIGHT
BEGIN:STANDARD
TZOFFSETFROM:-0400
TZOFFSETTO:-0500
TZNAME:EST
DTSTART:20241103T060000
END:STANDARD
BEGIN:DAYLIGHT
TZOFFSETFROM:-0500
TZOFFSETTO:-0400
TZNAME:EDT
DTSTART:20250309T070000
END:DAYLIGHT
BEGIN:STANDARD
TZOFFSETFROM:-0400
TZOFFSETTO:-0500
TZNAME:EST
DTSTART:20251102T060000
END:STANDARD
BEGIN:DAYLIGHT
TZOFFSETFROM:-0500
TZOFFSETTO:-0400
TZNAME:EDT
DTSTART:20260308T070000
END:DAYLIGHT
BEGIN:STANDARD
TZOFFSETFROM:-0400
TZOFFSETTO:-0500
TZNAME:EST
DTSTART:20261101T060000
END:STANDARD
END:VTIMEZONE
BEGIN:VEVENT
DTSTART;TZID=America/New_York:20250301T000000
DTEND;TZID=America/New_York:20250315T235959
DTSTAMP:20260424T174249
CREATED:20241210T175533Z
LAST-MODIFIED:20241210T175619Z
UID:10003773-1740787200-1742083199@mlwgs.com
SUMMARY:Visiting Japanese Exchange Students
DESCRIPTION:Students from our partner school in Japan are visiting Maggie L. Walker next March. The planned dates for the visit are March 1st (Sat)– March 15th\, 2024 (Sat).  \nOur partner school\, Chiben Gakuen\, is in Wakayama\, Japan\, about 2 hours and 30 minutes south of Kyoto via train. The exchange is supported by our school\, and we are planning on having 12 high school students from Japan visit.
URL:https://mlwgs.com/event/japanese-exchange-students/
CATEGORIES:Assembly or Other Program
ATTACH;FMTTYPE=image/jpeg:https://mlwgs.com/wp-content/uploads/2024/07/mag-default-image.jpg
ORGANIZER;CN="yoko":MAILTO:yeshita@gsgis.k12.va.us
END:VEVENT
BEGIN:VEVENT
DTSTART;TZID=America/New_York:20250304T113500
DTEND;TZID=America/New_York:20250304T121500
DTSTAMP:20260424T174249
CREATED:20250121T201543Z
LAST-MODIFIED:20250225T220613Z
UID:10004060-1741088100-1741090500@mlwgs.com
SUMMARY:Lunchtime Lecture w/Mr. Piersol on Frederick Douglass (Auditorium)
DESCRIPTION:
URL:https://mlwgs.com/event/lunchtime-lecture-w-mr-piersol-on-frederick-douglas-forum/
LOCATION:MLWGS Auditorium
CATEGORIES:Assembly or Other Program
ATTACH;FMTTYPE=image/jpeg:https://mlwgs.com/wp-content/uploads/2024/07/mag-default-image.jpg
END:VEVENT
BEGIN:VEVENT
DTSTART;TZID=America/New_York:20250306T174500
DTEND;TZID=America/New_York:20250306T210000
DTSTAMP:20260424T174249
CREATED:20241014T174031Z
LAST-MODIFIED:20241014T174031Z
UID:10003365-1741283100-1741294800@mlwgs.com
SUMMARY:Youth Art and Music Month Opening Event (MLWGS)
DESCRIPTION:
URL:https://mlwgs.com/event/youth-art-and-music-month-opening-event-mlwgs/
CATEGORIES:Assembly or Other Program
ATTACH;FMTTYPE=image/jpeg:https://mlwgs.com/wp-content/uploads/2024/07/mag-default-image.jpg
ORGANIZER;CN="Mr. Jeff Hall":MAILTO:jhall@gsgis.k12.va.us
END:VEVENT
BEGIN:VEVENT
DTSTART;TZID=America/New_York:20250307T093000
DTEND;TZID=America/New_York:20250307T150000
DTSTAMP:20260424T174249
CREATED:20250226T160317Z
LAST-MODIFIED:20250226T160317Z
UID:10004296-1741339800-1741359600@mlwgs.com
SUMMARY:Corebridge Financial Advising Sessions (Room 103)
DESCRIPTION:Faculty/staff should refer to Dr. Smith’s email to schedule an appointment. \n  \nMatt Kardos \nFinancial Advisor \nCorebridge Financial \n  \n10800 Midlothian Turnpike\, Ste 200; North Chesterfield\, VA\, 23235\nT: 804-897-5042 | C: 804-519-5685 \nmatthew.kardos@corebridgefinancial.com | www.corebridgefinancial.com \n 
URL:https://mlwgs.com/event/corebridge-financial-advising-sessions-room-103/
CATEGORIES:Assembly or Other Program
ATTACH;FMTTYPE=image/jpeg:https://mlwgs.com/wp-content/uploads/2024/07/mag-default-image.jpg
END:VEVENT
BEGIN:VEVENT
DTSTART;TZID=America/New_York:20250310T083000
DTEND;TZID=America/New_York:20250310T103000
DTSTAMP:20260424T174249
CREATED:20241217T191116Z
LAST-MODIFIED:20250224T180016Z
UID:10003856-1741595400-1741602600@mlwgs.com
SUMMARY:Virtual Course Registration Day
DESCRIPTION:Ms. Cobb \nVirtual registration for rising Sophomores\, Juniors and Seniors. \nRooms in use:  105\, the Library\, 123\, 209\, 232\, 301 and 318.  Students will be called to the registration room by Counseling staff during 1st block.
URL:https://mlwgs.com/event/virtual-course-registration-day/
CATEGORIES:Assembly or Other Program
ATTACH;FMTTYPE=image/jpeg:https://mlwgs.com/wp-content/uploads/2024/07/mag-default-image.jpg
ORGANIZER;CN="Ms. Joy Cobb":MAILTO:jcobb@gsgis.k12.va.us
END:VEVENT
BEGIN:VEVENT
DTSTART;TZID=America/New_York:20250320T180000
DTEND;TZID=America/New_York:20250320T200000
DTSTAMP:20260424T174249
CREATED:20241007T185157Z
LAST-MODIFIED:20241007T185239Z
UID:10003347-1742493600-1742500800@mlwgs.com
SUMMARY:Multicultural Assembly/Parent Night (Auditorium)
DESCRIPTION:Auditorium\, Gymnasium
URL:https://mlwgs.com/event/multicultural-assembly-parent-night-auditorium/
LOCATION:MLWGS Auditorium
CATEGORIES:Assembly or Other Program
ATTACH;FMTTYPE=image/jpeg:https://mlwgs.com/wp-content/uploads/2024/07/mag-default-image.jpg
ORGANIZER;CN="Ms. Aparna Harger":MAILTO:aharger@gsgis.k12.va.us
END:VEVENT
BEGIN:VEVENT
DTSTART;TZID=America/New_York:20250321T084500
DTEND;TZID=America/New_York:20250321T151000
DTSTAMP:20260424T174249
CREATED:20241008T153150Z
LAST-MODIFIED:20241008T153150Z
UID:10003352-1742546700-1742569800@mlwgs.com
SUMMARY:Multicultural Assembly-See Academic Schedule for Times (Auditorium)
DESCRIPTION:
URL:https://mlwgs.com/event/multicultural-assembly-see-academic-schedule-for-times-auditorium/
LOCATION:MLWGS Auditorium
CATEGORIES:Assembly or Other Program
ATTACH;FMTTYPE=image/jpeg:https://mlwgs.com/wp-content/uploads/2024/07/mag-default-image.jpg
ORGANIZER;CN="Ms. Aparna Harger":MAILTO:aharger@gsgis.k12.va.us
END:VEVENT
BEGIN:VEVENT
DTSTART;TZID=America/New_York:20250323T083000
DTEND;TZID=America/New_York:20250323T160000
DTSTAMP:20260424T174249
CREATED:20250311T140732Z
LAST-MODIFIED:20250311T140732Z
UID:10004346-1742718600-1742745600@mlwgs.com
SUMMARY:WTP Mock Nationals (Forum\, Rms 312\, 313)
DESCRIPTION:
URL:https://mlwgs.com/event/wtp-mock-nationals-forum-rms-312-313/
CATEGORIES:Assembly or Other Program
ATTACH;FMTTYPE=image/jpeg:https://mlwgs.com/wp-content/uploads/2024/07/mag-default-image.jpg
ORGANIZER;CN="Mr. Sam Ulmschneider":MAILTO:sulmschneider@gsgis.k12.va.us
END:VEVENT
BEGIN:VEVENT
DTSTART;TZID=America/New_York:20250327T110000
DTEND;TZID=America/New_York:20250327T123000
DTSTAMP:20260424T174249
CREATED:20250307T193015Z
LAST-MODIFIED:20250307T193015Z
UID:10004334-1743073200-1743078600@mlwgs.com
SUMMARY:Community Service Fair for Freshmen (Commons)
DESCRIPTION:
URL:https://mlwgs.com/event/community-service-fair-for-freshmen-commons/
LOCATION:MLWGS Commons (1st Floor)
CATEGORIES:Assembly or Other Program
ATTACH;FMTTYPE=image/jpeg:https://mlwgs.com/wp-content/uploads/2024/07/mag-default-image.jpg
ORGANIZER;CN="Mr. Les Cook":MAILTO:tcook@gsgis.k12.va.us
END:VEVENT
END:VCALENDAR