BEGIN:VCALENDAR
VERSION:2.0
PRODID:-//Maggie L. Walker Governor&#039;s School - ECPv6.15.17.1//NONSGML v1.0//EN
CALSCALE:GREGORIAN
METHOD:PUBLISH
X-WR-CALNAME:Maggie L. Walker Governor&#039;s School
X-ORIGINAL-URL:https://mlwgs.com
X-WR-CALDESC:Events for Maggie L. Walker Governor&#039;s School
REFRESH-INTERVAL;VALUE=DURATION:PT1H
X-Robots-Tag:noindex
X-PUBLISHED-TTL:PT1H
BEGIN:VTIMEZONE
TZID:America/New_York
BEGIN:DAYLIGHT
TZOFFSETFROM:-0500
TZOFFSETTO:-0400
TZNAME:EDT
DTSTART:20250309T070000
END:DAYLIGHT
BEGIN:STANDARD
TZOFFSETFROM:-0400
TZOFFSETTO:-0500
TZNAME:EST
DTSTART:20251102T060000
END:STANDARD
BEGIN:DAYLIGHT
TZOFFSETFROM:-0500
TZOFFSETTO:-0400
TZNAME:EDT
DTSTART:20260308T070000
END:DAYLIGHT
BEGIN:STANDARD
TZOFFSETFROM:-0400
TZOFFSETTO:-0500
TZNAME:EST
DTSTART:20261101T060000
END:STANDARD
BEGIN:DAYLIGHT
TZOFFSETFROM:-0500
TZOFFSETTO:-0400
TZNAME:EDT
DTSTART:20270314T070000
END:DAYLIGHT
BEGIN:STANDARD
TZOFFSETFROM:-0400
TZOFFSETTO:-0500
TZNAME:EST
DTSTART:20271107T060000
END:STANDARD
END:VTIMEZONE
BEGIN:VEVENT
DTSTART;TZID=America/New_York:20260116T115500
DTEND;TZID=America/New_York:20260116T122500
DTSTAMP:20260424T014424
CREATED:20251215T142512Z
LAST-MODIFIED:20251215T142512Z
UID:10007460-1768564500-1768566300@mlwgs.com
SUMMARY:Sophomore & Juniors - AY27 Course Options Review (Auditorium)
DESCRIPTION:With the counseling department.
URL:https://mlwgs.com/event/sophomore-juniors-ay27-course-options-review-auditorium/
LOCATION:MLWGS Auditorium
CATEGORIES:Assembly or Other Program
ATTACH;FMTTYPE=image/jpeg:https://mlwgs.com/wp-content/uploads/2024/07/mag-default-image.jpg
ORGANIZER;CN="Ms. Joy Cobb":MAILTO:jcobb@gsgis.k12.va.us
END:VEVENT
BEGIN:VEVENT
DTSTART;TZID=America/New_York:20260122T160000
DTEND;TZID=America/New_York:20260122T190000
DTSTAMP:20260424T014424
CREATED:20250602T152345Z
LAST-MODIFIED:20250602T152345Z
UID:10004596-1769097600-1769108400@mlwgs.com
SUMMARY:Parent/Teacher Conferences (VIrtual)
DESCRIPTION:
URL:https://mlwgs.com/event/parent-teacher-conferences-virtual/
CATEGORIES:Assembly or Other Program
ATTACH;FMTTYPE=image/jpeg:https://mlwgs.com/wp-content/uploads/2024/07/mag-default-image.jpg
END:VEVENT
BEGIN:VEVENT
DTSTART;TZID=America/New_York:20260123T073000
DTEND;TZID=America/New_York:20260123T140000
DTSTAMP:20260424T014424
CREATED:20260109T151842Z
LAST-MODIFIED:20260109T151842Z
UID:10007509-1769153400-1769176800@mlwgs.com
SUMMARY:Advocacy Day at the General Assembly
DESCRIPTION:Join the MLWGS PTSA Advocacy Team\, the largest delegation in Virginia\, and come to Advocacy Day at the General Assembly.  This is an excused absence for students and earns service hours!  Friday\, January 23rd\, 7:30-2.
URL:https://mlwgs.com/event/advocacy-day-at-the-general-assembly/
CATEGORIES:Assembly or Other Program
ATTACH;FMTTYPE=image/jpeg:https://mlwgs.com/wp-content/uploads/2024/07/mag-default-image.jpg
END:VEVENT
END:VCALENDAR