BEGIN:VCALENDAR
VERSION:2.0
PRODID:-//Maggie L. Walker Governor&#039;s School - ECPv6.15.17.1//NONSGML v1.0//EN
CALSCALE:GREGORIAN
METHOD:PUBLISH
X-WR-CALNAME:Maggie L. Walker Governor&#039;s School
X-ORIGINAL-URL:https://mlwgs.com
X-WR-CALDESC:Events for Maggie L. Walker Governor&#039;s School
REFRESH-INTERVAL;VALUE=DURATION:PT1H
X-Robots-Tag:noindex
X-PUBLISHED-TTL:PT1H
BEGIN:VTIMEZONE
TZID:America/New_York
BEGIN:DAYLIGHT
TZOFFSETFROM:-0500
TZOFFSETTO:-0400
TZNAME:EDT
DTSTART:20230312T070000
END:DAYLIGHT
BEGIN:STANDARD
TZOFFSETFROM:-0400
TZOFFSETTO:-0500
TZNAME:EST
DTSTART:20231105T060000
END:STANDARD
BEGIN:DAYLIGHT
TZOFFSETFROM:-0500
TZOFFSETTO:-0400
TZNAME:EDT
DTSTART:20240310T070000
END:DAYLIGHT
BEGIN:STANDARD
TZOFFSETFROM:-0400
TZOFFSETTO:-0500
TZNAME:EST
DTSTART:20241103T060000
END:STANDARD
BEGIN:DAYLIGHT
TZOFFSETFROM:-0500
TZOFFSETTO:-0400
TZNAME:EDT
DTSTART:20250309T070000
END:DAYLIGHT
BEGIN:STANDARD
TZOFFSETFROM:-0400
TZOFFSETTO:-0500
TZNAME:EST
DTSTART:20251102T060000
END:STANDARD
END:VTIMEZONE
BEGIN:VEVENT
DTSTART;TZID=America/New_York:20241209T083000
DTEND;TZID=America/New_York:20241209T153000
DTSTAMP:20260424T222221
CREATED:20240802T152750Z
LAST-MODIFIED:20240802T153417Z
UID:10002310-1733733000-1733758200@mlwgs.com
SUMMARY:Music Classes in Auditorium All-Day
DESCRIPTION:
URL:https://mlwgs.com/event/music-classes-in-auditorium-all-day-2/2024-12-09/
LOCATION:MLWGS Auditorium
CATEGORIES:Assembly or Other Program
ATTACH;FMTTYPE=image/jpeg:https://mlwgs.com/wp-content/uploads/2024/07/logo_color-1.jpg
ORGANIZER;CN="Mr. Nicholas Merillat":MAILTO:nmerillat@gsgis.k12.va.us
END:VEVENT
BEGIN:VEVENT
DTSTART;TZID=America/New_York:20241209T084000
DTEND;TZID=America/New_York:20241209T101000
DTSTAMP:20260424T222221
CREATED:20241202T152436Z
LAST-MODIFIED:20241202T152436Z
UID:10003522-1733733600-1733739000@mlwgs.com
SUMMARY:SOS Program (Forum)
DESCRIPTION:
URL:https://mlwgs.com/event/sos-program-forum-4/
LOCATION:MLWGS Forum
CATEGORIES:Assembly or Other Program
ATTACH;FMTTYPE=image/jpeg:https://mlwgs.com/wp-content/uploads/2024/07/mag-default-image.jpg
ORGANIZER;CN="Ms. Erin Ortiz":MAILTO:eortiz@gsgis.k12.va.us
END:VEVENT
BEGIN:VEVENT
DTSTART;TZID=America/New_York:20241209T134500
DTEND;TZID=America/New_York:20241209T151500
DTSTAMP:20260424T222221
CREATED:20241202T151911Z
LAST-MODIFIED:20241202T151911Z
UID:10003521-1733751900-1733757300@mlwgs.com
SUMMARY:SOS Program (Forum)
DESCRIPTION:
URL:https://mlwgs.com/event/sos-program-forum-3/
LOCATION:MLWGS Forum
CATEGORIES:Assembly or Other Program
ATTACH;FMTTYPE=image/jpeg:https://mlwgs.com/wp-content/uploads/2024/07/mag-default-image.jpg
ORGANIZER;CN="Ms. Erin Ortiz":MAILTO:eortiz@gsgis.k12.va.us
END:VEVENT
END:VCALENDAR