BEGIN:VCALENDAR
VERSION:2.0
PRODID:-//Maggie L. Walker Governor&#039;s School - ECPv6.15.17.1//NONSGML v1.0//EN
CALSCALE:GREGORIAN
METHOD:PUBLISH
X-WR-CALNAME:Maggie L. Walker Governor&#039;s School
X-ORIGINAL-URL:https://mlwgs.com
X-WR-CALDESC:Events for Maggie L. Walker Governor&#039;s School
REFRESH-INTERVAL;VALUE=DURATION:PT1H
X-Robots-Tag:noindex
X-PUBLISHED-TTL:PT1H
BEGIN:VTIMEZONE
TZID:America/New_York
BEGIN:DAYLIGHT
TZOFFSETFROM:-0500
TZOFFSETTO:-0400
TZNAME:EDT
DTSTART:20240310T070000
END:DAYLIGHT
BEGIN:STANDARD
TZOFFSETFROM:-0400
TZOFFSETTO:-0500
TZNAME:EST
DTSTART:20241103T060000
END:STANDARD
BEGIN:DAYLIGHT
TZOFFSETFROM:-0500
TZOFFSETTO:-0400
TZNAME:EDT
DTSTART:20250309T070000
END:DAYLIGHT
BEGIN:STANDARD
TZOFFSETFROM:-0400
TZOFFSETTO:-0500
TZNAME:EST
DTSTART:20251102T060000
END:STANDARD
BEGIN:DAYLIGHT
TZOFFSETFROM:-0500
TZOFFSETTO:-0400
TZNAME:EDT
DTSTART:20260308T070000
END:DAYLIGHT
BEGIN:STANDARD
TZOFFSETFROM:-0400
TZOFFSETTO:-0500
TZNAME:EST
DTSTART:20261101T060000
END:STANDARD
END:VTIMEZONE
BEGIN:VEVENT
DTSTART;TZID=America/New_York:20251112T083000
DTEND;TZID=America/New_York:20251112T101000
DTSTAMP:20260424T065826
CREATED:20251029T191935Z
LAST-MODIFIED:20251029T191935Z
UID:10007375-1762936200-1762942200@mlwgs.com
SUMMARY:Annual Signs of Suicide Program (Room 153)
DESCRIPTION:
URL:https://mlwgs.com/event/annual-signs-of-suicide-program-room-153/2025-11-12/
LOCATION:MLWGS Room 153
CATEGORIES:Assembly or Other Program
ATTACH;FMTTYPE=image/jpeg:https://mlwgs.com/wp-content/uploads/2024/07/mag-default-image.jpg
ORGANIZER;CN="Ms. Erin Ortiz":MAILTO:eortiz@gsgis.k12.va.us
END:VEVENT
BEGIN:VEVENT
DTSTART;TZID=America/New_York:20251112T113500
DTEND;TZID=America/New_York:20251112T122000
DTSTAMP:20260424T065826
CREATED:20251105T164940Z
LAST-MODIFIED:20251105T164940Z
UID:10007378-1762947300-1762950000@mlwgs.com
SUMMARY:Guest Speaker - hosted by MLWGS English (Black Box)
DESCRIPTION:Dr. Cohen is a Professor of Speech and Theatre\, Chair of the Theatre Department\, and Professor of Classics at Randolph College.  She will be speaking with freshmen to introduce a unit on Greek Theatre.
URL:https://mlwgs.com/event/guest-speaker-hosted-by-mlwgs-english-black-box/
LOCATION:MLWGS Black Box
CATEGORIES:Assembly or Other Program
ATTACH;FMTTYPE=image/jpeg:https://mlwgs.com/wp-content/uploads/2024/07/mag-default-image.jpg
END:VEVENT
END:VCALENDAR