BEGIN:VCALENDAR
VERSION:2.0
PRODID:-//Maggie L. Walker Governor&#039;s School - ECPv6.15.17.1//NONSGML v1.0//EN
CALSCALE:GREGORIAN
METHOD:PUBLISH
X-WR-CALNAME:Maggie L. Walker Governor&#039;s School
X-ORIGINAL-URL:https://mlwgs.com
X-WR-CALDESC:Events for Maggie L. Walker Governor&#039;s School
REFRESH-INTERVAL;VALUE=DURATION:PT1H
X-Robots-Tag:noindex
X-PUBLISHED-TTL:PT1H
BEGIN:VTIMEZONE
TZID:America/New_York
BEGIN:DAYLIGHT
TZOFFSETFROM:-0500
TZOFFSETTO:-0400
TZNAME:EDT
DTSTART:20240310T070000
END:DAYLIGHT
BEGIN:STANDARD
TZOFFSETFROM:-0400
TZOFFSETTO:-0500
TZNAME:EST
DTSTART:20241103T060000
END:STANDARD
BEGIN:DAYLIGHT
TZOFFSETFROM:-0500
TZOFFSETTO:-0400
TZNAME:EDT
DTSTART:20250309T070000
END:DAYLIGHT
BEGIN:STANDARD
TZOFFSETFROM:-0400
TZOFFSETTO:-0500
TZNAME:EST
DTSTART:20251102T060000
END:STANDARD
BEGIN:DAYLIGHT
TZOFFSETFROM:-0500
TZOFFSETTO:-0400
TZNAME:EDT
DTSTART:20260308T070000
END:DAYLIGHT
BEGIN:STANDARD
TZOFFSETFROM:-0400
TZOFFSETTO:-0500
TZNAME:EST
DTSTART:20261101T060000
END:STANDARD
END:VTIMEZONE
BEGIN:VEVENT
DTSTART;TZID=America/New_York:20250516T084000
DTEND;TZID=America/New_York:20250516T153000
DTSTAMP:20260424T081433
CREATED:20240627T153341Z
LAST-MODIFIED:20240805T155159Z
UID:10004406-1747384800-1747409400@mlwgs.com
SUMMARY:AP Testing
DESCRIPTION:
URL:https://mlwgs.com/event/ap-testing-2/
LOCATION:MLWGS\, 1000 N. Lombardy St.\, Richmond\, 23113\, United States
CATEGORIES:Assembly or Other Program
ATTACH;FMTTYPE=image/jpeg:https://mlwgs.com/wp-content/uploads/2024/07/logo_color-1.jpg
ORGANIZER;CN="Dr. Rachel Loving":MAILTO:rloving@gsgis.k12.va.us
END:VEVENT
BEGIN:VEVENT
DTSTART;TZID=America/New_York:20250515T084000
DTEND;TZID=America/New_York:20250515T153000
DTSTAMP:20260424T081433
CREATED:20250331T153118Z
LAST-MODIFIED:20250331T153118Z
UID:10002408-1747298400-1747323000@mlwgs.com
SUMMARY:AP Testing (AM Session: Spanish Lang and Culture. PM Session: Computer Science Principles & Physics C-Electricity and Magnetism)
DESCRIPTION:
URL:https://mlwgs.com/event/ap-testing-2-10/
LOCATION:MLWGS\, 1000 N. Lombardy St.\, Richmond\, 23113\, United States
CATEGORIES:Assembly or Other Program
ATTACH;FMTTYPE=image/jpeg:https://mlwgs.com/wp-content/uploads/2024/07/logo_color-1.jpg
ORGANIZER;CN="Dr. Rachel Loving":MAILTO:rloving@gsgis.k12.va.us
END:VEVENT
BEGIN:VEVENT
DTSTART;TZID=America/New_York:20250514T084000
DTEND;TZID=America/New_York:20250514T153000
DTSTAMP:20260424T081433
CREATED:20250331T152906Z
LAST-MODIFIED:20250331T152906Z
UID:10002407-1747212000-1747236600@mlwgs.com
SUMMARY:AP Testing (AM Session: English Lang and Composition & German Lang and Culture. PM Session: Physics C-Mechanics)
DESCRIPTION:
URL:https://mlwgs.com/event/ap-testing-2-9/
LOCATION:MLWGS\, 1000 N. Lombardy St.\, Richmond\, 23113\, United States
CATEGORIES:Assembly or Other Program
ATTACH;FMTTYPE=image/jpeg:https://mlwgs.com/wp-content/uploads/2024/07/logo_color-1.jpg
ORGANIZER;CN="Dr. Rachel Loving":MAILTO:rloving@gsgis.k12.va.us
END:VEVENT
BEGIN:VEVENT
DTSTART;TZID=America/New_York:20250513T084000
DTEND;TZID=America/New_York:20250513T153000
DTSTAMP:20260424T081433
CREATED:20250331T150627Z
LAST-MODIFIED:20250331T150627Z
UID:10002406-1747125600-1747150200@mlwgs.com
SUMMARY:AP Testing (AM Session: French Lang and Culture. PM Session: Environmental Science & Physics 2-Algebra Based)
DESCRIPTION:
URL:https://mlwgs.com/event/ap-testing-2-8/
LOCATION:MLWGS\, 1000 N. Lombardy St.\, Richmond\, 23113\, United States
CATEGORIES:Assembly or Other Program
ATTACH;FMTTYPE=image/jpeg:https://mlwgs.com/wp-content/uploads/2024/07/logo_color-1.jpg
ORGANIZER;CN="Dr. Rachel Loving":MAILTO:rloving@gsgis.k12.va.us
END:VEVENT
BEGIN:VEVENT
DTSTART;TZID=America/New_York:20250512T084000
DTEND;TZID=America/New_York:20250512T153000
DTSTAMP:20260424T081433
CREATED:20250331T150428Z
LAST-MODIFIED:20250331T150428Z
UID:10002405-1747039200-1747063800@mlwgs.com
SUMMARY:AP Testing (AM Session: Calculus AB and Calculus BC. PM Session: Music Theory)
DESCRIPTION:
URL:https://mlwgs.com/event/ap-testing-2-7/
LOCATION:MLWGS\, 1000 N. Lombardy St.\, Richmond\, 23113\, United States
CATEGORIES:Assembly or Other Program
ATTACH;FMTTYPE=image/jpeg:https://mlwgs.com/wp-content/uploads/2024/07/logo_color-1.jpg
ORGANIZER;CN="Dr. Rachel Loving":MAILTO:rloving@gsgis.k12.va.us
END:VEVENT
BEGIN:VEVENT
DTSTART;TZID=America/New_York:20250509T084000
DTEND;TZID=America/New_York:20250509T153000
DTSTAMP:20260424T081433
CREATED:20250331T145931Z
LAST-MODIFIED:20250331T145931Z
UID:10002404-1746780000-1746804600@mlwgs.com
SUMMARY:AP Testing (AM Session: US History. PM Session: Chinese Lang and Culture & Macroeconomics)
DESCRIPTION:
URL:https://mlwgs.com/event/ap-testing-2-6/
LOCATION:MLWGS\, 1000 N. Lombardy St.\, Richmond\, 23113\, United States
CATEGORIES:Assembly or Other Program
ATTACH;FMTTYPE=image/jpeg:https://mlwgs.com/wp-content/uploads/2024/07/logo_color-1.jpg
ORGANIZER;CN="Dr. Rachel Loving":MAILTO:rloving@gsgis.k12.va.us
END:VEVENT
BEGIN:VEVENT
DTSTART;TZID=America/New_York:20250508T140000
DTEND;TZID=America/New_York:20250508T150000
DTSTAMP:20260424T081433
CREATED:20241212T140502Z
LAST-MODIFIED:20241212T140502Z
UID:10003787-1746712800-1746716400@mlwgs.com
SUMMARY:Junior Book Awards Assembly (Auditorium)
DESCRIPTION:
URL:https://mlwgs.com/event/junior-book-awards-assembly-auditorium/
LOCATION:MLWGS Auditorium
CATEGORIES:Assembly or Other Program
ATTACH;FMTTYPE=image/jpeg:https://mlwgs.com/wp-content/uploads/2024/07/mag-default-image.jpg
ORGANIZER;CN="Ms. Kimberly Forquer":MAILTO:kforquer@gsgis.k12.va.us
END:VEVENT
BEGIN:VEVENT
DTSTART;TZID=America/New_York:20250508T084000
DTEND;TZID=America/New_York:20250508T120000
DTSTAMP:20260424T081433
CREATED:20250331T145734Z
LAST-MODIFIED:20250331T145734Z
UID:10002403-1746693600-1746705600@mlwgs.com
SUMMARY:AP Testing (AM Session Only: Statistics)
DESCRIPTION:
URL:https://mlwgs.com/event/ap-testing-2-5/
LOCATION:MLWGS\, 1000 N. Lombardy St.\, Richmond\, 23113\, United States
CATEGORIES:Assembly or Other Program
ATTACH;FMTTYPE=image/jpeg:https://mlwgs.com/wp-content/uploads/2024/07/logo_color-1.jpg
ORGANIZER;CN="Dr. Rachel Loving":MAILTO:rloving@gsgis.k12.va.us
END:VEVENT
BEGIN:VEVENT
DTSTART;TZID=America/New_York:20250507T084000
DTEND;TZID=America/New_York:20250507T153000
DTSTAMP:20260424T081433
CREATED:20250331T145554Z
LAST-MODIFIED:20250331T145555Z
UID:10002402-1746607200-1746631800@mlwgs.com
SUMMARY:AP Testing (AM Session: English Lit and Composition. PM Session: Comparative Government and Politics & Computer Science A)
DESCRIPTION:
URL:https://mlwgs.com/event/ap-testing-2-4/
LOCATION:MLWGS\, 1000 N. Lombardy St.\, Richmond\, 23113\, United States
CATEGORIES:Assembly or Other Program
ATTACH;FMTTYPE=image/jpeg:https://mlwgs.com/wp-content/uploads/2024/07/logo_color-1.jpg
ORGANIZER;CN="Dr. Rachel Loving":MAILTO:rloving@gsgis.k12.va.us
END:VEVENT
BEGIN:VEVENT
DTSTART;TZID=America/New_York:20250506T084000
DTEND;TZID=America/New_York:20250506T153000
DTSTAMP:20260424T081433
CREATED:20250331T145324Z
LAST-MODIFIED:20250408T135857Z
UID:10002401-1746520800-1746545400@mlwgs.com
SUMMARY:AP Testing  (AM Session: Chemistry & Human Geography. PM Session: US Government and Politics)
DESCRIPTION:
URL:https://mlwgs.com/event/ap-testing-2-3/
LOCATION:MLWGS\, 1000 N. Lombardy St.\, Richmond\, 23113\, United States
CATEGORIES:Assembly or Other Program
ATTACH;FMTTYPE=image/jpeg:https://mlwgs.com/wp-content/uploads/2024/07/logo_color-1.jpg
ORGANIZER;CN="Dr. Rachel Loving":MAILTO:rloving@gsgis.k12.va.us
END:VEVENT
BEGIN:VEVENT
DTSTART;TZID=America/New_York:20250505T084000
DTEND;TZID=America/New_York:20250505T153000
DTSTAMP:20260424T081433
CREATED:20250331T145128Z
LAST-MODIFIED:20250331T145128Z
UID:10000125-1746434400-1746459000@mlwgs.com
SUMMARY:AP Testing (AM Session: Biology & Latin. PM Session: European History & Microeconomics)
DESCRIPTION:
URL:https://mlwgs.com/event/ap-testing-2-2/
LOCATION:MLWGS\, 1000 N. Lombardy St.\, Richmond\, 23113\, United States
CATEGORIES:Assembly or Other Program
ATTACH;FMTTYPE=image/jpeg:https://mlwgs.com/wp-content/uploads/2024/07/logo_color-1.jpg
ORGANIZER;CN="Dr. Rachel Loving":MAILTO:rloving@gsgis.k12.va.us
END:VEVENT
BEGIN:VEVENT
DTSTART;TZID=America/New_York:20250505T000000
DTEND;TZID=America/New_York:20250509T235959
DTSTAMP:20260424T081433
CREATED:20250325T163914Z
LAST-MODIFIED:20250325T163914Z
UID:10004403-1746403200-1746835199@mlwgs.com
SUMMARY:Teacher Appreciation Week
DESCRIPTION:
URL:https://mlwgs.com/event/teacher-appreciation-week-2/
CATEGORIES:Assembly or Other Program
ATTACH;FMTTYPE=image/jpeg:https://mlwgs.com/wp-content/uploads/2024/07/mag-default-image.jpg
END:VEVENT
BEGIN:VEVENT
DTSTART;TZID=America/New_York:20250501T000000
DTEND;TZID=America/New_York:20250501T235959
DTSTAMP:20260424T081433
CREATED:20250408T131007Z
LAST-MODIFIED:20250408T131007Z
UID:10004413-1746057600-1746143999@mlwgs.com
SUMMARY:National School Principal's Day of Recognition
DESCRIPTION:
URL:https://mlwgs.com/event/national-school-principals-day-of-recognition/
CATEGORIES:Assembly or Other Program
ATTACH;FMTTYPE=image/jpeg:https://mlwgs.com/wp-content/uploads/2024/07/mag-default-image.jpg
END:VEVENT
BEGIN:VEVENT
DTSTART;TZID=America/New_York:20250429T121500
DTEND;TZID=America/New_York:20250429T150000
DTSTAMP:20260424T081433
CREATED:20250408T180354Z
LAST-MODIFIED:20250408T180354Z
UID:10004416-1745928900-1745938800@mlwgs.com
SUMMARY:Creative Activities with Guest Authors (Library)
DESCRIPTION:
URL:https://mlwgs.com/event/creative-activities-with-guest-authors-library/
LOCATION:MLWGS Library
CATEGORIES:Assembly or Other Program
ATTACH;FMTTYPE=image/jpeg:https://mlwgs.com/wp-content/uploads/2024/07/mag-default-image.jpg
ORGANIZER;CN="Ms. Wendy DeGroat":MAILTO:wdegroat@gsgis.k12.va.us
END:VEVENT
BEGIN:VEVENT
DTSTART;TZID=America/New_York:20250429T113000
DTEND;TZID=America/New_York:20250429T121500
DTSTAMP:20260424T081433
CREATED:20250408T175504Z
LAST-MODIFIED:20250408T175504Z
UID:10004415-1745926200-1745928900@mlwgs.com
SUMMARY:Reading by Guest Authors for National Poetry Month (Forum)
DESCRIPTION:
URL:https://mlwgs.com/event/reading-by-guest-authors-for-national-poetry-month-forum/
LOCATION:MLWGS Forum
CATEGORIES:Assembly or Other Program
ATTACH;FMTTYPE=image/jpeg:https://mlwgs.com/wp-content/uploads/2024/07/mag-default-image.jpg
ORGANIZER;CN="Ms. Wendy DeGroat":MAILTO:wdegroat@gsgis.k12.va.us
END:VEVENT
BEGIN:VEVENT
DTSTART;TZID=America/New_York:20250423T103000
DTEND;TZID=America/New_York:20250423T120000
DTSTAMP:20260424T081433
CREATED:20250418T174644Z
LAST-MODIFIED:20250418T174644Z
UID:10004455-1745404200-1745409600@mlwgs.com
SUMMARY:VCU Dual Enrollment Program (Auditorium)
DESCRIPTION:We know this may overlap with the music department’s reserved usage of the auditorium\, but VCU has to come at this time and cannot do it exactly over lunch.
URL:https://mlwgs.com/event/vcu-dual-enrollment-program-auditorium/
LOCATION:MLWGS Auditorium
CATEGORIES:Assembly or Other Program
ATTACH;FMTTYPE=image/jpeg:https://mlwgs.com/wp-content/uploads/2024/07/mag-default-image.jpg
ORGANIZER;CN="Dr. Rachel Loving":MAILTO:rloving@gsgis.k12.va.us
END:VEVENT
BEGIN:VEVENT
DTSTART;TZID=America/New_York:20250407T080000
DTEND;TZID=America/New_York:20250417T170000
DTSTAMP:20260424T081433
CREATED:20250311T121309Z
LAST-MODIFIED:20250311T121818Z
UID:10004339-1744012800-1744909200@mlwgs.com
SUMMARY:Visiting German Exchange Students at MLWGS
DESCRIPTION:
URL:https://mlwgs.com/event/visiting-german-exchange-students-at-mlwgs/
CATEGORIES:Assembly or Other Program
ATTACH;FMTTYPE=image/jpeg:https://mlwgs.com/wp-content/uploads/2024/07/mag-default-image.jpg
ORGANIZER;CN="Ms. Kristen Macklin":MAILTO:kmacklin@gsgis.k12.va.us
END:VEVENT
BEGIN:VEVENT
DTSTART;TZID=America/New_York:20250327T110000
DTEND;TZID=America/New_York:20250327T123000
DTSTAMP:20260424T081433
CREATED:20250307T193015Z
LAST-MODIFIED:20250307T193015Z
UID:10004334-1743073200-1743078600@mlwgs.com
SUMMARY:Community Service Fair for Freshmen (Commons)
DESCRIPTION:
URL:https://mlwgs.com/event/community-service-fair-for-freshmen-commons/
LOCATION:MLWGS Commons (1st Floor)
CATEGORIES:Assembly or Other Program
ATTACH;FMTTYPE=image/jpeg:https://mlwgs.com/wp-content/uploads/2024/07/mag-default-image.jpg
ORGANIZER;CN="Mr. Les Cook":MAILTO:tcook@gsgis.k12.va.us
END:VEVENT
BEGIN:VEVENT
DTSTART;TZID=America/New_York:20250323T083000
DTEND;TZID=America/New_York:20250323T160000
DTSTAMP:20260424T081433
CREATED:20250311T140732Z
LAST-MODIFIED:20250311T140732Z
UID:10004346-1742718600-1742745600@mlwgs.com
SUMMARY:WTP Mock Nationals (Forum\, Rms 312\, 313)
DESCRIPTION:
URL:https://mlwgs.com/event/wtp-mock-nationals-forum-rms-312-313/
CATEGORIES:Assembly or Other Program
ATTACH;FMTTYPE=image/jpeg:https://mlwgs.com/wp-content/uploads/2024/07/mag-default-image.jpg
ORGANIZER;CN="Mr. Sam Ulmschneider":MAILTO:sulmschneider@gsgis.k12.va.us
END:VEVENT
BEGIN:VEVENT
DTSTART;TZID=America/New_York:20250321T084500
DTEND;TZID=America/New_York:20250321T151000
DTSTAMP:20260424T081433
CREATED:20241008T153150Z
LAST-MODIFIED:20241008T153150Z
UID:10003352-1742546700-1742569800@mlwgs.com
SUMMARY:Multicultural Assembly-See Academic Schedule for Times (Auditorium)
DESCRIPTION:
URL:https://mlwgs.com/event/multicultural-assembly-see-academic-schedule-for-times-auditorium/
LOCATION:MLWGS Auditorium
CATEGORIES:Assembly or Other Program
ATTACH;FMTTYPE=image/jpeg:https://mlwgs.com/wp-content/uploads/2024/07/mag-default-image.jpg
ORGANIZER;CN="Ms. Aparna Harger":MAILTO:aharger@gsgis.k12.va.us
END:VEVENT
BEGIN:VEVENT
DTSTART;TZID=America/New_York:20250320T180000
DTEND;TZID=America/New_York:20250320T200000
DTSTAMP:20260424T081433
CREATED:20241007T185157Z
LAST-MODIFIED:20241007T185239Z
UID:10003347-1742493600-1742500800@mlwgs.com
SUMMARY:Multicultural Assembly/Parent Night (Auditorium)
DESCRIPTION:Auditorium\, Gymnasium
URL:https://mlwgs.com/event/multicultural-assembly-parent-night-auditorium/
LOCATION:MLWGS Auditorium
CATEGORIES:Assembly or Other Program
ATTACH;FMTTYPE=image/jpeg:https://mlwgs.com/wp-content/uploads/2024/07/mag-default-image.jpg
ORGANIZER;CN="Ms. Aparna Harger":MAILTO:aharger@gsgis.k12.va.us
END:VEVENT
BEGIN:VEVENT
DTSTART;TZID=America/New_York:20250310T083000
DTEND;TZID=America/New_York:20250310T103000
DTSTAMP:20260424T081433
CREATED:20241217T191116Z
LAST-MODIFIED:20250224T180016Z
UID:10003856-1741595400-1741602600@mlwgs.com
SUMMARY:Virtual Course Registration Day
DESCRIPTION:Ms. Cobb \nVirtual registration for rising Sophomores\, Juniors and Seniors. \nRooms in use:  105\, the Library\, 123\, 209\, 232\, 301 and 318.  Students will be called to the registration room by Counseling staff during 1st block.
URL:https://mlwgs.com/event/virtual-course-registration-day/
CATEGORIES:Assembly or Other Program
ATTACH;FMTTYPE=image/jpeg:https://mlwgs.com/wp-content/uploads/2024/07/mag-default-image.jpg
ORGANIZER;CN="Ms. Joy Cobb":MAILTO:jcobb@gsgis.k12.va.us
END:VEVENT
BEGIN:VEVENT
DTSTART;TZID=America/New_York:20250307T093000
DTEND;TZID=America/New_York:20250307T150000
DTSTAMP:20260424T081433
CREATED:20250226T160317Z
LAST-MODIFIED:20250226T160317Z
UID:10004296-1741339800-1741359600@mlwgs.com
SUMMARY:Corebridge Financial Advising Sessions (Room 103)
DESCRIPTION:Faculty/staff should refer to Dr. Smith’s email to schedule an appointment. \n  \nMatt Kardos \nFinancial Advisor \nCorebridge Financial \n  \n10800 Midlothian Turnpike\, Ste 200; North Chesterfield\, VA\, 23235\nT: 804-897-5042 | C: 804-519-5685 \nmatthew.kardos@corebridgefinancial.com | www.corebridgefinancial.com \n 
URL:https://mlwgs.com/event/corebridge-financial-advising-sessions-room-103/
CATEGORIES:Assembly or Other Program
ATTACH;FMTTYPE=image/jpeg:https://mlwgs.com/wp-content/uploads/2024/07/mag-default-image.jpg
END:VEVENT
BEGIN:VEVENT
DTSTART;TZID=America/New_York:20250306T174500
DTEND;TZID=America/New_York:20250306T210000
DTSTAMP:20260424T081433
CREATED:20241014T174031Z
LAST-MODIFIED:20241014T174031Z
UID:10003365-1741283100-1741294800@mlwgs.com
SUMMARY:Youth Art and Music Month Opening Event (MLWGS)
DESCRIPTION:
URL:https://mlwgs.com/event/youth-art-and-music-month-opening-event-mlwgs/
CATEGORIES:Assembly or Other Program
ATTACH;FMTTYPE=image/jpeg:https://mlwgs.com/wp-content/uploads/2024/07/mag-default-image.jpg
ORGANIZER;CN="Mr. Jeff Hall":MAILTO:jhall@gsgis.k12.va.us
END:VEVENT
BEGIN:VEVENT
DTSTART;TZID=America/New_York:20250304T113500
DTEND;TZID=America/New_York:20250304T121500
DTSTAMP:20260424T081433
CREATED:20250121T201543Z
LAST-MODIFIED:20250225T220613Z
UID:10004060-1741088100-1741090500@mlwgs.com
SUMMARY:Lunchtime Lecture w/Mr. Piersol on Frederick Douglass (Auditorium)
DESCRIPTION:
URL:https://mlwgs.com/event/lunchtime-lecture-w-mr-piersol-on-frederick-douglas-forum/
LOCATION:MLWGS Auditorium
CATEGORIES:Assembly or Other Program
ATTACH;FMTTYPE=image/jpeg:https://mlwgs.com/wp-content/uploads/2024/07/mag-default-image.jpg
END:VEVENT
BEGIN:VEVENT
DTSTART;TZID=America/New_York:20250301T000000
DTEND;TZID=America/New_York:20250315T235959
DTSTAMP:20260424T081433
CREATED:20241210T175533Z
LAST-MODIFIED:20241210T175619Z
UID:10003773-1740787200-1742083199@mlwgs.com
SUMMARY:Visiting Japanese Exchange Students
DESCRIPTION:Students from our partner school in Japan are visiting Maggie L. Walker next March. The planned dates for the visit are March 1st (Sat)– March 15th\, 2024 (Sat).  \nOur partner school\, Chiben Gakuen\, is in Wakayama\, Japan\, about 2 hours and 30 minutes south of Kyoto via train. The exchange is supported by our school\, and we are planning on having 12 high school students from Japan visit.
URL:https://mlwgs.com/event/japanese-exchange-students/
CATEGORIES:Assembly or Other Program
ATTACH;FMTTYPE=image/jpeg:https://mlwgs.com/wp-content/uploads/2024/07/mag-default-image.jpg
ORGANIZER;CN="yoko":MAILTO:yeshita@gsgis.k12.va.us
END:VEVENT
BEGIN:VEVENT
DTSTART;TZID=America/New_York:20250222T080000
DTEND;TZID=America/New_York:20250222T130000
DTSTAMP:20260424T081433
CREATED:20240813T140834Z
LAST-MODIFIED:20240813T140834Z
UID:10002610-1740211200-1740229200@mlwgs.com
SUMMARY:Middle School Language Fair
DESCRIPTION:
URL:https://mlwgs.com/event/middle-school-language-fair/
LOCATION:MLWGS\, 1000 N. Lombardy St.\, Richmond\, 23113\, United States
CATEGORIES:Assembly or Other Program
ATTACH;FMTTYPE=image/jpeg:https://mlwgs.com/wp-content/uploads/2024/07/logo_color-1.jpg
ORGANIZER;CN="Mr. Michael White":MAILTO:mwhite@gsgis.k12.va.us
END:VEVENT
BEGIN:VEVENT
DTSTART;TZID=America/New_York:20250221T113000
DTEND;TZID=America/New_York:20250221T123000
DTSTAMP:20260424T081433
CREATED:20241209T205821Z
LAST-MODIFIED:20250212T173032Z
UID:10003769-1740137400-1740141000@mlwgs.com
SUMMARY:GSA\, Peer Mentors\, SCA\, Class representatives\, NDSA: Student Leaders Workshop (Forum)
DESCRIPTION:
URL:https://mlwgs.com/event/gsa-peer-mentors-sca-class-representatives-ndsa-student-leaders-workshop/
LOCATION:MLWGS Forum
CATEGORIES:Assembly or Other Program
ATTACH;FMTTYPE=image/jpeg:https://mlwgs.com/wp-content/uploads/2024/07/mag-default-image.jpg
ORGANIZER;CN="Ms. Aparna Harger":MAILTO:aharger@gsgis.k12.va.us
END:VEVENT
BEGIN:VEVENT
DTSTART;TZID=America/New_York:20250218T103000
DTEND;TZID=America/New_York:20250218T133000
DTSTAMP:20260424T081433
CREATED:20241205T131027Z
LAST-MODIFIED:20250210T182936Z
UID:10003755-1739874600-1739885400@mlwgs.com
SUMMARY:PTSA Faculty Appreciation Lunch (Room 153)
DESCRIPTION:Lunch will be served from 11:30-12:30.  Hot potato bar!  Reserved for MLWGS Staff Appreciation Team.
URL:https://mlwgs.com/event/ptsa-faculty-appreciation-lunch-room-153/
CATEGORIES:Assembly or Other Program
ATTACH;FMTTYPE=image/jpeg:https://mlwgs.com/wp-content/uploads/2024/07/mag-default-image.jpg
END:VEVENT
BEGIN:VEVENT
DTSTART;TZID=America/New_York:20250214T110000
DTEND;TZID=America/New_York:20250214T130000
DTSTAMP:20260424T081433
CREATED:20241209T205449Z
LAST-MODIFIED:20241209T205449Z
UID:10003768-1739530800-1739538000@mlwgs.com
SUMMARY:NHS & Bonsai Mentors: Student Leaders' Workshop with Virginia Center for Inclusive Communities (Auditorium)
DESCRIPTION:
URL:https://mlwgs.com/event/nhs-bonsai-mentors-student-leaders-workshop-with-virginia-center-for-inclusive-communities-auditorium/
LOCATION:MLWGS Auditorium
CATEGORIES:Assembly or Other Program
ATTACH;FMTTYPE=image/jpeg:https://mlwgs.com/wp-content/uploads/2024/07/mag-default-image.jpg
ORGANIZER;CN="Ms. Aparna Harger":MAILTO:aharger@gsgis.k12.va.us
END:VEVENT
END:VCALENDAR