BEGIN:VCALENDAR
VERSION:2.0
PRODID:-//Maggie L. Walker Governor&#039;s School - ECPv6.15.17.1//NONSGML v1.0//EN
CALSCALE:GREGORIAN
METHOD:PUBLISH
X-WR-CALNAME:Maggie L. Walker Governor&#039;s School
X-ORIGINAL-URL:https://mlwgs.com
X-WR-CALDESC:Events for Maggie L. Walker Governor&#039;s School
REFRESH-INTERVAL;VALUE=DURATION:PT1H
X-Robots-Tag:noindex
X-PUBLISHED-TTL:PT1H
BEGIN:VTIMEZONE
TZID:America/New_York
BEGIN:DAYLIGHT
TZOFFSETFROM:-0500
TZOFFSETTO:-0400
TZNAME:EDT
DTSTART:20230312T070000
END:DAYLIGHT
BEGIN:STANDARD
TZOFFSETFROM:-0400
TZOFFSETTO:-0500
TZNAME:EST
DTSTART:20231105T060000
END:STANDARD
BEGIN:DAYLIGHT
TZOFFSETFROM:-0500
TZOFFSETTO:-0400
TZNAME:EDT
DTSTART:20240310T070000
END:DAYLIGHT
BEGIN:STANDARD
TZOFFSETFROM:-0400
TZOFFSETTO:-0500
TZNAME:EST
DTSTART:20241103T060000
END:STANDARD
BEGIN:DAYLIGHT
TZOFFSETFROM:-0500
TZOFFSETTO:-0400
TZNAME:EDT
DTSTART:20250309T070000
END:DAYLIGHT
BEGIN:STANDARD
TZOFFSETFROM:-0400
TZOFFSETTO:-0500
TZNAME:EST
DTSTART:20251102T060000
END:STANDARD
END:VTIMEZONE
BEGIN:VEVENT
DTSTART;TZID=America/New_York:20241216T083000
DTEND;TZID=America/New_York:20241216T153000
DTSTAMP:20260424T234007
CREATED:20240802T152750Z
LAST-MODIFIED:20240802T153417Z
UID:10002315-1734337800-1734363000@mlwgs.com
SUMMARY:Music Classes in Auditorium All-Day
DESCRIPTION:
URL:https://mlwgs.com/event/music-classes-in-auditorium-all-day-2/2024-12-16/
LOCATION:MLWGS Auditorium
CATEGORIES:Assembly or Other Program
ATTACH;FMTTYPE=image/jpeg:https://mlwgs.com/wp-content/uploads/2024/07/logo_color-1.jpg
ORGANIZER;CN="Mr. Nicholas Merillat":MAILTO:nmerillat@gsgis.k12.va.us
END:VEVENT
BEGIN:VEVENT
DTSTART;TZID=America/New_York:20241217T083000
DTEND;TZID=America/New_York:20241217T153000
DTSTAMP:20260424T234007
CREATED:20240802T152750Z
LAST-MODIFIED:20240802T153417Z
UID:10002316-1734424200-1734449400@mlwgs.com
SUMMARY:Music Classes in Auditorium All-Day
DESCRIPTION:
URL:https://mlwgs.com/event/music-classes-in-auditorium-all-day-2/2024-12-17/
LOCATION:MLWGS Auditorium
CATEGORIES:Assembly or Other Program
ATTACH;FMTTYPE=image/jpeg:https://mlwgs.com/wp-content/uploads/2024/07/logo_color-1.jpg
ORGANIZER;CN="Mr. Nicholas Merillat":MAILTO:nmerillat@gsgis.k12.va.us
END:VEVENT
BEGIN:VEVENT
DTSTART;TZID=America/New_York:20241217T153000
DTEND;TZID=America/New_York:20241217T170000
DTSTAMP:20260424T234007
CREATED:20241202T154011Z
LAST-MODIFIED:20241202T154239Z
UID:10003523-1734449400-1734454800@mlwgs.com
SUMMARY:AP Gov After School Congressional Simulation (Forum)
DESCRIPTION:
URL:https://mlwgs.com/event/ap-gov-after-school-congressional-simulation-forum/
LOCATION:MLWGS Forum
CATEGORIES:Assembly or Other Program
ATTACH;FMTTYPE=image/jpeg:https://mlwgs.com/wp-content/uploads/2024/07/mag-default-image.jpg
ORGANIZER;CN="Mr. Sam Ulmschneider":MAILTO:sulmschneider@gsgis.k12.va.us
END:VEVENT
BEGIN:VEVENT
DTSTART;TZID=America/New_York:20241218T083000
DTEND;TZID=America/New_York:20241218T153000
DTSTAMP:20260424T234007
CREATED:20240802T152750Z
LAST-MODIFIED:20240802T153417Z
UID:10002317-1734510600-1734535800@mlwgs.com
SUMMARY:Music Classes in Auditorium All-Day
DESCRIPTION:
URL:https://mlwgs.com/event/music-classes-in-auditorium-all-day-2/2024-12-18/
LOCATION:MLWGS Auditorium
CATEGORIES:Assembly or Other Program
ATTACH;FMTTYPE=image/jpeg:https://mlwgs.com/wp-content/uploads/2024/07/logo_color-1.jpg
ORGANIZER;CN="Mr. Nicholas Merillat":MAILTO:nmerillat@gsgis.k12.va.us
END:VEVENT
BEGIN:VEVENT
DTSTART;TZID=America/New_York:20241219T083000
DTEND;TZID=America/New_York:20241219T153000
DTSTAMP:20260424T234007
CREATED:20240802T152750Z
LAST-MODIFIED:20240802T153417Z
UID:10002318-1734597000-1734622200@mlwgs.com
SUMMARY:Music Classes in Auditorium All-Day
DESCRIPTION:
URL:https://mlwgs.com/event/music-classes-in-auditorium-all-day-2/2024-12-19/
LOCATION:MLWGS Auditorium
CATEGORIES:Assembly or Other Program
ATTACH;FMTTYPE=image/jpeg:https://mlwgs.com/wp-content/uploads/2024/07/logo_color-1.jpg
ORGANIZER;CN="Mr. Nicholas Merillat":MAILTO:nmerillat@gsgis.k12.va.us
END:VEVENT
BEGIN:VEVENT
DTSTART;TZID=America/New_York:20241220T113000
DTEND;TZID=America/New_York:20241220T123000
DTSTAMP:20260424T234007
CREATED:20241202T145715Z
LAST-MODIFIED:20241202T145715Z
UID:10003519-1734694200-1734697800@mlwgs.com
SUMMARY:Staff Holiday Soup Luncheon (Room 153)
DESCRIPTION:
URL:https://mlwgs.com/event/staff-holiday-soup-luncheon-room-153/
CATEGORIES:Assembly or Other Program
ATTACH;FMTTYPE=image/jpeg:https://mlwgs.com/wp-content/uploads/2024/07/mag-default-image.jpg
END:VEVENT
BEGIN:VEVENT
DTSTART;TZID=America/New_York:20241220T124000
DTEND;TZID=America/New_York:20241220T143500
DTSTAMP:20260424T234007
CREATED:20240627T153310Z
LAST-MODIFIED:20240802T152905Z
UID:10000112-1734698400-1734705300@mlwgs.com
SUMMARY:Winter Concert for Students (Auditorium)
DESCRIPTION:
URL:https://mlwgs.com/event/winter-concert-auditorium/
CATEGORIES:Assembly or Other Program
ATTACH;FMTTYPE=image/jpeg:https://mlwgs.com/wp-content/uploads/2024/07/mag-default-image.jpg
END:VEVENT
END:VCALENDAR