BEGIN:VCALENDAR
VERSION:2.0
PRODID:-//Maggie L. Walker Governor&#039;s School - ECPv6.15.17.1//NONSGML v1.0//EN
CALSCALE:GREGORIAN
METHOD:PUBLISH
X-WR-CALNAME:Maggie L. Walker Governor&#039;s School
X-ORIGINAL-URL:https://mlwgs.com
X-WR-CALDESC:Events for Maggie L. Walker Governor&#039;s School
REFRESH-INTERVAL;VALUE=DURATION:PT1H
X-Robots-Tag:noindex
X-PUBLISHED-TTL:PT1H
BEGIN:VTIMEZONE
TZID:America/New_York
BEGIN:DAYLIGHT
TZOFFSETFROM:-0500
TZOFFSETTO:-0400
TZNAME:EDT
DTSTART:20240310T070000
END:DAYLIGHT
BEGIN:STANDARD
TZOFFSETFROM:-0400
TZOFFSETTO:-0500
TZNAME:EST
DTSTART:20241103T060000
END:STANDARD
BEGIN:DAYLIGHT
TZOFFSETFROM:-0500
TZOFFSETTO:-0400
TZNAME:EDT
DTSTART:20250309T070000
END:DAYLIGHT
BEGIN:STANDARD
TZOFFSETFROM:-0400
TZOFFSETTO:-0500
TZNAME:EST
DTSTART:20251102T060000
END:STANDARD
BEGIN:DAYLIGHT
TZOFFSETFROM:-0500
TZOFFSETTO:-0400
TZNAME:EDT
DTSTART:20260308T070000
END:DAYLIGHT
BEGIN:STANDARD
TZOFFSETFROM:-0400
TZOFFSETTO:-0500
TZNAME:EST
DTSTART:20261101T060000
END:STANDARD
END:VTIMEZONE
BEGIN:VEVENT
DTSTART;TZID=America/New_York:20250127T113000
DTEND;TZID=America/New_York:20250127T122000
DTSTAMP:20260424T222025
CREATED:20250114T150706Z
LAST-MODIFIED:20250114T150708Z
UID:10003988-1737977400-1737980400@mlwgs.com
SUMMARY:One Small Step Workshop (Library)
DESCRIPTION:
URL:https://mlwgs.com/event/one-small-step-workshop-forum-2/
LOCATION:MLWGS Library
CATEGORIES:Assembly or Other Program
ATTACH;FMTTYPE=image/jpeg:https://mlwgs.com/wp-content/uploads/2024/07/mag-default-image.jpg
ORGANIZER;CN="Ms. Wendy DeGroat":MAILTO:wdegroat@gsgis.k12.va.us
END:VEVENT
BEGIN:VEVENT
DTSTART;TZID=America/New_York:20250129T091500
DTEND;TZID=America/New_York:20250129T113500
DTSTAMP:20260424T222025
CREATED:20241217T194351Z
LAST-MODIFIED:20241217T194351Z
UID:10003858-1738142100-1738150500@mlwgs.com
SUMMARY:College Kickoff Program Day 1 (Auditorium)
DESCRIPTION:Wednesday\, 1/29: \n9:15AM: 10th graders await announcement which dismisses them to Auditorium \n9:20-10:08AM (half of 1st): school counselors meet with 10th graders in the Auditorium (presentation by senior counselors\, Q&A\, etc.) \n10:13AM: 10th and 11th graders arrive on-time to 3rd block classes; 11th graders await announcement which dismisses them to Auditorium \n10:20-11:35AM (all of 3rd): school counselors meet with 11th graders in Auditorium (folder distribution\, overview of Dragon’s Guide\, What’s Next After College Kick-Off\, SAT/ACT\, Teacher Recs w/guest speaker\, College Search Tools\, Naviance) \n 
URL:https://mlwgs.com/event/college-kickoff-program-day-1-auditorium/
CATEGORIES:Assembly or Other Program
ATTACH;FMTTYPE=image/jpeg:https://mlwgs.com/wp-content/uploads/2024/07/mag-default-image.jpg
END:VEVENT
BEGIN:VEVENT
DTSTART;TZID=America/New_York:20250130T101500
DTEND;TZID=America/New_York:20250130T153000
DTSTAMP:20260424T222025
CREATED:20241217T194452Z
LAST-MODIFIED:20241217T194452Z
UID:10003859-1738232100-1738251000@mlwgs.com
SUMMARY:College Kickoff Day 2 (Auditorium)
DESCRIPTION:Thursday\, 1/30: \n10:13AM: 10th graders await announcement which dismisses them to Auditorium \n10:15-11:30AM (all of 4th): College Kick-Off program for 10th graders and their parents in Auditorium (four college reps\, GRASP\, and National Guard); casual discussions about schools/sophomore topics and case studies \n11:40 AM-12:10PM: college presenters available in Auditorium for passport activity for 9th graders (no parents) \n12:15-1PM: college presenters eat lunch \n1:05PM: 11th graders await announcement which dismisses them to Auditorium \n1:10-3:10PM (half of 6th/all of 8th): College Kick-Off program for 11th graders and their parents in Auditorium (five college reps\, one Financial Aid officer\, GRASP\, and National Guard); formal presentations and discussion \n3:10-3:30 PM: After 11th graders are dismissed at 3:10PM\, parents remain in Auditorium for additional Parents-Only Q&A with college reps and senior counselors
URL:https://mlwgs.com/event/college-kickoff-day-2-auditorium/
CATEGORIES:Assembly or Other Program
ATTACH;FMTTYPE=image/jpeg:https://mlwgs.com/wp-content/uploads/2024/07/mag-default-image.jpg
END:VEVENT
END:VCALENDAR