BEGIN:VCALENDAR
VERSION:2.0
PRODID:-//Maggie L. Walker Governor&#039;s School - ECPv6.15.17.1//NONSGML v1.0//EN
CALSCALE:GREGORIAN
METHOD:PUBLISH
X-WR-CALNAME:Maggie L. Walker Governor&#039;s School
X-ORIGINAL-URL:https://mlwgs.com
X-WR-CALDESC:Events for Maggie L. Walker Governor&#039;s School
REFRESH-INTERVAL;VALUE=DURATION:PT1H
X-Robots-Tag:noindex
X-PUBLISHED-TTL:PT1H
BEGIN:VTIMEZONE
TZID:America/New_York
BEGIN:DAYLIGHT
TZOFFSETFROM:-0500
TZOFFSETTO:-0400
TZNAME:EDT
DTSTART:20240310T070000
END:DAYLIGHT
BEGIN:STANDARD
TZOFFSETFROM:-0400
TZOFFSETTO:-0500
TZNAME:EST
DTSTART:20241103T060000
END:STANDARD
BEGIN:DAYLIGHT
TZOFFSETFROM:-0500
TZOFFSETTO:-0400
TZNAME:EDT
DTSTART:20250309T070000
END:DAYLIGHT
BEGIN:STANDARD
TZOFFSETFROM:-0400
TZOFFSETTO:-0500
TZNAME:EST
DTSTART:20251102T060000
END:STANDARD
BEGIN:DAYLIGHT
TZOFFSETFROM:-0500
TZOFFSETTO:-0400
TZNAME:EDT
DTSTART:20260308T070000
END:DAYLIGHT
BEGIN:STANDARD
TZOFFSETFROM:-0400
TZOFFSETTO:-0500
TZNAME:EST
DTSTART:20261101T060000
END:STANDARD
END:VTIMEZONE
BEGIN:VEVENT
DTSTART;TZID=America/New_York:20250429T113000
DTEND;TZID=America/New_York:20250429T121500
DTSTAMP:20260424T185559
CREATED:20250408T175504Z
LAST-MODIFIED:20250408T175504Z
UID:10004415-1745926200-1745928900@mlwgs.com
SUMMARY:Reading by Guest Authors for National Poetry Month (Forum)
DESCRIPTION:
URL:https://mlwgs.com/event/reading-by-guest-authors-for-national-poetry-month-forum/
LOCATION:MLWGS Forum
CATEGORIES:Assembly or Other Program
ATTACH;FMTTYPE=image/jpeg:https://mlwgs.com/wp-content/uploads/2024/07/mag-default-image.jpg
ORGANIZER;CN="Ms. Wendy DeGroat":MAILTO:wdegroat@gsgis.k12.va.us
END:VEVENT
BEGIN:VEVENT
DTSTART;TZID=America/New_York:20250429T121500
DTEND;TZID=America/New_York:20250429T150000
DTSTAMP:20260424T185559
CREATED:20250408T180354Z
LAST-MODIFIED:20250408T180354Z
UID:10004416-1745928900-1745938800@mlwgs.com
SUMMARY:Creative Activities with Guest Authors (Library)
DESCRIPTION:
URL:https://mlwgs.com/event/creative-activities-with-guest-authors-library/
LOCATION:MLWGS Library
CATEGORIES:Assembly or Other Program
ATTACH;FMTTYPE=image/jpeg:https://mlwgs.com/wp-content/uploads/2024/07/mag-default-image.jpg
ORGANIZER;CN="Ms. Wendy DeGroat":MAILTO:wdegroat@gsgis.k12.va.us
END:VEVENT
BEGIN:VEVENT
DTSTART;TZID=America/New_York:20250501T000000
DTEND;TZID=America/New_York:20250501T235959
DTSTAMP:20260424T185559
CREATED:20250408T131007Z
LAST-MODIFIED:20250408T131007Z
UID:10004413-1746057600-1746143999@mlwgs.com
SUMMARY:National School Principal's Day of Recognition
DESCRIPTION:
URL:https://mlwgs.com/event/national-school-principals-day-of-recognition/
CATEGORIES:Assembly or Other Program
ATTACH;FMTTYPE=image/jpeg:https://mlwgs.com/wp-content/uploads/2024/07/mag-default-image.jpg
END:VEVENT
END:VCALENDAR