BEGIN:VCALENDAR
VERSION:2.0
PRODID:-//Maggie L. Walker Governor&#039;s School - ECPv6.15.17.1//NONSGML v1.0//EN
CALSCALE:GREGORIAN
METHOD:PUBLISH
X-WR-CALNAME:Maggie L. Walker Governor&#039;s School
X-ORIGINAL-URL:https://mlwgs.com
X-WR-CALDESC:Events for Maggie L. Walker Governor&#039;s School
REFRESH-INTERVAL;VALUE=DURATION:PT1H
X-Robots-Tag:noindex
X-PUBLISHED-TTL:PT1H
BEGIN:VTIMEZONE
TZID:America/New_York
BEGIN:DAYLIGHT
TZOFFSETFROM:-0500
TZOFFSETTO:-0400
TZNAME:EDT
DTSTART:20250309T070000
END:DAYLIGHT
BEGIN:STANDARD
TZOFFSETFROM:-0400
TZOFFSETTO:-0500
TZNAME:EST
DTSTART:20251102T060000
END:STANDARD
BEGIN:DAYLIGHT
TZOFFSETFROM:-0500
TZOFFSETTO:-0400
TZNAME:EDT
DTSTART:20260308T070000
END:DAYLIGHT
BEGIN:STANDARD
TZOFFSETFROM:-0400
TZOFFSETTO:-0500
TZNAME:EST
DTSTART:20261101T060000
END:STANDARD
BEGIN:DAYLIGHT
TZOFFSETFROM:-0500
TZOFFSETTO:-0400
TZNAME:EDT
DTSTART:20270314T070000
END:DAYLIGHT
BEGIN:STANDARD
TZOFFSETFROM:-0400
TZOFFSETTO:-0500
TZNAME:EST
DTSTART:20271107T060000
END:STANDARD
END:VTIMEZONE
BEGIN:VEVENT
DTSTART;TZID=America/New_York:20260202T000000
DTEND;TZID=America/New_York:20260206T235959
DTSTAMP:20260424T042029
CREATED:20260122T191934Z
LAST-MODIFIED:20260122T192103Z
UID:10009382-1769990400-1770422399@mlwgs.com
SUMMARY:National School Counselors Week
DESCRIPTION:National School Counseling Week\nNational School Counseling Week 2026 (#NSCW26) is Feb. 2-6\, 2026\, to focus public attention on the unique contribution of school counselors within U.S. school systems. The theme is: School Counselors Amplify Student Success. National School Counseling Week\, presented by ASCA\, highlights the tremendous impact school counselors can have in helping students achieve school success and plan for a career. National School Counseling Week is always celebrated the first full week in February.
URL:https://mlwgs.com/event/national-school-counselors-week-2/
CATEGORIES:Assembly or Other Program
ATTACH;FMTTYPE=image/jpeg:https://mlwgs.com/wp-content/uploads/2024/07/mag-default-image.jpg
END:VEVENT
BEGIN:VEVENT
DTSTART;TZID=America/New_York:20260202T113500
DTEND;TZID=America/New_York:20260202T122000
DTSTAMP:20260424T042029
CREATED:20260112T200306Z
LAST-MODIFIED:20260112T200306Z
UID:10007528-1770032100-1770034800@mlwgs.com
SUMMARY:Info Session: Summer Opportunities thru City of Richmond Youth Engagement Services (Forum)
DESCRIPTION:
URL:https://mlwgs.com/event/info-session-summer-opportunities-thru-city-of-richmond-youth-engagement-services-forum-2/
LOCATION:MLWGS Forum
CATEGORIES:Assembly or Other Program
ATTACH;FMTTYPE=image/jpeg:https://mlwgs.com/wp-content/uploads/2024/07/mag-default-image.jpg
END:VEVENT
BEGIN:VEVENT
DTSTART;TZID=America/New_York:20260206T110000
DTEND;TZID=America/New_York:20260206T150000
DTSTAMP:20260424T042029
CREATED:20260114T193044Z
LAST-MODIFIED:20260114T193044Z
UID:10009358-1770375600-1770390000@mlwgs.com
SUMMARY:Hold for Visiting Ambassador (Auditorium)
DESCRIPTION:Ms. LeCroy
URL:https://mlwgs.com/event/hold-for-visiting-ambassador-auditorium/
LOCATION:MLWGS Auditorium
CATEGORIES:Assembly or Other Program
ATTACH;FMTTYPE=image/jpeg:https://mlwgs.com/wp-content/uploads/2024/07/mag-default-image.jpg
ORGANIZER;CN="Ms. Lindsey LeCroy-Whitworth":MAILTO:llecroy-whitworth@gsgis.k12.va.us
END:VEVENT
END:VCALENDAR