BEGIN:VCALENDAR
VERSION:2.0
PRODID:-//Maggie L. Walker Governor&#039;s School - ECPv6.15.17.1//NONSGML v1.0//EN
CALSCALE:GREGORIAN
METHOD:PUBLISH
X-WR-CALNAME:Maggie L. Walker Governor&#039;s School
X-ORIGINAL-URL:https://mlwgs.com
X-WR-CALDESC:Events for Maggie L. Walker Governor&#039;s School
REFRESH-INTERVAL;VALUE=DURATION:PT1H
X-Robots-Tag:noindex
X-PUBLISHED-TTL:PT1H
BEGIN:VTIMEZONE
TZID:America/New_York
BEGIN:DAYLIGHT
TZOFFSETFROM:-0500
TZOFFSETTO:-0400
TZNAME:EDT
DTSTART:20250309T070000
END:DAYLIGHT
BEGIN:STANDARD
TZOFFSETFROM:-0400
TZOFFSETTO:-0500
TZNAME:EST
DTSTART:20251102T060000
END:STANDARD
BEGIN:DAYLIGHT
TZOFFSETFROM:-0500
TZOFFSETTO:-0400
TZNAME:EDT
DTSTART:20260308T070000
END:DAYLIGHT
BEGIN:STANDARD
TZOFFSETFROM:-0400
TZOFFSETTO:-0500
TZNAME:EST
DTSTART:20261101T060000
END:STANDARD
BEGIN:DAYLIGHT
TZOFFSETFROM:-0500
TZOFFSETTO:-0400
TZNAME:EDT
DTSTART:20270314T070000
END:DAYLIGHT
BEGIN:STANDARD
TZOFFSETFROM:-0400
TZOFFSETTO:-0500
TZNAME:EST
DTSTART:20271107T060000
END:STANDARD
END:VTIMEZONE
BEGIN:VEVENT
DTSTART;TZID=America/New_York:20260504T083000
DTEND;TZID=America/New_York:20260504T151500
DTSTAMP:20260424T030341
CREATED:20250602T185238Z
LAST-MODIFIED:20250602T185640Z
UID:10004643-1777883400-1777907700@mlwgs.com
SUMMARY:AP Testing
DESCRIPTION:
URL:https://mlwgs.com/event/ap-testing-3/2026-05-04/
CATEGORIES:Assembly or Other Program
ATTACH;FMTTYPE=image/jpeg:https://mlwgs.com/wp-content/uploads/2024/07/mag-default-image.jpg
ORGANIZER;CN="Dr. Rachel Loving":MAILTO:rloving@gsgis.k12.va.us
END:VEVENT
BEGIN:VEVENT
DTSTART;TZID=America/New_York:20260505T083000
DTEND;TZID=America/New_York:20260505T151500
DTSTAMP:20260424T030341
CREATED:20250602T185238Z
LAST-MODIFIED:20250602T185640Z
UID:10004644-1777969800-1777994100@mlwgs.com
SUMMARY:AP Testing
DESCRIPTION:
URL:https://mlwgs.com/event/ap-testing-3/2026-05-05/
CATEGORIES:Assembly or Other Program
ATTACH;FMTTYPE=image/jpeg:https://mlwgs.com/wp-content/uploads/2024/07/mag-default-image.jpg
ORGANIZER;CN="Dr. Rachel Loving":MAILTO:rloving@gsgis.k12.va.us
END:VEVENT
BEGIN:VEVENT
DTSTART;TZID=America/New_York:20260506T083000
DTEND;TZID=America/New_York:20260506T151500
DTSTAMP:20260424T030341
CREATED:20250602T185238Z
LAST-MODIFIED:20250602T185640Z
UID:10004645-1778056200-1778080500@mlwgs.com
SUMMARY:AP Testing
DESCRIPTION:
URL:https://mlwgs.com/event/ap-testing-3/2026-05-06/
CATEGORIES:Assembly or Other Program
ATTACH;FMTTYPE=image/jpeg:https://mlwgs.com/wp-content/uploads/2024/07/mag-default-image.jpg
ORGANIZER;CN="Dr. Rachel Loving":MAILTO:rloving@gsgis.k12.va.us
END:VEVENT
BEGIN:VEVENT
DTSTART;TZID=America/New_York:20260507T083000
DTEND;TZID=America/New_York:20260507T151500
DTSTAMP:20260424T030341
CREATED:20250602T185238Z
LAST-MODIFIED:20250602T185640Z
UID:10004646-1778142600-1778166900@mlwgs.com
SUMMARY:AP Testing
DESCRIPTION:
URL:https://mlwgs.com/event/ap-testing-3/2026-05-07/
CATEGORIES:Assembly or Other Program
ATTACH;FMTTYPE=image/jpeg:https://mlwgs.com/wp-content/uploads/2024/07/mag-default-image.jpg
ORGANIZER;CN="Dr. Rachel Loving":MAILTO:rloving@gsgis.k12.va.us
END:VEVENT
BEGIN:VEVENT
DTSTART;TZID=America/New_York:20260508T083000
DTEND;TZID=America/New_York:20260508T151500
DTSTAMP:20260424T030341
CREATED:20250602T185238Z
LAST-MODIFIED:20250602T185640Z
UID:10004647-1778229000-1778253300@mlwgs.com
SUMMARY:AP Testing
DESCRIPTION:
URL:https://mlwgs.com/event/ap-testing-3/2026-05-08/
CATEGORIES:Assembly or Other Program
ATTACH;FMTTYPE=image/jpeg:https://mlwgs.com/wp-content/uploads/2024/07/mag-default-image.jpg
ORGANIZER;CN="Dr. Rachel Loving":MAILTO:rloving@gsgis.k12.va.us
END:VEVENT
END:VCALENDAR