BEGIN:VCALENDAR
VERSION:2.0
PRODID:-//Maggie L. Walker Governor&#039;s School - ECPv6.15.17.1//NONSGML v1.0//EN
CALSCALE:GREGORIAN
METHOD:PUBLISH
X-WR-CALNAME:Maggie L. Walker Governor&#039;s School
X-ORIGINAL-URL:https://mlwgs.com
X-WR-CALDESC:Events for Maggie L. Walker Governor&#039;s School
REFRESH-INTERVAL;VALUE=DURATION:PT1H
X-Robots-Tag:noindex
X-PUBLISHED-TTL:PT1H
BEGIN:VTIMEZONE
TZID:America/New_York
BEGIN:DAYLIGHT
TZOFFSETFROM:-0500
TZOFFSETTO:-0400
TZNAME:EDT
DTSTART:20240310T070000
END:DAYLIGHT
BEGIN:STANDARD
TZOFFSETFROM:-0400
TZOFFSETTO:-0500
TZNAME:EST
DTSTART:20241103T060000
END:STANDARD
BEGIN:DAYLIGHT
TZOFFSETFROM:-0500
TZOFFSETTO:-0400
TZNAME:EDT
DTSTART:20250309T070000
END:DAYLIGHT
BEGIN:STANDARD
TZOFFSETFROM:-0400
TZOFFSETTO:-0500
TZNAME:EST
DTSTART:20251102T060000
END:STANDARD
BEGIN:DAYLIGHT
TZOFFSETFROM:-0500
TZOFFSETTO:-0400
TZNAME:EDT
DTSTART:20260308T070000
END:DAYLIGHT
BEGIN:STANDARD
TZOFFSETFROM:-0400
TZOFFSETTO:-0500
TZNAME:EST
DTSTART:20261101T060000
END:STANDARD
END:VTIMEZONE
BEGIN:VEVENT
DTSTART;TZID=America/New_York:20250501T080000
DTEND;TZID=America/New_York:20250501T200000
DTSTAMP:20260421T051935
CREATED:20250128T135219Z
LAST-MODIFIED:20250128T135219Z
UID:10004103-1746086400-1746129600@mlwgs.com
SUMMARY:Music Classes (Auditorium)
DESCRIPTION:
URL:https://mlwgs.com/event/music-classes-auditorium-2/2025-05-01/
LOCATION:MLWGS Auditorium
CATEGORIES:Building Activity for MLWGS
ATTACH;FMTTYPE=image/jpeg:https://mlwgs.com/wp-content/uploads/2024/07/mag-default-image.jpg
ORGANIZER;CN="Mr. Nicholas Merillat":MAILTO:nmerillat@gsgis.k12.va.us
END:VEVENT
BEGIN:VEVENT
DTSTART;TZID=America/New_York:20250501T153000
DTEND;TZID=America/New_York:20250501T170000
DTSTAMP:20260421T051935
CREATED:20240822T145332Z
LAST-MODIFIED:20240822T145332Z
UID:10002913-1746113400-1746118800@mlwgs.com
SUMMARY:Testing Lab (Rm 201)
DESCRIPTION:The Testing Lab is available for all teachers to use\, so multiple assessments may be administered simultaneously. To manage this\, we space out students taking the same test\, ask students using computers to sit with their screens facing us\, and enforce the following rules: no food or drinks\, no personal items (including cell phones or earbuds)\, no talking\, and no bathroom breaks once testing has started. \nPlease note that students don’t need to arrive exactly at 3:30—they can come anytime within the Testing Lab window\, as long as they finish by 5:00 PM.
URL:https://mlwgs.com/event/testing-lab-rm-201-3/2025-05-01/
LOCATION:MLWGS Room 201
CATEGORIES:Building Activity for MLWGS
ATTACH;FMTTYPE=image/jpeg:https://mlwgs.com/wp-content/uploads/2024/07/logo_color-1.jpg
END:VEVENT
BEGIN:VEVENT
DTSTART;TZID=America/New_York:20250502T080000
DTEND;TZID=America/New_York:20250502T200000
DTSTAMP:20260421T051935
CREATED:20250128T135219Z
LAST-MODIFIED:20250128T135219Z
UID:10004104-1746172800-1746216000@mlwgs.com
SUMMARY:Music Classes (Auditorium)
DESCRIPTION:
URL:https://mlwgs.com/event/music-classes-auditorium-2/2025-05-02/
LOCATION:MLWGS Auditorium
CATEGORIES:Building Activity for MLWGS
ATTACH;FMTTYPE=image/jpeg:https://mlwgs.com/wp-content/uploads/2024/07/mag-default-image.jpg
ORGANIZER;CN="Mr. Nicholas Merillat":MAILTO:nmerillat@gsgis.k12.va.us
END:VEVENT
BEGIN:VEVENT
DTSTART;TZID=America/New_York:20250502T083000
DTEND;TZID=America/New_York:20250502T123000
DTSTAMP:20260421T051935
CREATED:20250127T175056Z
LAST-MODIFIED:20250127T175056Z
UID:10004089-1746174600-1746189000@mlwgs.com
SUMMARY:NetOps (Room 221)
DESCRIPTION:
URL:https://mlwgs.com/event/netops-room-221/2025-05-02/
LOCATION:MLWGS Room 221
CATEGORIES:Building Activity for MLWGS
ATTACH;FMTTYPE=image/jpeg:https://mlwgs.com/wp-content/uploads/2024/07/mag-default-image.jpg
END:VEVENT
BEGIN:VEVENT
DTSTART;TZID=America/New_York:20250502T113000
DTEND;TZID=America/New_York:20250502T121500
DTSTAMP:20260421T051935
CREATED:20250416T124310Z
LAST-MODIFIED:20250429T181259Z
UID:10004451-1746185400-1746188100@mlwgs.com
SUMMARY:Intensive Artist Orchestra Senior Project (Auditorium)
DESCRIPTION:One of our seniors will be giving a solo recital in the auditorium.
URL:https://mlwgs.com/event/intensive-artist-orchestra-senior-project-auditorium/
LOCATION:MLWGS Auditorium
CATEGORIES:Building Activity for MLWGS
ATTACH;FMTTYPE=image/jpeg:https://mlwgs.com/wp-content/uploads/2024/07/mag-default-image.jpg
ORGANIZER;CN="Ms. Allison Barnes":MAILTO:abarnes@gsgis.k12.va.us
END:VEVENT
BEGIN:VEVENT
DTSTART;TZID=America/New_York:20250502T113000
DTEND;TZID=America/New_York:20250502T123000
DTSTAMP:20260421T051935
CREATED:20250424T193903Z
LAST-MODIFIED:20250425T163937Z
UID:10004464-1746185400-1746189000@mlwgs.com
SUMMARY:Ms. Voight World History II SOL Review (Forum)
DESCRIPTION:
URL:https://mlwgs.com/event/ms-voight-world-history-ii-sol-review-forum/2025-05-02/
LOCATION:MLWGS Forum
CATEGORIES:Building Activity for MLWGS
ATTACH;FMTTYPE=image/jpeg:https://mlwgs.com/wp-content/uploads/2024/07/mag-default-image.jpg
END:VEVENT
BEGIN:VEVENT
DTSTART;TZID=America/New_York:20250502T153000
DTEND;TZID=America/New_York:20250502T170000
DTSTAMP:20260421T051935
CREATED:20241011T162005Z
LAST-MODIFIED:20241011T162005Z
UID:10003360-1746199800-1746205200@mlwgs.com
SUMMARY:Orchestra Concert Dress Rehearsal (Auditorium)
DESCRIPTION:
URL:https://mlwgs.com/event/orchestra-concert-dress-rehearsal-auditorium/
LOCATION:MLWGS Auditorium
CATEGORIES:Building Activity for MLWGS
ATTACH;FMTTYPE=image/jpeg:https://mlwgs.com/wp-content/uploads/2024/07/mag-default-image.jpg
ORGANIZER;CN="Ms. Allison Barnes":MAILTO:abarnes@gsgis.k12.va.us
END:VEVENT
BEGIN:VEVENT
DTSTART;TZID=America/New_York:20250502T190000
DTEND;TZID=America/New_York:20250502T203000
DTSTAMP:20260421T051935
CREATED:20241011T154527Z
LAST-MODIFIED:20241011T154527Z
UID:10003357-1746212400-1746217800@mlwgs.com
SUMMARY:Orchestra Concert (Auditorium)
DESCRIPTION:
URL:https://mlwgs.com/event/orchestra-concert-auditorium/
LOCATION:MLWGS Auditorium
CATEGORIES:Building Activity for MLWGS
ATTACH;FMTTYPE=image/jpeg:https://mlwgs.com/wp-content/uploads/2024/07/mag-default-image.jpg
ORGANIZER;CN="Ms. Allison Barnes":MAILTO:abarnes@gsgis.k12.va.us
END:VEVENT
BEGIN:VEVENT
DTSTART;TZID=America/New_York:20250503T090000
DTEND;TZID=America/New_York:20250503T140000
DTSTAMP:20260421T051935
CREATED:20250218T204745Z
LAST-MODIFIED:20250218T204745Z
UID:10004261-1746262800-1746280800@mlwgs.com
SUMMARY:VBODA Solo and Ensemble (Commons\, Cafeteria\, Auditorium\, Rooms 104\, 105\, 106\, 120\, and 124)
DESCRIPTION:
URL:https://mlwgs.com/event/vboda-solo-and-ensemble-commons-cafeteria-auditorium-rooms-104-105-106-120-and-124/
CATEGORIES:Building Activity for MLWGS
ATTACH;FMTTYPE=image/jpeg:https://mlwgs.com/wp-content/uploads/2024/07/mag-default-image.jpg
END:VEVENT
BEGIN:VEVENT
DTSTART;TZID=America/New_York:20250504T123000
DTEND;TZID=America/New_York:20250504T180000
DTSTAMP:20260421T051935
CREATED:20250410T172729Z
LAST-MODIFIED:20250410T172729Z
UID:10004423-1746361800-1746381600@mlwgs.com
SUMMARY:AP Calculus BC Review (Rm 153)
DESCRIPTION:
URL:https://mlwgs.com/event/ap-calculus-bc-review-rm-153/
LOCATION:mlwgs room153
CATEGORIES:Building Activity for MLWGS
ATTACH;FMTTYPE=image/jpeg:https://mlwgs.com/wp-content/uploads/2024/07/mag-default-image.jpg
ORGANIZER;CN="Lynn Reed":MAILTO:lreed@gsgis.k12.va.us
END:VEVENT
BEGIN:VEVENT
DTSTART;TZID=America/New_York:20250505T153000
DTEND;TZID=America/New_York:20250505T170000
DTSTAMP:20260421T051935
CREATED:20240822T144706Z
LAST-MODIFIED:20241029T183442Z
UID:10002845-1746459000-1746464400@mlwgs.com
SUMMARY:Testing Lab (Rm 201)
DESCRIPTION:The Testing Lab is available for all teachers to use\, so multiple assessments may be administered simultaneously. To manage this\, we space out students taking the same test\, ask students using computers to sit with their screens facing us\, and enforce the following rules: no food or drinks\, no personal items (including cell phones or earbuds)\, no talking\, and no bathroom breaks once testing has started. \nPlease note that students don’t need to arrive exactly at 3:30—they can come anytime within the Testing Lab window\, as long as they finish by 5:00 PM.
URL:https://mlwgs.com/event/testing-lab-rm-201/2025-05-05/
LOCATION:MLWGS Room 201
CATEGORIES:Building Activity for MLWGS
ATTACH;FMTTYPE=image/jpeg:https://mlwgs.com/wp-content/uploads/2024/07/logo_color-1.jpg
END:VEVENT
BEGIN:VEVENT
DTSTART;TZID=America/New_York:20250506T084000
DTEND;TZID=America/New_York:20250506T100000
DTSTAMP:20260421T051935
CREATED:20240826T140440Z
LAST-MODIFIED:20240826T140440Z
UID:10003130-1746520800-1746525600@mlwgs.com
SUMMARY:Leadership Meeting (Rm 153)
DESCRIPTION:
URL:https://mlwgs.com/event/leadership-meeting-rm-153-2/2025-05-06/
LOCATION:MLWGS Room 153
CATEGORIES:Building Activity for MLWGS
ATTACH;FMTTYPE=image/jpeg:https://mlwgs.com/wp-content/uploads/2024/07/logo_color-1.jpg
ORGANIZER;CN="Dr. Michael Smith":MAILTO:msmith@gsgis,k12.va.us
END:VEVENT
BEGIN:VEVENT
DTSTART;TZID=America/New_York:20250506T153000
DTEND;TZID=America/New_York:20250506T163000
DTSTAMP:20260421T051935
CREATED:20241014T134135Z
LAST-MODIFIED:20241015T174922Z
UID:10002391-1746545400-1746549000@mlwgs.com
SUMMARY:Required Faculty Meeting (Forum)
DESCRIPTION:
URL:https://mlwgs.com/event/faculty-meeting-forum-2-2-2/2025-05-06/
LOCATION:MLWGS Forum
CATEGORIES:Building Activity for MLWGS
ATTACH;FMTTYPE=image/jpeg:https://mlwgs.com/wp-content/uploads/2024/07/logo_color-1.jpg
ORGANIZER;CN="Dr. Robert Lowerre":MAILTO:rlowerre@gsgis.k12.va.us
END:VEVENT
BEGIN:VEVENT
DTSTART;TZID=America/New_York:20250506T173000
DTEND;TZID=America/New_York:20250506T183000
DTSTAMP:20260421T051935
CREATED:20250428T124359Z
LAST-MODIFIED:20250428T162335Z
UID:10004469-1746552600-1746556200@mlwgs.com
SUMMARY:German Exchange Trip Meeting (Forum)
DESCRIPTION:
URL:https://mlwgs.com/event/german-exchange-trip-meeting-location-tbd/
CATEGORIES:Building Activity for MLWGS
ATTACH;FMTTYPE=image/jpeg:https://mlwgs.com/wp-content/uploads/2024/07/mag-default-image.jpg
ORGANIZER;CN="Ms. Kristen Macklin":MAILTO:kmacklin@gsgis.k12.va.us
END:VEVENT
BEGIN:VEVENT
DTSTART;TZID=America/New_York:20250507T153000
DTEND;TZID=America/New_York:20250507T170000
DTSTAMP:20260421T051935
CREATED:20240822T144951Z
LAST-MODIFIED:20240822T145445Z
UID:10002880-1746631800-1746637200@mlwgs.com
SUMMARY:Testing Lab (Rm 201)
DESCRIPTION:The Testing Lab is available for all teachers to use\, so multiple assessments may be administered simultaneously. To manage this\, we space out students taking the same test\, ask students using computers to sit with their screens facing us\, and enforce the following rules: no food or drinks\, no personal items (including cell phones or earbuds)\, no talking\, and no bathroom breaks once testing has started. \nPlease note that students don’t need to arrive exactly at 3:30—they can come anytime within the Testing Lab window\, as long as they finish by 5:00 PM.
URL:https://mlwgs.com/event/testing-lab-rm-201-2/2025-05-07/
LOCATION:MLWGS Room 201
CATEGORIES:Building Activity for MLWGS
ATTACH;FMTTYPE=image/jpeg:https://mlwgs.com/wp-content/uploads/2024/07/logo_color-1.jpg
END:VEVENT
BEGIN:VEVENT
DTSTART;TZID=America/New_York:20250508T153000
DTEND;TZID=America/New_York:20250508T170000
DTSTAMP:20260421T051935
CREATED:20240822T145332Z
LAST-MODIFIED:20240822T145332Z
UID:10002914-1746718200-1746723600@mlwgs.com
SUMMARY:Testing Lab (Rm 201)
DESCRIPTION:The Testing Lab is available for all teachers to use\, so multiple assessments may be administered simultaneously. To manage this\, we space out students taking the same test\, ask students using computers to sit with their screens facing us\, and enforce the following rules: no food or drinks\, no personal items (including cell phones or earbuds)\, no talking\, and no bathroom breaks once testing has started. \nPlease note that students don’t need to arrive exactly at 3:30—they can come anytime within the Testing Lab window\, as long as they finish by 5:00 PM.
URL:https://mlwgs.com/event/testing-lab-rm-201-3/2025-05-08/
LOCATION:MLWGS Room 201
CATEGORIES:Building Activity for MLWGS
ATTACH;FMTTYPE=image/jpeg:https://mlwgs.com/wp-content/uploads/2024/07/logo_color-1.jpg
END:VEVENT
BEGIN:VEVENT
DTSTART;TZID=America/New_York:20250509T113000
DTEND;TZID=America/New_York:20250509T123000
DTSTAMP:20260421T051935
CREATED:20250424T193903Z
LAST-MODIFIED:20250425T163937Z
UID:10004466-1746790200-1746793800@mlwgs.com
SUMMARY:Ms. Voight World History II SOL Review (Forum)
DESCRIPTION:
URL:https://mlwgs.com/event/ms-voight-world-history-ii-sol-review-forum/2025-05-09/
LOCATION:MLWGS Forum
CATEGORIES:Building Activity for MLWGS
ATTACH;FMTTYPE=image/jpeg:https://mlwgs.com/wp-content/uploads/2024/07/mag-default-image.jpg
END:VEVENT
BEGIN:VEVENT
DTSTART;TZID=America/New_York:20250512T153000
DTEND;TZID=America/New_York:20250512T170000
DTSTAMP:20260421T051935
CREATED:20240822T144706Z
LAST-MODIFIED:20241029T183442Z
UID:10002846-1747063800-1747069200@mlwgs.com
SUMMARY:Testing Lab (Rm 201)
DESCRIPTION:The Testing Lab is available for all teachers to use\, so multiple assessments may be administered simultaneously. To manage this\, we space out students taking the same test\, ask students using computers to sit with their screens facing us\, and enforce the following rules: no food or drinks\, no personal items (including cell phones or earbuds)\, no talking\, and no bathroom breaks once testing has started. \nPlease note that students don’t need to arrive exactly at 3:30—they can come anytime within the Testing Lab window\, as long as they finish by 5:00 PM.
URL:https://mlwgs.com/event/testing-lab-rm-201/2025-05-12/
LOCATION:MLWGS Room 201
CATEGORIES:Building Activity for MLWGS
ATTACH;FMTTYPE=image/jpeg:https://mlwgs.com/wp-content/uploads/2024/07/logo_color-1.jpg
END:VEVENT
BEGIN:VEVENT
DTSTART;TZID=America/New_York:20250513T083000
DTEND;TZID=America/New_York:20250513T100000
DTSTAMP:20260421T051935
CREATED:20250507T130433Z
LAST-MODIFIED:20250507T130433Z
UID:10004490-1747125000-1747130400@mlwgs.com
SUMMARY:Hold for Administration (Rm 221)
DESCRIPTION:
URL:https://mlwgs.com/event/hold-for-administration-rm-221-2/2025-05-13/1/
LOCATION:MLWGS Room 221
CATEGORIES:Building Activity for MLWGS
ATTACH;FMTTYPE=image/jpeg:https://mlwgs.com/wp-content/uploads/2024/07/mag-default-image.jpg
END:VEVENT
BEGIN:VEVENT
DTSTART;TZID=America/New_York:20250513T123000
DTEND;TZID=America/New_York:20250513T133000
DTSTAMP:20260421T051935
CREATED:20250507T130433Z
LAST-MODIFIED:20250507T130433Z
UID:10004491-1747139400-1747143000@mlwgs.com
SUMMARY:Hold for Administration (Rm 221)
DESCRIPTION:
URL:https://mlwgs.com/event/hold-for-administration-rm-221-2/2025-05-13/2/
LOCATION:MLWGS Room 221
CATEGORIES:Building Activity for MLWGS
ATTACH;FMTTYPE=image/jpeg:https://mlwgs.com/wp-content/uploads/2024/07/mag-default-image.jpg
END:VEVENT
BEGIN:VEVENT
DTSTART;TZID=America/New_York:20250513T153000
DTEND;TZID=America/New_York:20250513T163000
DTSTAMP:20260421T051935
CREATED:20240819T193140Z
LAST-MODIFIED:20240819T193140Z
UID:10002792-1747150200-1747153800@mlwgs.com
SUMMARY:Subcommittee Meetings As Needed (Various Locations)
DESCRIPTION:Second Tuesday–flexible format & timing–These Tuesday afternoons will be designated for subcommittee meetings. Some subcommittees may meet during lunch or during alternative times. If you do not have a meeting\, you may leave school at 3:30.
URL:https://mlwgs.com/event/subcommittee-meetings-as-needed-various-locations/2025-05-13/
CATEGORIES:Building Activity for MLWGS
ATTACH;FMTTYPE=image/jpeg:https://mlwgs.com/wp-content/uploads/2024/07/logo_color-1.jpg
END:VEVENT
BEGIN:VEVENT
DTSTART;TZID=America/New_York:20250514T153000
DTEND;TZID=America/New_York:20250514T170000
DTSTAMP:20260421T051935
CREATED:20240822T144951Z
LAST-MODIFIED:20240822T145445Z
UID:10002881-1747236600-1747242000@mlwgs.com
SUMMARY:Testing Lab (Rm 201)
DESCRIPTION:The Testing Lab is available for all teachers to use\, so multiple assessments may be administered simultaneously. To manage this\, we space out students taking the same test\, ask students using computers to sit with their screens facing us\, and enforce the following rules: no food or drinks\, no personal items (including cell phones or earbuds)\, no talking\, and no bathroom breaks once testing has started. \nPlease note that students don’t need to arrive exactly at 3:30—they can come anytime within the Testing Lab window\, as long as they finish by 5:00 PM.
URL:https://mlwgs.com/event/testing-lab-rm-201-2/2025-05-14/
LOCATION:MLWGS Room 201
CATEGORIES:Building Activity for MLWGS
ATTACH;FMTTYPE=image/jpeg:https://mlwgs.com/wp-content/uploads/2024/07/logo_color-1.jpg
END:VEVENT
BEGIN:VEVENT
DTSTART;TZID=America/New_York:20250515T083000
DTEND;TZID=America/New_York:20250515T100000
DTSTAMP:20260421T051935
CREATED:20250507T130433Z
LAST-MODIFIED:20250507T130433Z
UID:10004492-1747297800-1747303200@mlwgs.com
SUMMARY:Hold for Administration (Rm 221)
DESCRIPTION:
URL:https://mlwgs.com/event/hold-for-administration-rm-221-2/2025-05-15/1/
LOCATION:MLWGS Room 221
CATEGORIES:Building Activity for MLWGS
ATTACH;FMTTYPE=image/jpeg:https://mlwgs.com/wp-content/uploads/2024/07/mag-default-image.jpg
END:VEVENT
BEGIN:VEVENT
DTSTART;TZID=America/New_York:20250515T123000
DTEND;TZID=America/New_York:20250515T133000
DTSTAMP:20260421T051935
CREATED:20250507T130433Z
LAST-MODIFIED:20250507T130433Z
UID:10004493-1747312200-1747315800@mlwgs.com
SUMMARY:Hold for Administration (Rm 221)
DESCRIPTION:
URL:https://mlwgs.com/event/hold-for-administration-rm-221-2/2025-05-15/2/
LOCATION:MLWGS Room 221
CATEGORIES:Building Activity for MLWGS
ATTACH;FMTTYPE=image/jpeg:https://mlwgs.com/wp-content/uploads/2024/07/mag-default-image.jpg
END:VEVENT
BEGIN:VEVENT
DTSTART;TZID=America/New_York:20250515T153000
DTEND;TZID=America/New_York:20250515T170000
DTSTAMP:20260421T051935
CREATED:20240822T145332Z
LAST-MODIFIED:20240822T145332Z
UID:10002915-1747323000-1747328400@mlwgs.com
SUMMARY:Testing Lab (Rm 201)
DESCRIPTION:The Testing Lab is available for all teachers to use\, so multiple assessments may be administered simultaneously. To manage this\, we space out students taking the same test\, ask students using computers to sit with their screens facing us\, and enforce the following rules: no food or drinks\, no personal items (including cell phones or earbuds)\, no talking\, and no bathroom breaks once testing has started. \nPlease note that students don’t need to arrive exactly at 3:30—they can come anytime within the Testing Lab window\, as long as they finish by 5:00 PM.
URL:https://mlwgs.com/event/testing-lab-rm-201-3/2025-05-15/
LOCATION:MLWGS Room 201
CATEGORIES:Building Activity for MLWGS
ATTACH;FMTTYPE=image/jpeg:https://mlwgs.com/wp-content/uploads/2024/07/logo_color-1.jpg
END:VEVENT
BEGIN:VEVENT
DTSTART;TZID=America/New_York:20250516T113000
DTEND;TZID=America/New_York:20250516T123000
DTSTAMP:20260421T051935
CREATED:20250424T193903Z
LAST-MODIFIED:20250425T163937Z
UID:10004467-1747395000-1747398600@mlwgs.com
SUMMARY:Ms. Voight World History II SOL Review (Forum)
DESCRIPTION:
URL:https://mlwgs.com/event/ms-voight-world-history-ii-sol-review-forum/2025-05-16/
LOCATION:MLWGS Forum
CATEGORIES:Building Activity for MLWGS
ATTACH;FMTTYPE=image/jpeg:https://mlwgs.com/wp-content/uploads/2024/07/mag-default-image.jpg
END:VEVENT
BEGIN:VEVENT
DTSTART;TZID=America/New_York:20250519T153000
DTEND;TZID=America/New_York:20250519T170000
DTSTAMP:20260421T051935
CREATED:20240822T144706Z
LAST-MODIFIED:20241029T183442Z
UID:10002847-1747668600-1747674000@mlwgs.com
SUMMARY:Testing Lab (Rm 201)
DESCRIPTION:The Testing Lab is available for all teachers to use\, so multiple assessments may be administered simultaneously. To manage this\, we space out students taking the same test\, ask students using computers to sit with their screens facing us\, and enforce the following rules: no food or drinks\, no personal items (including cell phones or earbuds)\, no talking\, and no bathroom breaks once testing has started. \nPlease note that students don’t need to arrive exactly at 3:30—they can come anytime within the Testing Lab window\, as long as they finish by 5:00 PM.
URL:https://mlwgs.com/event/testing-lab-rm-201/2025-05-19/
LOCATION:MLWGS Room 201
CATEGORIES:Building Activity for MLWGS
ATTACH;FMTTYPE=image/jpeg:https://mlwgs.com/wp-content/uploads/2024/07/logo_color-1.jpg
END:VEVENT
BEGIN:VEVENT
DTSTART;TZID=America/New_York:20250520T153000
DTEND;TZID=America/New_York:20250520T163000
DTSTAMP:20260421T051935
CREATED:20240819T190614Z
LAST-MODIFIED:20240819T190614Z
UID:10002774-1747755000-1747758600@mlwgs.com
SUMMARY:Department Meetings If Needed (Various Locations)
DESCRIPTION:Check with your department chair.
URL:https://mlwgs.com/event/department-meetings-if-needed-various-locations/2025-05-20/
CATEGORIES:Building Activity for MLWGS
ATTACH;FMTTYPE=image/jpeg:https://mlwgs.com/wp-content/uploads/2024/07/logo_color-1.jpg
ORGANIZER;CN="Dr. Lisa Williams":MAILTO:lisa.williams@gsgis.k12.va.us
END:VEVENT
BEGIN:VEVENT
DTSTART;TZID=America/New_York:20250521T113000
DTEND;TZID=America/New_York:20250521T123000
DTSTAMP:20260421T051935
CREATED:20250424T193903Z
LAST-MODIFIED:20250425T163937Z
UID:10004468-1747827000-1747830600@mlwgs.com
SUMMARY:Ms. Voight World History II SOL Review (Forum)
DESCRIPTION:
URL:https://mlwgs.com/event/ms-voight-world-history-ii-sol-review-forum/2025-05-21/
LOCATION:MLWGS Forum
CATEGORIES:Building Activity for MLWGS
ATTACH;FMTTYPE=image/jpeg:https://mlwgs.com/wp-content/uploads/2024/07/mag-default-image.jpg
END:VEVENT
BEGIN:VEVENT
DTSTART;TZID=America/New_York:20250521T153000
DTEND;TZID=America/New_York:20250521T170000
DTSTAMP:20260421T051935
CREATED:20240822T144951Z
LAST-MODIFIED:20240822T145445Z
UID:10002882-1747841400-1747846800@mlwgs.com
SUMMARY:Testing Lab (Rm 201)
DESCRIPTION:The Testing Lab is available for all teachers to use\, so multiple assessments may be administered simultaneously. To manage this\, we space out students taking the same test\, ask students using computers to sit with their screens facing us\, and enforce the following rules: no food or drinks\, no personal items (including cell phones or earbuds)\, no talking\, and no bathroom breaks once testing has started. \nPlease note that students don’t need to arrive exactly at 3:30—they can come anytime within the Testing Lab window\, as long as they finish by 5:00 PM.
URL:https://mlwgs.com/event/testing-lab-rm-201-2/2025-05-21/
LOCATION:MLWGS Room 201
CATEGORIES:Building Activity for MLWGS
ATTACH;FMTTYPE=image/jpeg:https://mlwgs.com/wp-content/uploads/2024/07/logo_color-1.jpg
END:VEVENT
END:VCALENDAR