BEGIN:VCALENDAR
VERSION:2.0
PRODID:-//Maggie L. Walker Governor&#039;s School - ECPv6.15.17.1//NONSGML v1.0//EN
CALSCALE:GREGORIAN
METHOD:PUBLISH
X-WR-CALNAME:Maggie L. Walker Governor&#039;s School
X-ORIGINAL-URL:https://mlwgs.com
X-WR-CALDESC:Events for Maggie L. Walker Governor&#039;s School
REFRESH-INTERVAL;VALUE=DURATION:PT1H
X-Robots-Tag:noindex
X-PUBLISHED-TTL:PT1H
BEGIN:VTIMEZONE
TZID:America/New_York
BEGIN:DAYLIGHT
TZOFFSETFROM:-0500
TZOFFSETTO:-0400
TZNAME:EDT
DTSTART:20240310T070000
END:DAYLIGHT
BEGIN:STANDARD
TZOFFSETFROM:-0400
TZOFFSETTO:-0500
TZNAME:EST
DTSTART:20241103T060000
END:STANDARD
BEGIN:DAYLIGHT
TZOFFSETFROM:-0500
TZOFFSETTO:-0400
TZNAME:EDT
DTSTART:20250309T070000
END:DAYLIGHT
BEGIN:STANDARD
TZOFFSETFROM:-0400
TZOFFSETTO:-0500
TZNAME:EST
DTSTART:20251102T060000
END:STANDARD
BEGIN:DAYLIGHT
TZOFFSETFROM:-0500
TZOFFSETTO:-0400
TZNAME:EDT
DTSTART:20260308T070000
END:DAYLIGHT
BEGIN:STANDARD
TZOFFSETFROM:-0400
TZOFFSETTO:-0500
TZNAME:EST
DTSTART:20261101T060000
END:STANDARD
END:VTIMEZONE
BEGIN:VEVENT
DTSTART;TZID=America/New_York:20251203T183000
DTEND;TZID=America/New_York:20251203T200000
DTSTAMP:20260421T150756
CREATED:20250923T130640Z
LAST-MODIFIED:20251009T175555Z
UID:10007285-1764786600-1764792000@mlwgs.com
SUMMARY:Honor Council Town Hall Meeting (Auditorium)
DESCRIPTION:
URL:https://mlwgs.com/event/town-hall-meeting-auditorium/
LOCATION:MLWGS Auditorium
CATEGORIES:Building Activity for MLWGS
ATTACH;FMTTYPE=image/jpeg:https://mlwgs.com/wp-content/uploads/2024/07/mag-default-image.jpg
ORGANIZER;CN="Dr. Lisa Williams":MAILTO:lisa.williams@gsgis.k12.va.us
END:VEVENT
BEGIN:VEVENT
DTSTART;TZID=America/New_York:20251202T153000
DTEND;TZID=America/New_York:20251202T163000
DTSTAMP:20260421T150756
CREATED:20250930T172321Z
LAST-MODIFIED:20250930T172321Z
UID:10007327-1764689400-1764693000@mlwgs.com
SUMMARY:Professional Development Activity: Faculty Tea Class (Rm 153)
DESCRIPTION:
URL:https://mlwgs.com/event/professional-development-activity-faculty-tea-class-rm-153/
LOCATION:MLWGS Room 153
CATEGORIES:Building Activity for MLWGS
ATTACH;FMTTYPE=image/jpeg:https://mlwgs.com/wp-content/uploads/2024/07/mag-default-image.jpg
ORGANIZER;CN="Ms. Joy Cobb":MAILTO:jcobb@gsgis.k12.va.us
END:VEVENT
BEGIN:VEVENT
DTSTART;TZID=America/New_York:20251202T153000
DTEND;TZID=America/New_York:20251202T163000
DTSTAMP:20260421T150756
CREATED:20250930T172052Z
LAST-MODIFIED:20250930T181706Z
UID:10005584-1764689400-1764693000@mlwgs.com
SUMMARY:Faculty Meeting (Virtual)
DESCRIPTION:
URL:https://mlwgs.com/event/faculty-meeting-forum-3-2/
LOCATION:MLWGS Forum
CATEGORIES:Building Activity for MLWGS
ATTACH;FMTTYPE=image/jpeg:https://mlwgs.com/wp-content/uploads/2024/07/mag-default-image.jpg
ORGANIZER;CN="Ms Barbara Marshall":MAILTO:bmarshall@gsgis.k12.va.us
END:VEVENT
BEGIN:VEVENT
DTSTART;TZID=America/New_York:20251202T130000
DTEND;TZID=America/New_York:20251202T133000
DTSTAMP:20260421T150756
CREATED:20251201T155806Z
LAST-MODIFIED:20251201T155806Z
UID:10007412-1764680400-1764682200@mlwgs.com
SUMMARY:Pre-Event Meeting (221)
DESCRIPTION:RPS School Board Meetings (Districts 2 and 3) \nPlanning Team
URL:https://mlwgs.com/event/pre-event-meeting-221/
CATEGORIES:Building Activity for MLWGS
ATTACH;FMTTYPE=image/jpeg:https://mlwgs.com/wp-content/uploads/2024/07/mag-default-image.jpg
END:VEVENT
BEGIN:VEVENT
DTSTART;TZID=America/New_York:20251202T084500
DTEND;TZID=America/New_York:20251202T100000
DTSTAMP:20260421T150756
CREATED:20250728T194335Z
LAST-MODIFIED:20250728T194335Z
UID:10005569-1764665100-1764669600@mlwgs.com
SUMMARY:Leadership Meeting (Rm 153)
DESCRIPTION:
URL:https://mlwgs.com/event/leadership-meeting-rm-153-4/2025-12-02/
LOCATION:MLWGS Room 153
CATEGORIES:Building Activity for MLWGS
ATTACH;FMTTYPE=image/jpeg:https://mlwgs.com/wp-content/uploads/2024/07/mag-default-image.jpg
ORGANIZER;CN="Ms Barbara Marshall":MAILTO:bmarshall@gsgis.k12.va.us
END:VEVENT
BEGIN:VEVENT
DTSTART;TZID=America/New_York:20251121T083000
DTEND;TZID=America/New_York:20251121T114000
DTSTAMP:20260421T150756
CREATED:20251024T022732Z
LAST-MODIFIED:20251024T022732Z
UID:10007367-1763713800-1763725200@mlwgs.com
SUMMARY:Salsa Dancing Lessons (gym)
DESCRIPTION:
URL:https://mlwgs.com/event/salsa-dancing-lessons-gym/
LOCATION:MLWGS Gymnasium
CATEGORIES:Building Activity for MLWGS
ATTACH;FMTTYPE=image/jpeg:https://mlwgs.com/wp-content/uploads/2024/07/mag-default-image.jpg
ORGANIZER;CN="Ms. Amanda Lemco":MAILTO:alemco@gsgis.k12.va.us
END:VEVENT
BEGIN:VEVENT
DTSTART;TZID=America/New_York:20251118T084500
DTEND;TZID=America/New_York:20251118T100000
DTSTAMP:20260421T150756
CREATED:20250728T194335Z
LAST-MODIFIED:20250728T194335Z
UID:10005568-1763455500-1763460000@mlwgs.com
SUMMARY:Leadership Meeting (Rm 153)
DESCRIPTION:
URL:https://mlwgs.com/event/leadership-meeting-rm-153-4/2025-11-18/
LOCATION:MLWGS Room 153
CATEGORIES:Building Activity for MLWGS
ATTACH;FMTTYPE=image/jpeg:https://mlwgs.com/wp-content/uploads/2024/07/mag-default-image.jpg
ORGANIZER;CN="Ms Barbara Marshall":MAILTO:bmarshall@gsgis.k12.va.us
END:VEVENT
BEGIN:VEVENT
DTSTART;TZID=America/New_York:20251117T180000
DTEND;TZID=America/New_York:20251117T193000
DTSTAMP:20260421T150756
CREATED:20251024T155143Z
LAST-MODIFIED:20251117T150903Z
UID:10007368-1763402400-1763407800@mlwgs.com
SUMMARY:Art Exhibit/Reception for German V and AP German (Room 153)
DESCRIPTION:
URL:https://mlwgs.com/event/art-exhibit-reception-for-german-v-and-ap-german-room-153/
LOCATION:MLWGS Room 153
CATEGORIES:Building Activity for MLWGS
ATTACH;FMTTYPE=image/jpeg:https://mlwgs.com/wp-content/uploads/2024/07/mag-default-image.jpg
ORGANIZER;CN="Ms. Kristen Macklin":MAILTO:kmacklin@gsgis.k12.va.us
END:VEVENT
BEGIN:VEVENT
DTSTART;TZID=America/New_York:20251111T153000
DTEND;TZID=America/New_York:20251111T163000
DTSTAMP:20260421T150756
CREATED:20250907T191058Z
LAST-MODIFIED:20250907T191058Z
UID:10006356-1762875000-1762878600@mlwgs.com
SUMMARY:GenAI Subcommittee Mtg (Library)
DESCRIPTION:
URL:https://mlwgs.com/event/genai-subcommittee-mtg-library/2025-11-11/
LOCATION:MLWGS Library
CATEGORIES:Building Activity for MLWGS
ATTACH;FMTTYPE=image/jpeg:https://mlwgs.com/wp-content/uploads/2024/07/mag-default-image.jpg
ORGANIZER;CN="Ms. Wendy DeGroat":MAILTO:wdegroat@gsgis.k12.va.us
END:VEVENT
BEGIN:VEVENT
DTSTART;TZID=America/New_York:20251111T113500
DTEND;TZID=America/New_York:20251111T121500
DTSTAMP:20260421T150756
CREATED:20251029T191606Z
LAST-MODIFIED:20251029T191606Z
UID:10007373-1762860900-1762863300@mlwgs.com
SUMMARY:Student Ambassador - Meeting (Auditorium)
DESCRIPTION:
URL:https://mlwgs.com/event/student-ambassador-meeting-auditorium/
LOCATION:MLWGS Auditorium
CATEGORIES:Building Activity for MLWGS
ATTACH;FMTTYPE=image/jpeg:https://mlwgs.com/wp-content/uploads/2024/07/mag-default-image.jpg
END:VEVENT
BEGIN:VEVENT
DTSTART;TZID=America/New_York:20251106T153000
DTEND;TZID=America/New_York:20251106T163000
DTSTAMP:20260421T150756
CREATED:20250729T152004Z
LAST-MODIFIED:20250729T152004Z
UID:10005591-1762443000-1762446600@mlwgs.com
SUMMARY:Faculty Mtg (Forum)
DESCRIPTION:
URL:https://mlwgs.com/event/faculty-mtg-forum/
LOCATION:MLWGS Forum
CATEGORIES:Building Activity for MLWGS
ATTACH;FMTTYPE=image/jpeg:https://mlwgs.com/wp-content/uploads/2024/07/mag-default-image.jpg
END:VEVENT
BEGIN:VEVENT
DTSTART;TZID=America/New_York:20251106T113500
DTEND;TZID=America/New_York:20251106T121500
DTSTAMP:20260421T150756
CREATED:20251031T011922Z
LAST-MODIFIED:20251031T011939Z
UID:10007376-1762428900-1762431300@mlwgs.com
SUMMARY:Multicultural Assembly - Interest Meeting (Forum)
DESCRIPTION:
URL:https://mlwgs.com/event/multicultural-assembly-interest-meeting-forum/
LOCATION:MLWGS Forum
CATEGORIES:Building Activity for MLWGS
ATTACH;FMTTYPE=image/jpeg:https://mlwgs.com/wp-content/uploads/2024/07/mag-default-image.jpg
ORGANIZER;CN="Ms. Kelly Ndayizigiye":MAILTO:kndayizigiye@gsgis.k12.va.us
END:VEVENT
BEGIN:VEVENT
DTSTART;TZID=America/New_York:20251106T084000
DTEND;TZID=America/New_York:20251106T100000
DTSTAMP:20260421T150756
CREATED:20250729T151507Z
LAST-MODIFIED:20251022T185221Z
UID:10005590-1762418400-1762423200@mlwgs.com
SUMMARY:Leadership Mtg (Rm 153)
DESCRIPTION:
URL:https://mlwgs.com/event/leadership-mtg-rm-153/
LOCATION:MLWGS Room 153
CATEGORIES:Building Activity for MLWGS
ATTACH;FMTTYPE=image/jpeg:https://mlwgs.com/wp-content/uploads/2024/07/mag-default-image.jpg
END:VEVENT
BEGIN:VEVENT
DTSTART;TZID=America/New_York:20251105T083000
DTEND;TZID=America/New_York:20251105T134500
DTSTAMP:20260421T150756
CREATED:20251021T184149Z
LAST-MODIFIED:20251028T125730Z
UID:10007361-1762331400-1762350300@mlwgs.com
SUMMARY:In-class Transcribe-a-thon (Cafeteria)
DESCRIPTION:
URL:https://mlwgs.com/event/in-class-transcribe-a-thon-cafeteria-and-mlwgs-101-classrooms/
LOCATION:Maggie L. Walker Governor’s School\, Cafeteria
CATEGORIES:Building Activity for MLWGS
ATTACH;FMTTYPE=image/jpeg:https://mlwgs.com/wp-content/uploads/2024/07/mag-default-image.jpg
ORGANIZER;CN="Ms. Wendy DeGroat":MAILTO:wdegroat@gsgis.k12.va.us
END:VEVENT
BEGIN:VEVENT
DTSTART;TZID=America/New_York:20251030T134500
DTEND;TZID=America/New_York:20251030T150000
DTSTAMP:20260421T150756
CREATED:20251008T130017Z
LAST-MODIFIED:20251008T130017Z
UID:10007332-1761831900-1761836400@mlwgs.com
SUMMARY:Guest Speaker for Spanish Heritage Speakers Class: Alexander Guzman (Rm 243)
DESCRIPTION:
URL:https://mlwgs.com/event/guest-speaker-for-spanish-heritage-speakers-class-alexander-guzman-rm-243/
CATEGORIES:Building Activity for MLWGS
ATTACH;FMTTYPE=image/jpeg:https://mlwgs.com/wp-content/uploads/2024/07/mag-default-image.jpg
ORGANIZER;CN="Ms. Alecia Nichols":MAILTO:anichols@gsgis.k12.va.us
END:VEVENT
BEGIN:VEVENT
DTSTART;TZID=America/New_York:20251029T113500
DTEND;TZID=America/New_York:20251029T121500
DTSTAMP:20260421T150756
CREATED:20251017T011609Z
LAST-MODIFIED:20251017T011609Z
UID:10007353-1761737700-1761740100@mlwgs.com
SUMMARY:Multicultural Assembly - Interest Meeting
DESCRIPTION:
URL:https://mlwgs.com/event/multicultural-assembly-interest-meeting/
LOCATION:MLWGS Forum
CATEGORIES:Building Activity for MLWGS
ATTACH;FMTTYPE=image/jpeg:https://mlwgs.com/wp-content/uploads/2024/07/mag-default-image.jpg
ORGANIZER;CN="Ms. Kelly Ndayizigiye":MAILTO:kndayizigiye@gsgis.k12.va.us
END:VEVENT
BEGIN:VEVENT
DTSTART;TZID=America/New_York:20251022T113000
DTEND;TZID=America/New_York:20251022T121500
DTSTAMP:20260421T150756
CREATED:20251008T124153Z
LAST-MODIFIED:20251017T153017Z
UID:10007331-1761132600-1761135300@mlwgs.com
SUMMARY:Diwali Luncheon - Info Session (Library)
DESCRIPTION:
URL:https://mlwgs.com/event/diwali-luncheon-sophomore-junior-commons/
LOCATION:MLWGS Library
CATEGORIES:Building Activity for MLWGS
ATTACH;FMTTYPE=image/jpeg:https://mlwgs.com/wp-content/uploads/2024/07/mag-default-image.jpg
ORGANIZER;CN="Ms. Amanda Lemco":MAILTO:alemco@gsgis.k12.va.us
END:VEVENT
BEGIN:VEVENT
DTSTART;TZID=America/New_York:20251021T084500
DTEND;TZID=America/New_York:20251021T100000
DTSTAMP:20260421T150756
CREATED:20250728T194335Z
LAST-MODIFIED:20250728T194335Z
UID:10005567-1761036300-1761040800@mlwgs.com
SUMMARY:Leadership Meeting (Rm 153)
DESCRIPTION:
URL:https://mlwgs.com/event/leadership-meeting-rm-153-4/2025-10-21/
LOCATION:MLWGS Room 153
CATEGORIES:Building Activity for MLWGS
ATTACH;FMTTYPE=image/jpeg:https://mlwgs.com/wp-content/uploads/2024/07/mag-default-image.jpg
ORGANIZER;CN="Ms Barbara Marshall":MAILTO:bmarshall@gsgis.k12.va.us
END:VEVENT
BEGIN:VEVENT
DTSTART;TZID=America/New_York:20251018T190000
DTEND;TZID=America/New_York:20251018T220000
DTSTAMP:20260421T150756
CREATED:20250530T192223Z
LAST-MODIFIED:20250530T192223Z
UID:10004563-1760814000-1760824800@mlwgs.com
SUMMARY:Homecoming Dance @ MLWGS
DESCRIPTION:
URL:https://mlwgs.com/event/homecoming-dance-mlwgs-2/
LOCATION:MLWGS\, 1000 N. Lombardy St.\, Richmond\, 23113\, United States
CATEGORIES:Building Activity for MLWGS
ATTACH;FMTTYPE=image/jpeg:https://mlwgs.com/wp-content/uploads/2024/07/mag-default-image.jpg
END:VEVENT
BEGIN:VEVENT
DTSTART;TZID=America/New_York:20251016T000000
DTEND;TZID=America/New_York:20251016T235959
DTSTAMP:20260421T150756
CREATED:20250630T180348Z
LAST-MODIFIED:20250630T180443Z
UID:10005494-1760572800-1760659199@mlwgs.com
SUMMARY:ShakeOut Day
DESCRIPTION:See Mr. Jordan for information.
URL:https://mlwgs.com/event/shakeout-day/
CATEGORIES:Building Activity for MLWGS
ATTACH;FMTTYPE=image/jpeg:https://mlwgs.com/wp-content/uploads/2024/07/mag-default-image.jpg
END:VEVENT
BEGIN:VEVENT
DTSTART;TZID=America/New_York:20251015T073000
DTEND;TZID=America/New_York:20251015T130000
DTSTAMP:20260421T150756
CREATED:20250918T172054Z
LAST-MODIFIED:20250918T172054Z
UID:10007284-1760513400-1760533200@mlwgs.com
SUMMARY:Underclass Portrait Makeups/Retakes: Grades 9-11 (Auditorium)
DESCRIPTION:
URL:https://mlwgs.com/event/underclass-portrait-makeups-retakes-grades-9-11-auditorium/
LOCATION:MLWGS Auditorium
CATEGORIES:Building Activity for MLWGS
ATTACH;FMTTYPE=image/jpeg:https://mlwgs.com/wp-content/uploads/2024/07/mag-default-image.jpg
ORGANIZER;CN="Mr. Michael White":MAILTO:mwhite@gsgis.k12.va.us
END:VEVENT
BEGIN:VEVENT
DTSTART;TZID=America/New_York:20251014T153000
DTEND;TZID=America/New_York:20251014T163000
DTSTAMP:20260421T150756
CREATED:20251007T132854Z
LAST-MODIFIED:20251007T132855Z
UID:10006355-1760455800-1760459400@mlwgs.com
SUMMARY:GenAI Subcommittee Mtg (Library)
DESCRIPTION:
URL:https://mlwgs.com/event/genai-subcommittee-mtg-library-2/
LOCATION:MLWGS Library
CATEGORIES:Building Activity for MLWGS
ATTACH;FMTTYPE=image/jpeg:https://mlwgs.com/wp-content/uploads/2024/07/mag-default-image.jpg
ORGANIZER;CN="Ms. Wendy DeGroat":MAILTO:wdegroat@gsgis.k12.va.us
END:VEVENT
BEGIN:VEVENT
DTSTART;TZID=America/New_York:20251014T110000
DTEND;TZID=America/New_York:20251014T113000
DTSTAMP:20260421T150756
CREATED:20251013T133140Z
LAST-MODIFIED:20251013T133154Z
UID:10007336-1760439600-1760441400@mlwgs.com
SUMMARY:Pre-Event Mtg (Rm 221)
DESCRIPTION:Homecoming dance
URL:https://mlwgs.com/event/pre-event-mtg-rm-2210/
LOCATION:MLWGS Room 221
CATEGORIES:Building Activity for MLWGS
ATTACH;FMTTYPE=image/jpeg:https://mlwgs.com/wp-content/uploads/2024/07/mag-default-image.jpg
END:VEVENT
BEGIN:VEVENT
DTSTART;TZID=America/New_York:20251013T114500
DTEND;TZID=America/New_York:20251013T121500
DTSTAMP:20260421T150756
CREATED:20250915T155354Z
LAST-MODIFIED:20250917T172203Z
UID:10007235-1760355900-1760357700@mlwgs.com
SUMMARY:VML Math Contest Onboarding (Forum)
DESCRIPTION:Virginia Math League (VML) onboarding for new participants
URL:https://mlwgs.com/event/vml-math-contest-forum/
LOCATION:MLWGS Forum
CATEGORIES:Building Activity for MLWGS
ATTACH;FMTTYPE=image/jpeg:https://mlwgs.com/wp-content/uploads/2024/07/mag-default-image.jpg
ORGANIZER;CN="Mr. Patrick Kennedy":MAILTO:pkennedy@gsgis.k12.va.us
END:VEVENT
BEGIN:VEVENT
DTSTART;TZID=America/New_York:20251008T080000
DTEND;TZID=America/New_York:20251008T150000
DTSTAMP:20260421T150756
CREATED:20250924T152945Z
LAST-MODIFIED:20250924T152945Z
UID:10007305-1759910400-1759935600@mlwgs.com
SUMMARY:Senior Portrait Retakes (Commons)
DESCRIPTION:
URL:https://mlwgs.com/event/senior-portrait-retakes-commons/
LOCATION:mlwgs commons
CATEGORIES:Building Activity for MLWGS
ATTACH;FMTTYPE=image/jpeg:https://mlwgs.com/wp-content/uploads/2024/07/mag-default-image.jpg
ORGANIZER;CN="Mr. Michael White":MAILTO:mwhite@gsgis.k12.va.us
END:VEVENT
BEGIN:VEVENT
DTSTART;TZID=America/New_York:20251007T153000
DTEND;TZID=America/New_York:20251007T163000
DTSTAMP:20260421T150756
CREATED:20250728T195139Z
LAST-MODIFIED:20250728T195139Z
UID:10005583-1759851000-1759854600@mlwgs.com
SUMMARY:Faculty Meeting (Forum)
DESCRIPTION:
URL:https://mlwgs.com/event/faculty-meeting-forum-3/2025-10-07/
LOCATION:MLWGS Forum
CATEGORIES:Building Activity for MLWGS
ATTACH;FMTTYPE=image/jpeg:https://mlwgs.com/wp-content/uploads/2024/07/mag-default-image.jpg
ORGANIZER;CN="Ms Barbara Marshall":MAILTO:bmarshall@gsgis.k12.va.us
END:VEVENT
BEGIN:VEVENT
DTSTART;TZID=America/New_York:20251007T084500
DTEND;TZID=America/New_York:20251007T100000
DTSTAMP:20260421T150756
CREATED:20250728T194335Z
LAST-MODIFIED:20250728T194335Z
UID:10005566-1759826700-1759831200@mlwgs.com
SUMMARY:Leadership Meeting (Rm 153)
DESCRIPTION:
URL:https://mlwgs.com/event/leadership-meeting-rm-153-4/2025-10-07/
LOCATION:MLWGS Room 153
CATEGORIES:Building Activity for MLWGS
ATTACH;FMTTYPE=image/jpeg:https://mlwgs.com/wp-content/uploads/2024/07/mag-default-image.jpg
ORGANIZER;CN="Ms Barbara Marshall":MAILTO:bmarshall@gsgis.k12.va.us
END:VEVENT
BEGIN:VEVENT
DTSTART;TZID=America/New_York:20251003T083000
DTEND;TZID=America/New_York:20251003T153000
DTSTAMP:20260421T150756
CREATED:20250930T151734Z
LAST-MODIFIED:20250930T151734Z
UID:10007325-1759480200-1759505400@mlwgs.com
SUMMARY:PSAT Digital Readiness Check with English Classes (Forum)
DESCRIPTION:
URL:https://mlwgs.com/event/psat-digital-readiness-check-with-english-classes-forum/
LOCATION:MLWGS Forum
CATEGORIES:Building Activity for MLWGS
ATTACH;FMTTYPE=image/jpeg:https://mlwgs.com/wp-content/uploads/2024/07/mag-default-image.jpg
ORGANIZER;CN="Ms. Joy Cobb":MAILTO:jcobb@gsgis.k12.va.us
END:VEVENT
BEGIN:VEVENT
DTSTART;TZID=America/New_York:20250925T103000
DTEND;TZID=America/New_York:20250925T110000
DTSTAMP:20260421T150756
CREATED:20250924T154435Z
LAST-MODIFIED:20250924T154435Z
UID:10007307-1758796200-1758798000@mlwgs.com
SUMMARY:Pre-event Meeting (Rm 221)
DESCRIPTION:Fall concerts
URL:https://mlwgs.com/event/pre-event-meeting-rm-221-4/
LOCATION:MLWGS Room 221
CATEGORIES:Building Activity for MLWGS
ATTACH;FMTTYPE=image/jpeg:https://mlwgs.com/wp-content/uploads/2024/07/mag-default-image.jpg
END:VEVENT
BEGIN:VEVENT
DTSTART;TZID=America/New_York:20250924T100000
DTEND;TZID=America/New_York:20250924T123000
DTSTAMP:20260421T150756
CREATED:20250827T160753Z
LAST-MODIFIED:20250827T160753Z
UID:10006350-1758708000-1758717000@mlwgs.com
SUMMARY:Staff Flu Shots (Clinic)
DESCRIPTION:
URL:https://mlwgs.com/event/staff-flu-shots-clinic/
CATEGORIES:Building Activity for MLWGS
ATTACH;FMTTYPE=image/jpeg:https://mlwgs.com/wp-content/uploads/2024/07/mag-default-image.jpg
END:VEVENT
END:VCALENDAR