BEGIN:VCALENDAR
VERSION:2.0
PRODID:-//Maggie L. Walker Governor&#039;s School - ECPv6.15.17.1//NONSGML v1.0//EN
CALSCALE:GREGORIAN
METHOD:PUBLISH
X-WR-CALNAME:Maggie L. Walker Governor&#039;s School
X-ORIGINAL-URL:https://mlwgs.com
X-WR-CALDESC:Events for Maggie L. Walker Governor&#039;s School
REFRESH-INTERVAL;VALUE=DURATION:PT1H
X-Robots-Tag:noindex
X-PUBLISHED-TTL:PT1H
BEGIN:VTIMEZONE
TZID:America/New_York
BEGIN:DAYLIGHT
TZOFFSETFROM:-0500
TZOFFSETTO:-0400
TZNAME:EDT
DTSTART:20240310T070000
END:DAYLIGHT
BEGIN:STANDARD
TZOFFSETFROM:-0400
TZOFFSETTO:-0500
TZNAME:EST
DTSTART:20241103T060000
END:STANDARD
BEGIN:DAYLIGHT
TZOFFSETFROM:-0500
TZOFFSETTO:-0400
TZNAME:EDT
DTSTART:20250309T070000
END:DAYLIGHT
BEGIN:STANDARD
TZOFFSETFROM:-0400
TZOFFSETTO:-0500
TZNAME:EST
DTSTART:20251102T060000
END:STANDARD
BEGIN:DAYLIGHT
TZOFFSETFROM:-0500
TZOFFSETTO:-0400
TZNAME:EDT
DTSTART:20260308T070000
END:DAYLIGHT
BEGIN:STANDARD
TZOFFSETFROM:-0400
TZOFFSETTO:-0500
TZNAME:EST
DTSTART:20261101T060000
END:STANDARD
END:VTIMEZONE
BEGIN:VEVENT
DTSTART;TZID=America/New_York:20250819T084000
DTEND;TZID=America/New_York:20250819T140000
DTSTAMP:20260422T070719
CREATED:20250806T194455Z
LAST-MODIFIED:20250806T194455Z
UID:10005657-1755592800-1755612000@mlwgs.com
SUMMARY:Study Hall Students Mtg (Rm 153)
DESCRIPTION:Each study hall at the beginning of the period report to Rm 153 and Ms. Bowman
URL:https://mlwgs.com/event/study-hall-students-mtg-rm-153/2025-08-19/
LOCATION:MLWGS Room 153
CATEGORIES:Building Activity for MLWGS
ATTACH;FMTTYPE=image/jpeg:https://mlwgs.com/wp-content/uploads/2024/07/mag-default-image.jpg
ORGANIZER;CN="Ms. Darleen Bowman":MAILTO:dbowman@gsgis.k12.va.us
END:VEVENT
BEGIN:VEVENT
DTSTART;TZID=America/New_York:20250818T084000
DTEND;TZID=America/New_York:20250818T140000
DTSTAMP:20260422T070719
CREATED:20250806T194455Z
LAST-MODIFIED:20250806T194455Z
UID:10005656-1755506400-1755525600@mlwgs.com
SUMMARY:Study Hall Students Mtg (Rm 153)
DESCRIPTION:Each study hall at the beginning of the period report to Rm 153 and Ms. Bowman
URL:https://mlwgs.com/event/study-hall-students-mtg-rm-153/2025-08-18/
LOCATION:MLWGS Room 153
CATEGORIES:Building Activity for MLWGS
ATTACH;FMTTYPE=image/jpeg:https://mlwgs.com/wp-content/uploads/2024/07/mag-default-image.jpg
ORGANIZER;CN="Ms. Darleen Bowman":MAILTO:dbowman@gsgis.k12.va.us
END:VEVENT
BEGIN:VEVENT
DTSTART;TZID=America/New_York:20250818T083000
DTEND;TZID=America/New_York:20250818T140000
DTSTAMP:20260422T070719
CREATED:20250815T152707Z
LAST-MODIFIED:20250815T152707Z
UID:10005777-1755505800-1755525600@mlwgs.com
SUMMARY:MLWGS101 Onboarding (Auditorium)
DESCRIPTION:
URL:https://mlwgs.com/event/mlwgs101-onboarding-auditorium/2025-08-18/
LOCATION:MLWGS Auditorium
CATEGORIES:Building Activity for MLWGS
ATTACH;FMTTYPE=image/jpeg:https://mlwgs.com/wp-content/uploads/2024/07/mag-default-image.jpg
ORGANIZER;CN="Ms. Christie Riles":MAILTO:criles@gsgis.k12.va.us
END:VEVENT
BEGIN:VEVENT
DTSTART;TZID=America/New_York:20250814T130000
DTEND;TZID=America/New_York:20250814T133000
DTSTAMP:20260422T070719
CREATED:20250811T193113Z
LAST-MODIFIED:20250811T193113Z
UID:10005681-1755176400-1755178200@mlwgs.com
SUMMARY:Hold for Pre-Event Mtg. (Rm 221)
DESCRIPTION:
URL:https://mlwgs.com/event/hold-for-pre-event-mtg-rm-221-6/
LOCATION:MLWGS Room 221
CATEGORIES:Building Activity for MLWGS
ATTACH;FMTTYPE=image/jpeg:https://mlwgs.com/wp-content/uploads/2024/07/mag-default-image.jpg
END:VEVENT
BEGIN:VEVENT
DTSTART;TZID=America/New_York:20250813T083000
DTEND;TZID=America/New_York:20250813T153000
DTSTAMP:20260422T070719
CREATED:20250530T184829Z
LAST-MODIFIED:20250530T184829Z
UID:10004542-1755073800-1755099000@mlwgs.com
SUMMARY:Teacher Professional Development
DESCRIPTION:
URL:https://mlwgs.com/event/teacher-professional-development/2025-08-13/
LOCATION:MLWGS\, 1000 N. Lombardy St.\, Richmond\, 23113\, United States
CATEGORIES:Building Activity for MLWGS
ATTACH;FMTTYPE=image/jpeg:https://mlwgs.com/wp-content/uploads/2024/07/mag-default-image.jpg
END:VEVENT
BEGIN:VEVENT
DTSTART;TZID=America/New_York:20250812T090000
DTEND;TZID=America/New_York:20250812T100000
DTSTAMP:20260422T070719
CREATED:20250729T171033Z
LAST-MODIFIED:20250729T171033Z
UID:10005592-1754989200-1754992800@mlwgs.com
SUMMARY:Parent Orientation Session (Auditorium)
DESCRIPTION:
URL:https://mlwgs.com/event/parent-orientation-session-auditorium/
LOCATION:MLWGS Auditorium
CATEGORIES:Building Activity for MLWGS
ATTACH;FMTTYPE=image/jpeg:https://mlwgs.com/wp-content/uploads/2024/07/mag-default-image.jpg
END:VEVENT
BEGIN:VEVENT
DTSTART;TZID=America/New_York:20250808T083000
DTEND;TZID=America/New_York:20250808T153000
DTSTAMP:20260422T070719
CREATED:20250530T184829Z
LAST-MODIFIED:20250530T184829Z
UID:10004541-1754641800-1754667000@mlwgs.com
SUMMARY:Teacher Professional Development
DESCRIPTION:
URL:https://mlwgs.com/event/teacher-professional-development/2025-08-08/
LOCATION:MLWGS\, 1000 N. Lombardy St.\, Richmond\, 23113\, United States
CATEGORIES:Building Activity for MLWGS
ATTACH;FMTTYPE=image/jpeg:https://mlwgs.com/wp-content/uploads/2024/07/mag-default-image.jpg
END:VEVENT
BEGIN:VEVENT
DTSTART;TZID=America/New_York:20250807T083000
DTEND;TZID=America/New_York:20250807T153000
DTSTAMP:20260422T070719
CREATED:20250530T183636Z
LAST-MODIFIED:20250530T183636Z
UID:10004540-1754555400-1754580600@mlwgs.com
SUMMARY:Teachers Return
DESCRIPTION:
URL:https://mlwgs.com/event/teachers-return/
LOCATION:MLWGS\, 1000 N. Lombardy St.\, Richmond\, 23113\, United States
CATEGORIES:Building Activity for MLWGS
ATTACH;FMTTYPE=image/jpeg:https://mlwgs.com/wp-content/uploads/2024/07/mag-default-image.jpg
END:VEVENT
BEGIN:VEVENT
DTSTART;TZID=America/New_York:20250806T090000
DTEND;TZID=America/New_York:20250806T140000
DTSTAMP:20260422T070719
CREATED:20250530T185112Z
LAST-MODIFIED:20250530T185112Z
UID:10004544-1754470800-1754488800@mlwgs.com
SUMMARY:New Teacher Academy
DESCRIPTION:
URL:https://mlwgs.com/event/new-teacher-academy/
LOCATION:MLWGS Room 153
CATEGORIES:Building Activity for MLWGS
ATTACH;FMTTYPE=image/jpeg:https://mlwgs.com/wp-content/uploads/2024/07/mag-default-image.jpg
END:VEVENT
BEGIN:VEVENT
DTSTART;TZID=America/New_York:20250805T083000
DTEND;TZID=America/New_York:20250805T153000
DTSTAMP:20260422T070719
CREATED:20250616T160046Z
LAST-MODIFIED:20250616T160046Z
UID:10005491-1754382600-1754407800@mlwgs.com
SUMMARY:Hold for New Teacher Academy (Rm 153)
DESCRIPTION:
URL:https://mlwgs.com/event/hold-for-new-teacher-academy-rm-153/
LOCATION:MLWGS Room 153
CATEGORIES:Building Activity for MLWGS
ATTACH;FMTTYPE=image/jpeg:https://mlwgs.com/wp-content/uploads/2024/07/mag-default-image.jpg
END:VEVENT
BEGIN:VEVENT
DTSTART;TZID=America/New_York:20250805T080000
DTEND;TZID=America/New_York:20250812T170000
DTSTAMP:20260422T070719
CREATED:20250724T181801Z
LAST-MODIFIED:20250724T181828Z
UID:10005550-1754380800-1755018000@mlwgs.com
SUMMARY:MWtech | 1:1 Program (AUD)
DESCRIPTION:Staging devices for Freshman 1:1 Program Launch\n-Storage\, preparation\, distribution\, and orientation
URL:https://mlwgs.com/event/mwtech-11-program/
CATEGORIES:Building Activity for MLWGS
ATTACH;FMTTYPE=image/jpeg:https://mlwgs.com/wp-content/uploads/2024/07/mag-default-image.jpg
END:VEVENT
BEGIN:VEVENT
DTSTART;TZID=America/New_York:20250731T083000
DTEND;TZID=America/New_York:20250731T153000
DTSTAMP:20260422T070719
CREATED:20250530T184952Z
LAST-MODIFIED:20250530T184952Z
UID:10004543-1753950600-1753975800@mlwgs.com
SUMMARY:Department Chairs Return
DESCRIPTION:
URL:https://mlwgs.com/event/department-chairs-return/
CATEGORIES:Building Activity for MLWGS
ATTACH;FMTTYPE=image/jpeg:https://mlwgs.com/wp-content/uploads/2024/07/mag-default-image.jpg
END:VEVENT
BEGIN:VEVENT
DTSTART;TZID=America/New_York:20250728T080000
DTEND;TZID=America/New_York:20250730T170000
DTSTAMP:20260422T070719
CREATED:20250724T181202Z
LAST-MODIFIED:20250724T181202Z
UID:10005548-1753689600-1753894800@mlwgs.com
SUMMARY:MWtech | AV Installations | Multiple Locations
DESCRIPTION:Rooms:  106\, 107\, 206\, 226\, 242\, 335 and the Forum
URL:https://mlwgs.com/event/mwtech-av-installations-multiple-locations/
CATEGORIES:Building Activity for MLWGS
ATTACH;FMTTYPE=image/jpeg:https://mlwgs.com/wp-content/uploads/2024/07/mag-default-image.jpg
END:VEVENT
BEGIN:VEVENT
DTSTART;TZID=America/New_York:20250728T080000
DTEND;TZID=America/New_York:20250728T170000
DTSTAMP:20260422T070719
CREATED:20250724T181329Z
LAST-MODIFIED:20250724T181329Z
UID:10005549-1753689600-1753722000@mlwgs.com
SUMMARY:MWtech | Lighting Maintenance | Multiple Locations
DESCRIPTION:Auditorium and Black Box
URL:https://mlwgs.com/event/mwtech-lighting-maintenance-multiple-locations/
CATEGORIES:Building Activity for MLWGS
ATTACH;FMTTYPE=image/jpeg:https://mlwgs.com/wp-content/uploads/2024/07/mag-default-image.jpg
END:VEVENT
BEGIN:VEVENT
DTSTART;TZID=America/New_York:20250723T090000
DTEND;TZID=America/New_York:20250723T110000
DTSTAMP:20260422T070719
CREATED:20250717T113929Z
LAST-MODIFIED:20250717T113929Z
UID:10005545-1753261200-1753268400@mlwgs.com
SUMMARY:Vendor Visit (Auditorium & Rm-153)
DESCRIPTION:-MWtech
URL:https://mlwgs.com/event/vendor-visit-auditorium-rm-153/
CATEGORIES:Building Activity for MLWGS
ATTACH;FMTTYPE=image/jpeg:https://mlwgs.com/wp-content/uploads/2024/07/mag-default-image.jpg
END:VEVENT
BEGIN:VEVENT
DTSTART;TZID=America/New_York:20250709T100000
DTEND;TZID=America/New_York:20250709T120000
DTSTAMP:20260422T070719
CREATED:20250707T221942Z
LAST-MODIFIED:20250707T221942Z
UID:10005544-1752055200-1752062400@mlwgs.com
SUMMARY:HOLD for Admin Appeal Mtg (Rm 221)
DESCRIPTION:
URL:https://mlwgs.com/event/hold-for-admin-appeal-mtg-rm-221/
LOCATION:MLWGS Room 221
CATEGORIES:Building Activity for MLWGS
ATTACH;FMTTYPE=image/jpeg:https://mlwgs.com/wp-content/uploads/2024/07/mag-default-image.jpg
END:VEVENT
BEGIN:VEVENT
DTSTART;TZID=America/New_York:20250701T090000
DTEND;TZID=America/New_York:20250701T100000
DTSTAMP:20260422T070719
CREATED:20250630T183931Z
LAST-MODIFIED:20250630T183931Z
UID:10005495-1751360400-1751364000@mlwgs.com
SUMMARY:HOLD Room 221
DESCRIPTION:
URL:https://mlwgs.com/event/hold-room-221/
LOCATION:MLWGS Room 221
CATEGORIES:Building Activity for MLWGS
ATTACH;FMTTYPE=image/jpeg:https://mlwgs.com/wp-content/uploads/2024/07/mag-default-image.jpg
END:VEVENT
BEGIN:VEVENT
DTSTART;TZID=America/New_York:20250610T000000
DTEND;TZID=America/New_York:20250630T235959
DTSTAMP:20260422T070719
CREATED:20250519T191726Z
LAST-MODIFIED:20250519T191726Z
UID:10004528-1749513600-1751327999@mlwgs.com
SUMMARY:Gym Closed for Resurfacing
DESCRIPTION:
URL:https://mlwgs.com/event/gym-closed-for-resurfacing/
LOCATION:MLWGS Gymnasium
CATEGORIES:Building Activity for MLWGS
ATTACH;FMTTYPE=image/jpeg:https://mlwgs.com/wp-content/uploads/2024/07/mag-default-image.jpg
ORGANIZER;CN="Ms. Paige Hawkins":MAILTO:phawkins@gsgis.k12.va.us
END:VEVENT
BEGIN:VEVENT
DTSTART;TZID=America/New_York:20250609T000000
DTEND;TZID=America/New_York:20250609T235900
DTSTAMP:20260422T070719
CREATED:20240627T153411Z
LAST-MODIFIED:20240627T153411Z
UID:10000133-1749427200-1749513540@mlwgs.com
SUMMARY:Last Day for Department Chairs
DESCRIPTION:
URL:https://mlwgs.com/event/last-day-for-department-chairs-2/
CATEGORIES:Building Activity for MLWGS
ATTACH;FMTTYPE=image/jpeg:https://mlwgs.com/wp-content/uploads/2024/07/mag-default-image.jpg
END:VEVENT
BEGIN:VEVENT
DTSTART;TZID=America/New_York:20250606T083000
DTEND;TZID=America/New_York:20250606T163000
DTSTAMP:20260422T070719
CREATED:20250602T154247Z
LAST-MODIFIED:20250602T154247Z
UID:10004090-1749198600-1749227400@mlwgs.com
SUMMARY:NetOps (Room 221)
DESCRIPTION:Questions?  See Mr. Bortz\, CTO \nNetwork System updates; will impact Internet service in the building from 11:30am until the end of the day.  Expect rolling disruptions in service after 11:30am.
URL:https://mlwgs.com/event/netops-room-221-2/
LOCATION:MLWGS Room 221
CATEGORIES:Building Activity for MLWGS
ATTACH;FMTTYPE=image/jpeg:https://mlwgs.com/wp-content/uploads/2024/07/mag-default-image.jpg
END:VEVENT
BEGIN:VEVENT
DTSTART;TZID=America/New_York:20250605T093000
DTEND;TZID=America/New_York:20250605T150000
DTSTAMP:20260422T070719
CREATED:20250506T122323Z
LAST-MODIFIED:20250506T124845Z
UID:10004489-1749115800-1749135600@mlwgs.com
SUMMARY:Leadership Retreat (Off Campus)
DESCRIPTION:
URL:https://mlwgs.com/event/leadership-retreat-off-campus/
CATEGORIES:Building Activity for MLWGS
ATTACH;FMTTYPE=image/jpeg:https://mlwgs.com/wp-content/uploads/2024/07/mag-default-image.jpg
END:VEVENT
BEGIN:VEVENT
DTSTART;TZID=America/New_York:20250603T000000
DTEND;TZID=America/New_York:20250603T235900
DTSTAMP:20260422T070719
CREATED:20240627T153411Z
LAST-MODIFIED:20240627T153411Z
UID:10000135-1748908800-1748995140@mlwgs.com
SUMMARY:Report Cards Issued
DESCRIPTION:
URL:https://mlwgs.com/event/report-cards-issued/
CATEGORIES:Building Activity for MLWGS
ATTACH;FMTTYPE=image/jpeg:https://mlwgs.com/wp-content/uploads/2024/07/mag-default-image.jpg
END:VEVENT
BEGIN:VEVENT
DTSTART;TZID=America/New_York:20250602T084000
DTEND;TZID=America/New_York:20250602T151000
DTSTAMP:20260422T070719
CREATED:20240627T153411Z
LAST-MODIFIED:20240627T153411Z
UID:10000134-1748853600-1748877000@mlwgs.com
SUMMARY:Make-up Exams Only/Last Day for Teachers
DESCRIPTION:
URL:https://mlwgs.com/event/make-up-exams-only-last-day-for-teachers/
CATEGORIES:Building Activity for MLWGS
ATTACH;FMTTYPE=image/jpeg:https://mlwgs.com/wp-content/uploads/2024/07/mag-default-image.jpg
END:VEVENT
BEGIN:VEVENT
DTSTART;TZID=America/New_York:20250530T113000
DTEND;TZID=America/New_York:20250530T121500
DTSTAMP:20260422T070719
CREATED:20250424T130607Z
LAST-MODIFIED:20250424T130607Z
UID:10004461-1748604600-1748607300@mlwgs.com
SUMMARY:Student Leader Workshop (Forum)
DESCRIPTION:Virginia Center for Inclusive Communities
URL:https://mlwgs.com/event/student-leader-workshop-forum/
LOCATION:MLWGS Forum
CATEGORIES:Building Activity for MLWGS
ATTACH;FMTTYPE=image/jpeg:https://mlwgs.com/wp-content/uploads/2024/07/mag-default-image.jpg
ORGANIZER;CN="Ms. Aparna Harger":MAILTO:aharger@gsgis.k12.va.us
END:VEVENT
BEGIN:VEVENT
DTSTART;TZID=America/New_York:20250529T153000
DTEND;TZID=America/New_York:20250529T170000
DTSTAMP:20260422T070719
CREATED:20240822T145332Z
LAST-MODIFIED:20240822T145332Z
UID:10002917-1748532600-1748538000@mlwgs.com
SUMMARY:Testing Lab (Rm 201)
DESCRIPTION:The Testing Lab is available for all teachers to use\, so multiple assessments may be administered simultaneously. To manage this\, we space out students taking the same test\, ask students using computers to sit with their screens facing us\, and enforce the following rules: no food or drinks\, no personal items (including cell phones or earbuds)\, no talking\, and no bathroom breaks once testing has started. \nPlease note that students don’t need to arrive exactly at 3:30—they can come anytime within the Testing Lab window\, as long as they finish by 5:00 PM.
URL:https://mlwgs.com/event/testing-lab-rm-201-3/2025-05-29/
LOCATION:MLWGS Room 201
CATEGORIES:Building Activity for MLWGS
ATTACH;FMTTYPE=image/jpeg:https://mlwgs.com/wp-content/uploads/2024/07/logo_color-1.jpg
END:VEVENT
BEGIN:VEVENT
DTSTART;TZID=America/New_York:20250528T153000
DTEND;TZID=America/New_York:20250528T170000
DTSTAMP:20260422T070719
CREATED:20240822T144951Z
LAST-MODIFIED:20240822T145445Z
UID:10002883-1748446200-1748451600@mlwgs.com
SUMMARY:Testing Lab (Rm 201)
DESCRIPTION:The Testing Lab is available for all teachers to use\, so multiple assessments may be administered simultaneously. To manage this\, we space out students taking the same test\, ask students using computers to sit with their screens facing us\, and enforce the following rules: no food or drinks\, no personal items (including cell phones or earbuds)\, no talking\, and no bathroom breaks once testing has started. \nPlease note that students don’t need to arrive exactly at 3:30—they can come anytime within the Testing Lab window\, as long as they finish by 5:00 PM.
URL:https://mlwgs.com/event/testing-lab-rm-201-2/2025-05-28/
LOCATION:MLWGS Room 201
CATEGORIES:Building Activity for MLWGS
ATTACH;FMTTYPE=image/jpeg:https://mlwgs.com/wp-content/uploads/2024/07/logo_color-1.jpg
END:VEVENT
BEGIN:VEVENT
DTSTART;TZID=America/New_York:20250527T153000
DTEND;TZID=America/New_York:20250527T163000
DTSTAMP:20260422T070719
CREATED:20240819T191217Z
LAST-MODIFIED:20240819T191217Z
UID:10002782-1748359800-1748363400@mlwgs.com
SUMMARY:Required Faculty Activities (Various Locations)
DESCRIPTION:Fourth Tuesday–required–These Tuesday afternoons may include a professional development presentation or workshop\, a technology session\, Counseling meetings\, or you may use this time to work from the Year Four Resource Bank. Regardless of the activity\, you are required to stay on campus. 
URL:https://mlwgs.com/event/required-faculty-activities-various-locations/2025-05-27/
CATEGORIES:Building Activity for MLWGS
ATTACH;FMTTYPE=image/jpeg:https://mlwgs.com/wp-content/uploads/2024/07/logo_color-1.jpg
ORGANIZER;CN="Dr. Lisa Williams":MAILTO:lisa.williams@gsgis.k12.va.us
END:VEVENT
BEGIN:VEVENT
DTSTART;TZID=America/New_York:20250522T153000
DTEND;TZID=America/New_York:20250522T170000
DTSTAMP:20260422T070719
CREATED:20240822T145332Z
LAST-MODIFIED:20240822T145332Z
UID:10002916-1747927800-1747933200@mlwgs.com
SUMMARY:Testing Lab (Rm 201)
DESCRIPTION:The Testing Lab is available for all teachers to use\, so multiple assessments may be administered simultaneously. To manage this\, we space out students taking the same test\, ask students using computers to sit with their screens facing us\, and enforce the following rules: no food or drinks\, no personal items (including cell phones or earbuds)\, no talking\, and no bathroom breaks once testing has started. \nPlease note that students don’t need to arrive exactly at 3:30—they can come anytime within the Testing Lab window\, as long as they finish by 5:00 PM.
URL:https://mlwgs.com/event/testing-lab-rm-201-3/2025-05-22/
LOCATION:MLWGS Room 201
CATEGORIES:Building Activity for MLWGS
ATTACH;FMTTYPE=image/jpeg:https://mlwgs.com/wp-content/uploads/2024/07/logo_color-1.jpg
END:VEVENT
BEGIN:VEVENT
DTSTART;TZID=America/New_York:20250522T084000
DTEND;TZID=America/New_York:20250522T100000
DTSTAMP:20260422T070719
CREATED:20250512T131408Z
LAST-MODIFIED:20250512T131408Z
UID:10003131-1747903200-1747908000@mlwgs.com
SUMMARY:Leadership Meeting (Rm 153)
DESCRIPTION:
URL:https://mlwgs.com/event/leadership-meeting-rm-153-2-5/
LOCATION:MLWGS Room 153
CATEGORIES:Building Activity for MLWGS
ATTACH;FMTTYPE=image/jpeg:https://mlwgs.com/wp-content/uploads/2024/07/logo_color-1.jpg
ORGANIZER;CN="Dr. Michael Smith":MAILTO:msmith@gsgis,k12.va.us
END:VEVENT
BEGIN:VEVENT
DTSTART;TZID=America/New_York:20250521T153000
DTEND;TZID=America/New_York:20250521T170000
DTSTAMP:20260422T070719
CREATED:20240822T144951Z
LAST-MODIFIED:20240822T145445Z
UID:10002882-1747841400-1747846800@mlwgs.com
SUMMARY:Testing Lab (Rm 201)
DESCRIPTION:The Testing Lab is available for all teachers to use\, so multiple assessments may be administered simultaneously. To manage this\, we space out students taking the same test\, ask students using computers to sit with their screens facing us\, and enforce the following rules: no food or drinks\, no personal items (including cell phones or earbuds)\, no talking\, and no bathroom breaks once testing has started. \nPlease note that students don’t need to arrive exactly at 3:30—they can come anytime within the Testing Lab window\, as long as they finish by 5:00 PM.
URL:https://mlwgs.com/event/testing-lab-rm-201-2/2025-05-21/
LOCATION:MLWGS Room 201
CATEGORIES:Building Activity for MLWGS
ATTACH;FMTTYPE=image/jpeg:https://mlwgs.com/wp-content/uploads/2024/07/logo_color-1.jpg
END:VEVENT
END:VCALENDAR