BEGIN:VCALENDAR
VERSION:2.0
PRODID:-//Maggie L. Walker Governor&#039;s School - ECPv6.15.17.1//NONSGML v1.0//EN
CALSCALE:GREGORIAN
METHOD:PUBLISH
X-WR-CALNAME:Maggie L. Walker Governor&#039;s School
X-ORIGINAL-URL:https://mlwgs.com
X-WR-CALDESC:Events for Maggie L. Walker Governor&#039;s School
REFRESH-INTERVAL;VALUE=DURATION:PT1H
X-Robots-Tag:noindex
X-PUBLISHED-TTL:PT1H
BEGIN:VTIMEZONE
TZID:America/New_York
BEGIN:DAYLIGHT
TZOFFSETFROM:-0500
TZOFFSETTO:-0400
TZNAME:EDT
DTSTART:20230312T070000
END:DAYLIGHT
BEGIN:STANDARD
TZOFFSETFROM:-0400
TZOFFSETTO:-0500
TZNAME:EST
DTSTART:20231105T060000
END:STANDARD
BEGIN:DAYLIGHT
TZOFFSETFROM:-0500
TZOFFSETTO:-0400
TZNAME:EDT
DTSTART:20240310T070000
END:DAYLIGHT
BEGIN:STANDARD
TZOFFSETFROM:-0400
TZOFFSETTO:-0500
TZNAME:EST
DTSTART:20241103T060000
END:STANDARD
BEGIN:DAYLIGHT
TZOFFSETFROM:-0500
TZOFFSETTO:-0400
TZNAME:EDT
DTSTART:20250309T070000
END:DAYLIGHT
BEGIN:STANDARD
TZOFFSETFROM:-0400
TZOFFSETTO:-0500
TZNAME:EST
DTSTART:20251102T060000
END:STANDARD
END:VTIMEZONE
BEGIN:VEVENT
DTSTART;TZID=America/New_York:20240501T000000
DTEND;TZID=America/New_York:20240501T235900
DTSTAMP:20260422T041609
CREATED:20240627T153455Z
LAST-MODIFIED:20240627T153455Z
UID:10000148-1714521600-1714607940@mlwgs.com
SUMMARY:National School Principals' Day
DESCRIPTION:
URL:https://mlwgs.com/event/national-school-principals-day/
CATEGORIES:Building Activity for MLWGS
ATTACH;FMTTYPE=image/jpeg:https://mlwgs.com/wp-content/uploads/2024/07/mag-default-image.jpg
END:VEVENT
BEGIN:VEVENT
DTSTART;TZID=America/New_York:20240501T110000
DTEND;TZID=America/New_York:20240501T113000
DTSTAMP:20260422T041609
CREATED:20240627T153610Z
LAST-MODIFIED:20240627T153610Z
UID:10000172-1714561200-1714563000@mlwgs.com
SUMMARY:Pre-Event Mtg (Rm 221)
DESCRIPTION:
URL:https://mlwgs.com/event/pre-event-mtg-rm-221/
CATEGORIES:Building Activity for MLWGS
ATTACH;FMTTYPE=image/jpeg:https://mlwgs.com/wp-content/uploads/2024/07/mag-default-image.jpg
END:VEVENT
BEGIN:VEVENT
DTSTART;TZID=America/New_York:20240501T113000
DTEND;TZID=America/New_York:20240501T123000
DTSTAMP:20260422T041609
CREATED:20240627T153140Z
LAST-MODIFIED:20240627T153140Z
UID:10000082-1714563000-1714566600@mlwgs.com
SUMMARY:Equine Visit by sign-up only (Horseshoe Lot on Lombardy)
DESCRIPTION:Ms. Ortiz
URL:https://mlwgs.com/event/equine-visit-by-sign-up-only-horseshoe-lot-on-lombardy/
CATEGORIES:Building Activity for MLWGS
ATTACH;FMTTYPE=image/jpeg:https://mlwgs.com/wp-content/uploads/2024/07/mag-default-image.jpg
END:VEVENT
BEGIN:VEVENT
DTSTART;TZID=America/New_York:20240501T153000
DTEND;TZID=America/New_York:20240501T173000
DTSTAMP:20260422T041609
CREATED:20240627T152840Z
LAST-MODIFIED:20240627T152840Z
UID:10000023-1714577400-1714584600@mlwgs.com
SUMMARY:Spring Concert Dress Rehearsal (Auditorium)
DESCRIPTION:
URL:https://mlwgs.com/event/spring-concert-dress-rehearsal-auditorium/
CATEGORIES:Building Activity for MLWGS
ATTACH;FMTTYPE=image/jpeg:https://mlwgs.com/wp-content/uploads/2024/07/mag-default-image.jpg
END:VEVENT
BEGIN:VEVENT
DTSTART;TZID=America/New_York:20240503T153000
DTEND;TZID=America/New_York:20240503T173000
DTSTAMP:20260422T041609
CREATED:20240627T153556Z
LAST-MODIFIED:20240627T153556Z
UID:10000169-1714750200-1714757400@mlwgs.com
SUMMARY:AP Testing Setup (GYM)
DESCRIPTION:
URL:https://mlwgs.com/event/ap-testing-setup-gym/
CATEGORIES:Building Activity for MLWGS
ATTACH;FMTTYPE=image/jpeg:https://mlwgs.com/wp-content/uploads/2024/07/mag-default-image.jpg
END:VEVENT
BEGIN:VEVENT
DTSTART;TZID=America/New_York:20240503T173000
DTEND;TZID=America/New_York:20240503T181500
DTSTAMP:20260422T041609
CREATED:20240627T152910Z
LAST-MODIFIED:20240627T152910Z
UID:10000032-1714757400-1714760100@mlwgs.com
SUMMARY:Concert Musicians Dinner (Cafeteria)
DESCRIPTION:
URL:https://mlwgs.com/event/concert-musicians-dinner-cafeteria/
CATEGORIES:Building Activity for MLWGS
ATTACH;FMTTYPE=image/jpeg:https://mlwgs.com/wp-content/uploads/2024/07/mag-default-image.jpg
END:VEVENT
BEGIN:VEVENT
DTSTART;TZID=America/New_York:20240503T190000
DTEND;TZID=America/New_York:20240503T210000
DTSTAMP:20260422T041609
CREATED:20240627T152910Z
LAST-MODIFIED:20240627T152910Z
UID:10000031-1714762800-1714770000@mlwgs.com
SUMMARY:Spring Concert (Auditorium)
DESCRIPTION:
URL:https://mlwgs.com/event/spring-concert-auditorium/
CATEGORIES:Building Activity for MLWGS
ATTACH;FMTTYPE=image/jpeg:https://mlwgs.com/wp-content/uploads/2024/07/mag-default-image.jpg
END:VEVENT
END:VCALENDAR