BEGIN:VCALENDAR
VERSION:2.0
PRODID:-//Maggie L. Walker Governor&#039;s School - ECPv6.15.17.1//NONSGML v1.0//EN
CALSCALE:GREGORIAN
METHOD:PUBLISH
X-WR-CALNAME:Maggie L. Walker Governor&#039;s School
X-ORIGINAL-URL:https://mlwgs.com
X-WR-CALDESC:Events for Maggie L. Walker Governor&#039;s School
REFRESH-INTERVAL;VALUE=DURATION:PT1H
X-Robots-Tag:noindex
X-PUBLISHED-TTL:PT1H
BEGIN:VTIMEZONE
TZID:America/New_York
BEGIN:DAYLIGHT
TZOFFSETFROM:-0500
TZOFFSETTO:-0400
TZNAME:EDT
DTSTART:20230312T070000
END:DAYLIGHT
BEGIN:STANDARD
TZOFFSETFROM:-0400
TZOFFSETTO:-0500
TZNAME:EST
DTSTART:20231105T060000
END:STANDARD
BEGIN:DAYLIGHT
TZOFFSETFROM:-0500
TZOFFSETTO:-0400
TZNAME:EDT
DTSTART:20240310T070000
END:DAYLIGHT
BEGIN:STANDARD
TZOFFSETFROM:-0400
TZOFFSETTO:-0500
TZNAME:EST
DTSTART:20241103T060000
END:STANDARD
BEGIN:DAYLIGHT
TZOFFSETFROM:-0500
TZOFFSETTO:-0400
TZNAME:EDT
DTSTART:20250309T070000
END:DAYLIGHT
BEGIN:STANDARD
TZOFFSETFROM:-0400
TZOFFSETTO:-0500
TZNAME:EST
DTSTART:20251102T060000
END:STANDARD
END:VTIMEZONE
BEGIN:VEVENT
DTSTART;TZID=America/New_York:20240505T123000
DTEND;TZID=America/New_York:20240505T180000
DTSTAMP:20260422T023554
CREATED:20240627T153425Z
LAST-MODIFIED:20240627T153425Z
UID:10000136-1714912200-1714932000@mlwgs.com
SUMMARY:Calculus Extravaganza w/Ms. Reed (Room 153)
DESCRIPTION:
URL:https://mlwgs.com/event/calculus-extravaganza-w-ms-reed-room-153/
CATEGORIES:Building Activity for MLWGS
ATTACH;FMTTYPE=image/jpeg:https://mlwgs.com/wp-content/uploads/2024/07/mag-default-image.jpg
END:VEVENT
BEGIN:VEVENT
DTSTART;TZID=America/New_York:20240506T000000
DTEND;TZID=America/New_York:20240506T235900
DTSTAMP:20260422T023554
CREATED:20240627T153110Z
LAST-MODIFIED:20240627T153110Z
UID:10000071-1714953600-1715039940@mlwgs.com
SUMMARY:Teacher Appreciation Week
DESCRIPTION:
URL:https://mlwgs.com/event/teacher-appreciation-week/
CATEGORIES:Building Activity for MLWGS
ATTACH;FMTTYPE=image/jpeg:https://mlwgs.com/wp-content/uploads/2024/07/mag-default-image.jpg
END:VEVENT
BEGIN:VEVENT
DTSTART;TZID=America/New_York:20240507T084500
DTEND;TZID=America/New_York:20240507T100000
DTSTAMP:20260422T023554
CREATED:20240627T153526Z
LAST-MODIFIED:20240627T153526Z
UID:10000159-1715071500-1715076000@mlwgs.com
SUMMARY:Leadership Meeting (Room 153)
DESCRIPTION:
URL:https://mlwgs.com/event/leadership-meeting-room-153-2/
CATEGORIES:Building Activity for MLWGS
ATTACH;FMTTYPE=image/jpeg:https://mlwgs.com/wp-content/uploads/2024/07/mag-default-image.jpg
END:VEVENT
BEGIN:VEVENT
DTSTART;TZID=America/New_York:20240507T153000
DTEND;TZID=America/New_York:20240507T163000
DTSTAMP:20260422T023554
CREATED:20240627T153610Z
LAST-MODIFIED:20240627T153610Z
UID:10000173-1715095800-1715099400@mlwgs.com
SUMMARY:Faculty Meeting (Forum)
DESCRIPTION:
URL:https://mlwgs.com/event/faculty-meeting-forum/
CATEGORIES:Building Activity for MLWGS
ATTACH;FMTTYPE=image/jpeg:https://mlwgs.com/wp-content/uploads/2024/07/mag-default-image.jpg
END:VEVENT
BEGIN:VEVENT
DTSTART;TZID=America/New_York:20240508T093000
DTEND;TZID=America/New_York:20240508T133000
DTSTAMP:20260422T023554
CREATED:20240627T153610Z
LAST-MODIFIED:20240627T153610Z
UID:10000171-1715160600-1715175000@mlwgs.com
SUMMARY:Chair Massages for Teacher Appreciation Week (Rooms 227 & 228)
DESCRIPTION:
URL:https://mlwgs.com/event/chair-massages-for-teacher-appreciation-week-rooms-227-228/
CATEGORIES:Building Activity for MLWGS
ATTACH;FMTTYPE=image/jpeg:https://mlwgs.com/wp-content/uploads/2024/07/mag-default-image.jpg
END:VEVENT
BEGIN:VEVENT
DTSTART;TZID=America/New_York:20240508T153000
DTEND;TZID=America/New_York:20240508T210000
DTSTAMP:20260422T023554
CREATED:20240627T153456Z
LAST-MODIFIED:20240627T153456Z
UID:10000149-1715182200-1715202000@mlwgs.com
SUMMARY:Spring Choral Rehearsal & Concert (Auditorium)
DESCRIPTION:
URL:https://mlwgs.com/event/spring-choral-rehearsal-concert-auditorium/
CATEGORIES:Building Activity for MLWGS
ATTACH;FMTTYPE=image/jpeg:https://mlwgs.com/wp-content/uploads/2024/07/mag-default-image.jpg
END:VEVENT
BEGIN:VEVENT
DTSTART;TZID=America/New_York:20240509T153000
DTEND;TZID=America/New_York:20240509T180000
DTSTAMP:20260422T023554
CREATED:20240627T153611Z
LAST-MODIFIED:20240627T153611Z
UID:10000175-1715268600-1715277600@mlwgs.com
SUMMARY:Mr. U AP US History Final Review Event (Forum)
DESCRIPTION:
URL:https://mlwgs.com/event/mr-u-ap-us-history-final-review-event-forum/
CATEGORIES:Building Activity for MLWGS
ATTACH;FMTTYPE=image/jpeg:https://mlwgs.com/wp-content/uploads/2024/07/mag-default-image.jpg
END:VEVENT
END:VCALENDAR