BEGIN:VCALENDAR
VERSION:2.0
PRODID:-//Maggie L. Walker Governor&#039;s School - ECPv6.15.17.1//NONSGML v1.0//EN
CALSCALE:GREGORIAN
METHOD:PUBLISH
X-WR-CALNAME:Maggie L. Walker Governor&#039;s School
X-ORIGINAL-URL:https://mlwgs.com
X-WR-CALDESC:Events for Maggie L. Walker Governor&#039;s School
REFRESH-INTERVAL;VALUE=DURATION:PT1H
X-Robots-Tag:noindex
X-PUBLISHED-TTL:PT1H
BEGIN:VTIMEZONE
TZID:America/New_York
BEGIN:DAYLIGHT
TZOFFSETFROM:-0500
TZOFFSETTO:-0400
TZNAME:EDT
DTSTART:20230312T070000
END:DAYLIGHT
BEGIN:STANDARD
TZOFFSETFROM:-0400
TZOFFSETTO:-0500
TZNAME:EST
DTSTART:20231105T060000
END:STANDARD
BEGIN:DAYLIGHT
TZOFFSETFROM:-0500
TZOFFSETTO:-0400
TZNAME:EDT
DTSTART:20240310T070000
END:DAYLIGHT
BEGIN:STANDARD
TZOFFSETFROM:-0400
TZOFFSETTO:-0500
TZNAME:EST
DTSTART:20241103T060000
END:STANDARD
BEGIN:DAYLIGHT
TZOFFSETFROM:-0500
TZOFFSETTO:-0400
TZNAME:EDT
DTSTART:20250309T070000
END:DAYLIGHT
BEGIN:STANDARD
TZOFFSETFROM:-0400
TZOFFSETTO:-0500
TZNAME:EST
DTSTART:20251102T060000
END:STANDARD
END:VTIMEZONE
BEGIN:VEVENT
DTSTART;TZID=America/New_York:20240812T090000
DTEND;TZID=America/New_York:20240812T150000
DTSTAMP:20260421T220212
CREATED:20240627T153748Z
LAST-MODIFIED:20240627T153748Z
UID:10000207-1723453200-1723474800@mlwgs.com
SUMMARY:Walker Way Welcome Day
DESCRIPTION:
URL:https://mlwgs.com/event/walker-way-welcome-day/
CATEGORIES:Building Activity for MLWGS
ATTACH;FMTTYPE=image/jpeg:https://mlwgs.com/wp-content/uploads/2024/07/mag-default-image.jpg
END:VEVENT
BEGIN:VEVENT
DTSTART;TZID=America/New_York:20240813T083000
DTEND;TZID=America/New_York:20240813T150000
DTSTAMP:20260421T220212
CREATED:20240627T153211Z
LAST-MODIFIED:20240627T153211Z
UID:10000094-1723537800-1723561200@mlwgs.com
SUMMARY:9th Grade Orientation Day
DESCRIPTION:
URL:https://mlwgs.com/event/9th-grade-orientation-day/
CATEGORIES:Building Activity for MLWGS
ATTACH;FMTTYPE=image/jpeg:https://mlwgs.com/wp-content/uploads/2024/07/mag-default-image.jpg
END:VEVENT
BEGIN:VEVENT
DTSTART;TZID=America/New_York:20240815T083000
DTEND;TZID=America/New_York:20240815T153000
DTSTAMP:20260421T220212
CREATED:20240627T153626Z
LAST-MODIFIED:20240627T153626Z
UID:10000179-1723710600-1723735800@mlwgs.com
SUMMARY:Faculty Professional Development
DESCRIPTION:
URL:https://mlwgs.com/event/faculty-professional-development-2/
CATEGORIES:Building Activity for MLWGS
ATTACH;FMTTYPE=image/jpeg:https://mlwgs.com/wp-content/uploads/2024/07/mag-default-image.jpg
END:VEVENT
BEGIN:VEVENT
DTSTART;TZID=America/New_York:20240815T113000
DTEND;TZID=America/New_York:20240815T130000
DTSTAMP:20260421T220212
CREATED:20240812T133501Z
LAST-MODIFIED:20240812T133501Z
UID:10002606-1723721400-1723726800@mlwgs.com
SUMMARY:Staff Luncheon (Cafeteria)
DESCRIPTION:
URL:https://mlwgs.com/event/staff-luncheon-cafeteria/
LOCATION:MLWGS Cafeteria
CATEGORIES:Building Activity for MLWGS
ATTACH;FMTTYPE=image/jpeg:https://mlwgs.com/wp-content/uploads/2024/07/logo_color-1.jpg
END:VEVENT
END:VCALENDAR