BEGIN:VCALENDAR
VERSION:2.0
PRODID:-//Maggie L. Walker Governor&#039;s School - ECPv6.15.17.1//NONSGML v1.0//EN
CALSCALE:GREGORIAN
METHOD:PUBLISH
X-WR-CALNAME:Maggie L. Walker Governor&#039;s School
X-ORIGINAL-URL:https://mlwgs.com
X-WR-CALDESC:Events for Maggie L. Walker Governor&#039;s School
REFRESH-INTERVAL;VALUE=DURATION:PT1H
X-Robots-Tag:noindex
X-PUBLISHED-TTL:PT1H
BEGIN:VTIMEZONE
TZID:America/New_York
BEGIN:DAYLIGHT
TZOFFSETFROM:-0500
TZOFFSETTO:-0400
TZNAME:EDT
DTSTART:20230312T070000
END:DAYLIGHT
BEGIN:STANDARD
TZOFFSETFROM:-0400
TZOFFSETTO:-0500
TZNAME:EST
DTSTART:20231105T060000
END:STANDARD
BEGIN:DAYLIGHT
TZOFFSETFROM:-0500
TZOFFSETTO:-0400
TZNAME:EDT
DTSTART:20240310T070000
END:DAYLIGHT
BEGIN:STANDARD
TZOFFSETFROM:-0400
TZOFFSETTO:-0500
TZNAME:EST
DTSTART:20241103T060000
END:STANDARD
BEGIN:DAYLIGHT
TZOFFSETFROM:-0500
TZOFFSETTO:-0400
TZNAME:EDT
DTSTART:20250309T070000
END:DAYLIGHT
BEGIN:STANDARD
TZOFFSETFROM:-0400
TZOFFSETTO:-0500
TZNAME:EST
DTSTART:20251102T060000
END:STANDARD
END:VTIMEZONE
BEGIN:VEVENT
DTSTART;TZID=America/New_York:20240923T153000
DTEND;TZID=America/New_York:20240923T170000
DTSTAMP:20260421T203539
CREATED:20240822T144706Z
LAST-MODIFIED:20241029T183442Z
UID:10002817-1727105400-1727110800@mlwgs.com
SUMMARY:Testing Lab (Rm 201)
DESCRIPTION:The Testing Lab is available for all teachers to use\, so multiple assessments may be administered simultaneously. To manage this\, we space out students taking the same test\, ask students using computers to sit with their screens facing us\, and enforce the following rules: no food or drinks\, no personal items (including cell phones or earbuds)\, no talking\, and no bathroom breaks once testing has started. \nPlease note that students don’t need to arrive exactly at 3:30—they can come anytime within the Testing Lab window\, as long as they finish by 5:00 PM.
URL:https://mlwgs.com/event/testing-lab-rm-201/2024-09-23/
LOCATION:MLWGS Room 201
CATEGORIES:Building Activity for MLWGS
ATTACH;FMTTYPE=image/jpeg:https://mlwgs.com/wp-content/uploads/2024/07/logo_color-1.jpg
END:VEVENT
BEGIN:VEVENT
DTSTART;TZID=America/New_York:20240924T113000
DTEND;TZID=America/New_York:20240924T121500
DTSTAMP:20260421T203539
CREATED:20240909T155856Z
LAST-MODIFIED:20240909T155856Z
UID:10003179-1727177400-1727180100@mlwgs.com
SUMMARY:Speech Teacher Services (Rm 103)
DESCRIPTION:
URL:https://mlwgs.com/event/speech-teacher-services-rm-103/2024-09-24/
LOCATION:MLWGS Room 103
CATEGORIES:Building Activity for MLWGS
ATTACH;FMTTYPE=image/png:https://mlwgs.com/wp-content/uploads/2024/09/cropped-mw-logo-green.png
ORGANIZER;CN="Ms. Kelly Ndayizigiye":MAILTO:kndayizigiye@gsgis.k12.va.us
END:VEVENT
BEGIN:VEVENT
DTSTART;TZID=America/New_York:20240924T130000
DTEND;TZID=America/New_York:20240924T134500
DTSTAMP:20260421T203539
CREATED:20240923T144242Z
LAST-MODIFIED:20240923T165338Z
UID:10003292-1727182800-1727185500@mlwgs.com
SUMMARY:Hold for (2) Pre-Event Mtgs (Rm 221)
DESCRIPTION:
URL:https://mlwgs.com/event/hold-for-pre-event-mtg-rm-221-2/
LOCATION:MLWGS Room 221
CATEGORIES:Building Activity for MLWGS
ATTACH;FMTTYPE=image/png:https://mlwgs.com/wp-content/uploads/2024/09/cropped-mw-logo-green.png
ORGANIZER;CN="Mr. Nicholas Merillat":MAILTO:nmerillat@gsgis.k12.va.us
END:VEVENT
BEGIN:VEVENT
DTSTART;TZID=America/New_York:20240924T153000
DTEND;TZID=America/New_York:20240924T163000
DTSTAMP:20260421T203539
CREATED:20240819T191217Z
LAST-MODIFIED:20240819T191217Z
UID:10002775-1727191800-1727195400@mlwgs.com
SUMMARY:Required Faculty Activities (Various Locations)
DESCRIPTION:Fourth Tuesday–required–These Tuesday afternoons may include a professional development presentation or workshop\, a technology session\, Counseling meetings\, or you may use this time to work from the Year Four Resource Bank. Regardless of the activity\, you are required to stay on campus. 
URL:https://mlwgs.com/event/required-faculty-activities-various-locations/2024-09-24/
CATEGORIES:Building Activity for MLWGS
ATTACH;FMTTYPE=image/jpeg:https://mlwgs.com/wp-content/uploads/2024/07/logo_color-1.jpg
ORGANIZER;CN="Dr. Lisa Williams":MAILTO:lisa.williams@gsgis.k12.va.us
END:VEVENT
BEGIN:VEVENT
DTSTART;TZID=America/New_York:20240925T153000
DTEND;TZID=America/New_York:20240925T170000
DTSTAMP:20260421T203539
CREATED:20240822T144951Z
LAST-MODIFIED:20240822T145445Z
UID:10002851-1727278200-1727283600@mlwgs.com
SUMMARY:Testing Lab (Rm 201)
DESCRIPTION:The Testing Lab is available for all teachers to use\, so multiple assessments may be administered simultaneously. To manage this\, we space out students taking the same test\, ask students using computers to sit with their screens facing us\, and enforce the following rules: no food or drinks\, no personal items (including cell phones or earbuds)\, no talking\, and no bathroom breaks once testing has started. \nPlease note that students don’t need to arrive exactly at 3:30—they can come anytime within the Testing Lab window\, as long as they finish by 5:00 PM.
URL:https://mlwgs.com/event/testing-lab-rm-201-2/2024-09-25/
LOCATION:MLWGS Room 201
CATEGORIES:Building Activity for MLWGS
ATTACH;FMTTYPE=image/jpeg:https://mlwgs.com/wp-content/uploads/2024/07/logo_color-1.jpg
END:VEVENT
BEGIN:VEVENT
DTSTART;TZID=America/New_York:20240926T153000
DTEND;TZID=America/New_York:20240926T170000
DTSTAMP:20260421T203539
CREATED:20240822T145332Z
LAST-MODIFIED:20240822T145332Z
UID:10002887-1727364600-1727370000@mlwgs.com
SUMMARY:Testing Lab (Rm 201)
DESCRIPTION:The Testing Lab is available for all teachers to use\, so multiple assessments may be administered simultaneously. To manage this\, we space out students taking the same test\, ask students using computers to sit with their screens facing us\, and enforce the following rules: no food or drinks\, no personal items (including cell phones or earbuds)\, no talking\, and no bathroom breaks once testing has started. \nPlease note that students don’t need to arrive exactly at 3:30—they can come anytime within the Testing Lab window\, as long as they finish by 5:00 PM.
URL:https://mlwgs.com/event/testing-lab-rm-201-3/2024-09-26/
LOCATION:MLWGS Room 201
CATEGORIES:Building Activity for MLWGS
ATTACH;FMTTYPE=image/jpeg:https://mlwgs.com/wp-content/uploads/2024/07/logo_color-1.jpg
END:VEVENT
END:VCALENDAR