BEGIN:VCALENDAR
VERSION:2.0
PRODID:-//Maggie L. Walker Governor&#039;s School - ECPv6.15.17.1//NONSGML v1.0//EN
CALSCALE:GREGORIAN
METHOD:PUBLISH
X-WR-CALNAME:Maggie L. Walker Governor&#039;s School
X-ORIGINAL-URL:https://mlwgs.com
X-WR-CALDESC:Events for Maggie L. Walker Governor&#039;s School
REFRESH-INTERVAL;VALUE=DURATION:PT1H
X-Robots-Tag:noindex
X-PUBLISHED-TTL:PT1H
BEGIN:VTIMEZONE
TZID:America/New_York
BEGIN:DAYLIGHT
TZOFFSETFROM:-0500
TZOFFSETTO:-0400
TZNAME:EDT
DTSTART:20230312T070000
END:DAYLIGHT
BEGIN:STANDARD
TZOFFSETFROM:-0400
TZOFFSETTO:-0500
TZNAME:EST
DTSTART:20231105T060000
END:STANDARD
BEGIN:DAYLIGHT
TZOFFSETFROM:-0500
TZOFFSETTO:-0400
TZNAME:EDT
DTSTART:20240310T070000
END:DAYLIGHT
BEGIN:STANDARD
TZOFFSETFROM:-0400
TZOFFSETTO:-0500
TZNAME:EST
DTSTART:20241103T060000
END:STANDARD
BEGIN:DAYLIGHT
TZOFFSETFROM:-0500
TZOFFSETTO:-0400
TZNAME:EDT
DTSTART:20250309T070000
END:DAYLIGHT
BEGIN:STANDARD
TZOFFSETFROM:-0400
TZOFFSETTO:-0500
TZNAME:EST
DTSTART:20251102T060000
END:STANDARD
END:VTIMEZONE
BEGIN:VEVENT
DTSTART;TZID=America/New_York:20240930T153000
DTEND;TZID=America/New_York:20240930T170000
DTSTAMP:20260421T164214
CREATED:20240802T145815Z
LAST-MODIFIED:20240822T145806Z
UID:10002300-1727710200-1727715600@mlwgs.com
SUMMARY:Band Dress Rehearsal (Auditorium)
DESCRIPTION:
URL:https://mlwgs.com/event/band-and-chorus-dress-rehearsal-auditorium/
LOCATION:MLWGS Auditorium
CATEGORIES:Building Activity for MLWGS
ATTACH;FMTTYPE=image/jpeg:https://mlwgs.com/wp-content/uploads/2024/07/logo_color-1.jpg
ORGANIZER;CN="Mr. Nicholas Merillat":MAILTO:nmerillat@gsgis.k12.va.us
END:VEVENT
BEGIN:VEVENT
DTSTART;TZID=America/New_York:20240930T153000
DTEND;TZID=America/New_York:20240930T170000
DTSTAMP:20260421T164214
CREATED:20240822T144706Z
LAST-MODIFIED:20241029T183442Z
UID:10002818-1727710200-1727715600@mlwgs.com
SUMMARY:Testing Lab (Rm 201)
DESCRIPTION:The Testing Lab is available for all teachers to use\, so multiple assessments may be administered simultaneously. To manage this\, we space out students taking the same test\, ask students using computers to sit with their screens facing us\, and enforce the following rules: no food or drinks\, no personal items (including cell phones or earbuds)\, no talking\, and no bathroom breaks once testing has started. \nPlease note that students don’t need to arrive exactly at 3:30—they can come anytime within the Testing Lab window\, as long as they finish by 5:00 PM.
URL:https://mlwgs.com/event/testing-lab-rm-201/2024-09-30/
LOCATION:MLWGS Room 201
CATEGORIES:Building Activity for MLWGS
ATTACH;FMTTYPE=image/jpeg:https://mlwgs.com/wp-content/uploads/2024/07/logo_color-1.jpg
END:VEVENT
BEGIN:VEVENT
DTSTART;TZID=America/New_York:20241001T084000
DTEND;TZID=America/New_York:20241001T100000
DTSTAMP:20260421T164214
CREATED:20240826T135633Z
LAST-MODIFIED:20240826T135633Z
UID:10003117-1727772000-1727776800@mlwgs.com
SUMMARY:Leadership Meeting (Rm 153)
DESCRIPTION:
URL:https://mlwgs.com/event/leadership-meeting-rm-153/2024-10-01/
LOCATION:MLWGS Room 153
CATEGORIES:Building Activity for MLWGS
ATTACH;FMTTYPE=image/jpeg:https://mlwgs.com/wp-content/uploads/2024/07/logo_color-1.jpg
ORGANIZER;CN="Dr. Michael Smith":MAILTO:msmith@gsgis,k12.va.us
END:VEVENT
BEGIN:VEVENT
DTSTART;TZID=America/New_York:20241001T113000
DTEND;TZID=America/New_York:20241001T121500
DTSTAMP:20260421T164214
CREATED:20240909T155856Z
LAST-MODIFIED:20240909T155856Z
UID:10003180-1727782200-1727784900@mlwgs.com
SUMMARY:Speech Teacher Services (Rm 103)
DESCRIPTION:
URL:https://mlwgs.com/event/speech-teacher-services-rm-103/2024-10-01/
LOCATION:MLWGS Room 103
CATEGORIES:Building Activity for MLWGS
ATTACH;FMTTYPE=image/png:https://mlwgs.com/wp-content/uploads/2024/09/cropped-mw-logo-green.png
ORGANIZER;CN="Ms. Kelly Ndayizigiye":MAILTO:kndayizigiye@gsgis.k12.va.us
END:VEVENT
BEGIN:VEVENT
DTSTART;TZID=America/New_York:20241001T153000
DTEND;TZID=America/New_York:20241001T163000
DTSTAMP:20260421T164214
CREATED:20240910T144103Z
LAST-MODIFIED:20240910T144104Z
UID:10002384-1727796600-1727800200@mlwgs.com
SUMMARY:Required Faculty Meeting (October=Virtual\, other months in the Forum)
DESCRIPTION:
URL:https://mlwgs.com/event/faculty-meeting-forum-2-2/
LOCATION:MLWGS Forum
CATEGORIES:Building Activity for MLWGS
ATTACH;FMTTYPE=image/jpeg:https://mlwgs.com/wp-content/uploads/2024/07/logo_color-1.jpg
ORGANIZER;CN="Dr. Robert Lowerre":MAILTO:rlowerre@gsgis.k12.va.us
END:VEVENT
BEGIN:VEVENT
DTSTART;TZID=America/New_York:20241002T153000
DTEND;TZID=America/New_York:20241002T170000
DTSTAMP:20260421T164214
CREATED:20240812T165954Z
LAST-MODIFIED:20240909T163648Z
UID:10002607-1727883000-1727888400@mlwgs.com
SUMMARY:Transcribe-a-thon (Library)
DESCRIPTION:On Wednesday\, Oct. 2nd from 3:30 to 5pm\, the MW Library will host its first Transcribe-a-thon for this school year\, an opportunity to decode historic documents into searchable digital versions for the benefit of historians\, scholars\, genealogists\, and other researchers. Ms. Sonya Coleman from the Library of Virginia will be here to share exciting project updates. Enjoy free sweet treats and get Library of Virginia bling this annual kickoff event. Once you participate in-person\, you’ll have the option to continue earning community service hours (up to a max of 35 hours) by transcribing historic documents online from anywhere (as long as you provide the required documentation). Interested? Sign in to your GSGIS Google account & then sign up for this year’s team! \n 
URL:https://mlwgs.com/event/transcribe-a-thon-library/2024-10-02/
LOCATION:MLWGS Library
CATEGORIES:Building Activity for MLWGS
ATTACH;FMTTYPE=image/jpeg:https://mlwgs.com/wp-content/uploads/2024/07/logo_color-1.jpg
ORGANIZER;CN="Ms. Wendy DeGroat":MAILTO:wdegroat@gsgis.k12.va.us
END:VEVENT
BEGIN:VEVENT
DTSTART;TZID=America/New_York:20241002T153000
DTEND;TZID=America/New_York:20241002T170000
DTSTAMP:20260421T164214
CREATED:20240822T144951Z
LAST-MODIFIED:20240822T145445Z
UID:10002852-1727883000-1727888400@mlwgs.com
SUMMARY:Testing Lab (Rm 201)
DESCRIPTION:The Testing Lab is available for all teachers to use\, so multiple assessments may be administered simultaneously. To manage this\, we space out students taking the same test\, ask students using computers to sit with their screens facing us\, and enforce the following rules: no food or drinks\, no personal items (including cell phones or earbuds)\, no talking\, and no bathroom breaks once testing has started. \nPlease note that students don’t need to arrive exactly at 3:30—they can come anytime within the Testing Lab window\, as long as they finish by 5:00 PM.
URL:https://mlwgs.com/event/testing-lab-rm-201-2/2024-10-02/
LOCATION:MLWGS Room 201
CATEGORIES:Building Activity for MLWGS
ATTACH;FMTTYPE=image/jpeg:https://mlwgs.com/wp-content/uploads/2024/07/logo_color-1.jpg
END:VEVENT
BEGIN:VEVENT
DTSTART;TZID=America/New_York:20241004T103000
DTEND;TZID=America/New_York:20241004T110000
DTSTAMP:20260421T164214
CREATED:20240930T182216Z
LAST-MODIFIED:20240930T182216Z
UID:10003338-1728037800-1728039600@mlwgs.com
SUMMARY:Pre-Event Mtg (Rm 221)
DESCRIPTION:
URL:https://mlwgs.com/event/pre-event-mtg-rm-221-6/
LOCATION:MLWGS Room 221
CATEGORIES:Building Activity for MLWGS
ATTACH;FMTTYPE=image/jpeg:https://mlwgs.com/wp-content/uploads/2024/07/mag-default-image.jpg
END:VEVENT
BEGIN:VEVENT
DTSTART;TZID=America/New_York:20241004T103000
DTEND;TZID=America/New_York:20241004T133000
DTSTAMP:20260421T164214
CREATED:20240822T125622Z
LAST-MODIFIED:20240910T140542Z
UID:10002811-1728037800-1728048600@mlwgs.com
SUMMARY:VCIC Student Leadership Workshop (Forum)
DESCRIPTION:
URL:https://mlwgs.com/event/vcic-student-leadership-workshop-rm-153/
LOCATION:MLWGS Forum
CATEGORIES:Building Activity for MLWGS
ATTACH;FMTTYPE=image/jpeg:https://mlwgs.com/wp-content/uploads/2024/07/logo_color-1.jpg
END:VEVENT
BEGIN:VEVENT
DTSTART;TZID=America/New_York:20241004T190000
DTEND;TZID=America/New_York:20241004T203000
DTSTAMP:20260421T164214
CREATED:20240802T145618Z
LAST-MODIFIED:20240822T145915Z
UID:10002299-1728068400-1728073800@mlwgs.com
SUMMARY:Band Fall Concert (Auditorium)
DESCRIPTION:
URL:https://mlwgs.com/event/band-and-chorus-fall-concert-auditorium/
LOCATION:MLWGS Auditorium
CATEGORIES:Building Activity for MLWGS
ATTACH;FMTTYPE=image/jpeg:https://mlwgs.com/wp-content/uploads/2024/07/logo_color-1.jpg
ORGANIZER;CN="Mr. Nicholas Merillat":MAILTO:nmerillat@gsgis.k12.va.us
END:VEVENT
END:VCALENDAR