BEGIN:VCALENDAR
VERSION:2.0
PRODID:-//Maggie L. Walker Governor&#039;s School - ECPv6.15.17.1//NONSGML v1.0//EN
CALSCALE:GREGORIAN
METHOD:PUBLISH
X-WR-CALNAME:Maggie L. Walker Governor&#039;s School
X-ORIGINAL-URL:https://mlwgs.com
X-WR-CALDESC:Events for Maggie L. Walker Governor&#039;s School
REFRESH-INTERVAL;VALUE=DURATION:PT1H
X-Robots-Tag:noindex
X-PUBLISHED-TTL:PT1H
BEGIN:VTIMEZONE
TZID:America/New_York
BEGIN:DAYLIGHT
TZOFFSETFROM:-0500
TZOFFSETTO:-0400
TZNAME:EDT
DTSTART:20230312T070000
END:DAYLIGHT
BEGIN:STANDARD
TZOFFSETFROM:-0400
TZOFFSETTO:-0500
TZNAME:EST
DTSTART:20231105T060000
END:STANDARD
BEGIN:DAYLIGHT
TZOFFSETFROM:-0500
TZOFFSETTO:-0400
TZNAME:EDT
DTSTART:20240310T070000
END:DAYLIGHT
BEGIN:STANDARD
TZOFFSETFROM:-0400
TZOFFSETTO:-0500
TZNAME:EST
DTSTART:20241103T060000
END:STANDARD
BEGIN:DAYLIGHT
TZOFFSETFROM:-0500
TZOFFSETTO:-0400
TZNAME:EDT
DTSTART:20250309T070000
END:DAYLIGHT
BEGIN:STANDARD
TZOFFSETFROM:-0400
TZOFFSETTO:-0500
TZNAME:EST
DTSTART:20251102T060000
END:STANDARD
END:VTIMEZONE
BEGIN:VEVENT
DTSTART;TZID=America/New_York:20241118T153000
DTEND;TZID=America/New_York:20241118T170000
DTSTAMP:20260421T163712
CREATED:20240822T144706Z
LAST-MODIFIED:20241029T183442Z
UID:10002825-1731943800-1731949200@mlwgs.com
SUMMARY:Testing Lab (Rm 201)
DESCRIPTION:The Testing Lab is available for all teachers to use\, so multiple assessments may be administered simultaneously. To manage this\, we space out students taking the same test\, ask students using computers to sit with their screens facing us\, and enforce the following rules: no food or drinks\, no personal items (including cell phones or earbuds)\, no talking\, and no bathroom breaks once testing has started. \nPlease note that students don’t need to arrive exactly at 3:30—they can come anytime within the Testing Lab window\, as long as they finish by 5:00 PM.
URL:https://mlwgs.com/event/testing-lab-rm-201/2024-11-18/
LOCATION:MLWGS Room 201
CATEGORIES:Building Activity for MLWGS
ATTACH;FMTTYPE=image/jpeg:https://mlwgs.com/wp-content/uploads/2024/07/logo_color-1.jpg
END:VEVENT
BEGIN:VEVENT
DTSTART;TZID=America/New_York:20241119T084000
DTEND;TZID=America/New_York:20241119T100000
DTSTAMP:20260421T163712
CREATED:20240826T135633Z
LAST-MODIFIED:20240826T135633Z
UID:10003119-1732005600-1732010400@mlwgs.com
SUMMARY:Leadership Meeting (Rm 153)
DESCRIPTION:
URL:https://mlwgs.com/event/leadership-meeting-rm-153/2024-11-19/
LOCATION:MLWGS Room 153
CATEGORIES:Building Activity for MLWGS
ATTACH;FMTTYPE=image/jpeg:https://mlwgs.com/wp-content/uploads/2024/07/logo_color-1.jpg
ORGANIZER;CN="Dr. Michael Smith":MAILTO:msmith@gsgis,k12.va.us
END:VEVENT
BEGIN:VEVENT
DTSTART;TZID=America/New_York:20241119T153000
DTEND;TZID=America/New_York:20241119T163000
DTSTAMP:20260421T163712
CREATED:20240819T190614Z
LAST-MODIFIED:20240819T190614Z
UID:10002769-1732030200-1732033800@mlwgs.com
SUMMARY:Department Meetings If Needed (Various Locations)
DESCRIPTION:Check with your department chair.
URL:https://mlwgs.com/event/department-meetings-if-needed-various-locations/2024-11-19/
CATEGORIES:Building Activity for MLWGS
ATTACH;FMTTYPE=image/jpeg:https://mlwgs.com/wp-content/uploads/2024/07/logo_color-1.jpg
ORGANIZER;CN="Dr. Lisa Williams":MAILTO:lisa.williams@gsgis.k12.va.us
END:VEVENT
BEGIN:VEVENT
DTSTART;TZID=America/New_York:20241120T093000
DTEND;TZID=America/New_York:20241120T100000
DTSTAMP:20260421T163712
CREATED:20241002T134734Z
LAST-MODIFIED:20241002T134734Z
UID:10003340-1732095000-1732096800@mlwgs.com
SUMMARY:Pre-Event Mtg (Rm 221)
DESCRIPTION:
URL:https://mlwgs.com/event/pre-event-mtg-rm-221-7/
LOCATION:MLWGS Room 221
CATEGORIES:Building Activity for MLWGS
ATTACH;FMTTYPE=image/jpeg:https://mlwgs.com/wp-content/uploads/2024/07/mag-default-image.jpg
END:VEVENT
BEGIN:VEVENT
DTSTART;TZID=America/New_York:20241120T153000
DTEND;TZID=America/New_York:20241120T170000
DTSTAMP:20260421T163712
CREATED:20240822T144951Z
LAST-MODIFIED:20240822T145445Z
UID:10002859-1732116600-1732122000@mlwgs.com
SUMMARY:Testing Lab (Rm 201)
DESCRIPTION:The Testing Lab is available for all teachers to use\, so multiple assessments may be administered simultaneously. To manage this\, we space out students taking the same test\, ask students using computers to sit with their screens facing us\, and enforce the following rules: no food or drinks\, no personal items (including cell phones or earbuds)\, no talking\, and no bathroom breaks once testing has started. \nPlease note that students don’t need to arrive exactly at 3:30—they can come anytime within the Testing Lab window\, as long as they finish by 5:00 PM.
URL:https://mlwgs.com/event/testing-lab-rm-201-2/2024-11-20/
LOCATION:MLWGS Room 201
CATEGORIES:Building Activity for MLWGS
ATTACH;FMTTYPE=image/jpeg:https://mlwgs.com/wp-content/uploads/2024/07/logo_color-1.jpg
END:VEVENT
BEGIN:VEVENT
DTSTART;TZID=America/New_York:20241121T153000
DTEND;TZID=America/New_York:20241121T170000
DTSTAMP:20260421T163712
CREATED:20240822T145332Z
LAST-MODIFIED:20240822T145332Z
UID:10002894-1732203000-1732208400@mlwgs.com
SUMMARY:Testing Lab (Rm 201)
DESCRIPTION:The Testing Lab is available for all teachers to use\, so multiple assessments may be administered simultaneously. To manage this\, we space out students taking the same test\, ask students using computers to sit with their screens facing us\, and enforce the following rules: no food or drinks\, no personal items (including cell phones or earbuds)\, no talking\, and no bathroom breaks once testing has started. \nPlease note that students don’t need to arrive exactly at 3:30—they can come anytime within the Testing Lab window\, as long as they finish by 5:00 PM.
URL:https://mlwgs.com/event/testing-lab-rm-201-3/2024-11-21/
LOCATION:MLWGS Room 201
CATEGORIES:Building Activity for MLWGS
ATTACH;FMTTYPE=image/jpeg:https://mlwgs.com/wp-content/uploads/2024/07/logo_color-1.jpg
END:VEVENT
BEGIN:VEVENT
DTSTART;TZID=America/New_York:20241122T114000
DTEND;TZID=America/New_York:20241122T122000
DTSTAMP:20260421T163712
CREATED:20241120T162905Z
LAST-MODIFIED:20241120T162905Z
UID:10003466-1732275600-1732278000@mlwgs.com
SUMMARY:Honor Council Presentations (Auditorium\, Gym\, Black Box\, & Forum)
DESCRIPTION:
URL:https://mlwgs.com/event/honor-council-presentations-auditorium-gym-black-box-forum/
CATEGORIES:Building Activity for MLWGS
ATTACH;FMTTYPE=image/jpeg:https://mlwgs.com/wp-content/uploads/2024/07/mag-default-image.jpg
ORGANIZER;CN="Mr. Ed Coleman":MAILTO:ecoleman@gsgis.k12.va,us
END:VEVENT
END:VCALENDAR