BEGIN:VCALENDAR
VERSION:2.0
PRODID:-//Maggie L. Walker Governor&#039;s School - ECPv6.15.17.1//NONSGML v1.0//EN
CALSCALE:GREGORIAN
METHOD:PUBLISH
X-WR-CALNAME:Maggie L. Walker Governor&#039;s School
X-ORIGINAL-URL:https://mlwgs.com
X-WR-CALDESC:Events for Maggie L. Walker Governor&#039;s School
REFRESH-INTERVAL;VALUE=DURATION:PT1H
X-Robots-Tag:noindex
X-PUBLISHED-TTL:PT1H
BEGIN:VTIMEZONE
TZID:America/New_York
BEGIN:DAYLIGHT
TZOFFSETFROM:-0500
TZOFFSETTO:-0400
TZNAME:EDT
DTSTART:20230312T070000
END:DAYLIGHT
BEGIN:STANDARD
TZOFFSETFROM:-0400
TZOFFSETTO:-0500
TZNAME:EST
DTSTART:20231105T060000
END:STANDARD
BEGIN:DAYLIGHT
TZOFFSETFROM:-0500
TZOFFSETTO:-0400
TZNAME:EDT
DTSTART:20240310T070000
END:DAYLIGHT
BEGIN:STANDARD
TZOFFSETFROM:-0400
TZOFFSETTO:-0500
TZNAME:EST
DTSTART:20241103T060000
END:STANDARD
BEGIN:DAYLIGHT
TZOFFSETFROM:-0500
TZOFFSETTO:-0400
TZNAME:EDT
DTSTART:20250309T070000
END:DAYLIGHT
BEGIN:STANDARD
TZOFFSETFROM:-0400
TZOFFSETTO:-0500
TZNAME:EST
DTSTART:20251102T060000
END:STANDARD
END:VTIMEZONE
BEGIN:VEVENT
DTSTART;TZID=America/New_York:20241125T150000
DTEND;TZID=America/New_York:20241125T180000
DTSTAMP:20260421T163108
CREATED:20241125T141338Z
LAST-MODIFIED:20241125T141434Z
UID:10003505-1732546800-1732557600@mlwgs.com
SUMMARY:Tech Theater Strike (AUD)
DESCRIPTION:
URL:https://mlwgs.com/event/tech-strike-aud/2024-11-25/
CATEGORIES:Building Activity for MLWGS
ATTACH;FMTTYPE=image/jpeg:https://mlwgs.com/wp-content/uploads/2024/07/mag-default-image.jpg
ORGANIZER;CN="Ms. Devon Mattys":MAILTO:dmattys@gsgis.k12.va.us
END:VEVENT
BEGIN:VEVENT
DTSTART;TZID=America/New_York:20241125T153000
DTEND;TZID=America/New_York:20241125T170000
DTSTAMP:20260421T163108
CREATED:20240822T144706Z
LAST-MODIFIED:20241029T183442Z
UID:10002826-1732548600-1732554000@mlwgs.com
SUMMARY:Testing Lab (Rm 201)
DESCRIPTION:The Testing Lab is available for all teachers to use\, so multiple assessments may be administered simultaneously. To manage this\, we space out students taking the same test\, ask students using computers to sit with their screens facing us\, and enforce the following rules: no food or drinks\, no personal items (including cell phones or earbuds)\, no talking\, and no bathroom breaks once testing has started. \nPlease note that students don’t need to arrive exactly at 3:30—they can come anytime within the Testing Lab window\, as long as they finish by 5:00 PM.
URL:https://mlwgs.com/event/testing-lab-rm-201/2024-11-25/
LOCATION:MLWGS Room 201
CATEGORIES:Building Activity for MLWGS
ATTACH;FMTTYPE=image/jpeg:https://mlwgs.com/wp-content/uploads/2024/07/logo_color-1.jpg
END:VEVENT
BEGIN:VEVENT
DTSTART;TZID=America/New_York:20241126T093000
DTEND;TZID=America/New_York:20241126T100000
DTSTAMP:20260421T163108
CREATED:20241120T164149Z
LAST-MODIFIED:20241120T164149Z
UID:10003468-1732613400-1732615200@mlwgs.com
SUMMARY:Pre-event meeting (Rm 221)
DESCRIPTION:Ed Coleman
URL:https://mlwgs.com/event/pre-event-meeting-rm-221/
CATEGORIES:Building Activity for MLWGS
ATTACH;FMTTYPE=image/jpeg:https://mlwgs.com/wp-content/uploads/2024/07/mag-default-image.jpg
ORGANIZER;CN="Mr. Ed Coleman":MAILTO:ecoleman@gsgis.k12.va,us
END:VEVENT
BEGIN:VEVENT
DTSTART;TZID=America/New_York:20241126T093000
DTEND;TZID=America/New_York:20241126T103000
DTSTAMP:20260421T163108
CREATED:20241119T180209Z
LAST-MODIFIED:20241119T180209Z
UID:10003462-1732613400-1732617000@mlwgs.com
SUMMARY:IEP Meeting\, Hanover (Rm 153)
DESCRIPTION:
URL:https://mlwgs.com/event/iep-meeting-hanover-rm-153/
LOCATION:MLWGS Room 153
CATEGORIES:Building Activity for MLWGS
ATTACH;FMTTYPE=image/jpeg:https://mlwgs.com/wp-content/uploads/2024/07/mag-default-image.jpg
ORGANIZER;CN="Ms. Kelly Ndayizigiye":MAILTO:kndayizigiye@gsgis.k12.va.us
END:VEVENT
BEGIN:VEVENT
DTSTART;TZID=America/New_York:20241126T150000
DTEND;TZID=America/New_York:20241126T180000
DTSTAMP:20260421T163108
CREATED:20241125T141338Z
LAST-MODIFIED:20241125T141434Z
UID:10003506-1732633200-1732644000@mlwgs.com
SUMMARY:Tech Theater Strike (AUD)
DESCRIPTION:
URL:https://mlwgs.com/event/tech-strike-aud/2024-11-26/
CATEGORIES:Building Activity for MLWGS
ATTACH;FMTTYPE=image/jpeg:https://mlwgs.com/wp-content/uploads/2024/07/mag-default-image.jpg
ORGANIZER;CN="Ms. Devon Mattys":MAILTO:dmattys@gsgis.k12.va.us
END:VEVENT
BEGIN:VEVENT
DTSTART;TZID=America/New_York:20241126T153000
DTEND;TZID=America/New_York:20241126T163000
DTSTAMP:20260421T163108
CREATED:20240819T191217Z
LAST-MODIFIED:20240819T191217Z
UID:10002777-1732635000-1732638600@mlwgs.com
SUMMARY:Required Faculty Activities (Various Locations)
DESCRIPTION:Fourth Tuesday–required–These Tuesday afternoons may include a professional development presentation or workshop\, a technology session\, Counseling meetings\, or you may use this time to work from the Year Four Resource Bank. Regardless of the activity\, you are required to stay on campus. 
URL:https://mlwgs.com/event/required-faculty-activities-various-locations/2024-11-26/
CATEGORIES:Building Activity for MLWGS
ATTACH;FMTTYPE=image/jpeg:https://mlwgs.com/wp-content/uploads/2024/07/logo_color-1.jpg
ORGANIZER;CN="Dr. Lisa Williams":MAILTO:lisa.williams@gsgis.k12.va.us
END:VEVENT
END:VCALENDAR