BEGIN:VCALENDAR
VERSION:2.0
PRODID:-//Maggie L. Walker Governor&#039;s School - ECPv6.15.17.1//NONSGML v1.0//EN
CALSCALE:GREGORIAN
METHOD:PUBLISH
X-WR-CALNAME:Maggie L. Walker Governor&#039;s School
X-ORIGINAL-URL:https://mlwgs.com
X-WR-CALDESC:Events for Maggie L. Walker Governor&#039;s School
REFRESH-INTERVAL;VALUE=DURATION:PT1H
X-Robots-Tag:noindex
X-PUBLISHED-TTL:PT1H
BEGIN:VTIMEZONE
TZID:America/New_York
BEGIN:DAYLIGHT
TZOFFSETFROM:-0500
TZOFFSETTO:-0400
TZNAME:EDT
DTSTART:20240310T070000
END:DAYLIGHT
BEGIN:STANDARD
TZOFFSETFROM:-0400
TZOFFSETTO:-0500
TZNAME:EST
DTSTART:20241103T060000
END:STANDARD
BEGIN:DAYLIGHT
TZOFFSETFROM:-0500
TZOFFSETTO:-0400
TZNAME:EDT
DTSTART:20250309T070000
END:DAYLIGHT
BEGIN:STANDARD
TZOFFSETFROM:-0400
TZOFFSETTO:-0500
TZNAME:EST
DTSTART:20251102T060000
END:STANDARD
BEGIN:DAYLIGHT
TZOFFSETFROM:-0500
TZOFFSETTO:-0400
TZNAME:EDT
DTSTART:20260308T070000
END:DAYLIGHT
BEGIN:STANDARD
TZOFFSETFROM:-0400
TZOFFSETTO:-0500
TZNAME:EST
DTSTART:20261101T060000
END:STANDARD
END:VTIMEZONE
BEGIN:VEVENT
DTSTART;TZID=America/New_York:20250113T153000
DTEND;TZID=America/New_York:20250113T170000
DTSTAMP:20260421T163713
CREATED:20240822T144706Z
LAST-MODIFIED:20241029T183442Z
UID:10002831-1736782200-1736787600@mlwgs.com
SUMMARY:Testing Lab (Rm 201)
DESCRIPTION:The Testing Lab is available for all teachers to use\, so multiple assessments may be administered simultaneously. To manage this\, we space out students taking the same test\, ask students using computers to sit with their screens facing us\, and enforce the following rules: no food or drinks\, no personal items (including cell phones or earbuds)\, no talking\, and no bathroom breaks once testing has started. \nPlease note that students don’t need to arrive exactly at 3:30—they can come anytime within the Testing Lab window\, as long as they finish by 5:00 PM.
URL:https://mlwgs.com/event/testing-lab-rm-201/2025-01-13/
LOCATION:MLWGS Room 201
CATEGORIES:Building Activity for MLWGS
ATTACH;FMTTYPE=image/jpeg:https://mlwgs.com/wp-content/uploads/2024/07/logo_color-1.jpg
END:VEVENT
BEGIN:VEVENT
DTSTART;TZID=America/New_York:20250114T153000
DTEND;TZID=America/New_York:20250114T163000
DTSTAMP:20260421T163713
CREATED:20240819T193140Z
LAST-MODIFIED:20240819T193140Z
UID:10002788-1736868600-1736872200@mlwgs.com
SUMMARY:Subcommittee Meetings As Needed (Various Locations)
DESCRIPTION:Second Tuesday–flexible format & timing–These Tuesday afternoons will be designated for subcommittee meetings. Some subcommittees may meet during lunch or during alternative times. If you do not have a meeting\, you may leave school at 3:30.
URL:https://mlwgs.com/event/subcommittee-meetings-as-needed-various-locations/2025-01-14/
CATEGORIES:Building Activity for MLWGS
ATTACH;FMTTYPE=image/jpeg:https://mlwgs.com/wp-content/uploads/2024/07/logo_color-1.jpg
END:VEVENT
BEGIN:VEVENT
DTSTART;TZID=America/New_York:20250115T090000
DTEND;TZID=America/New_York:20250115T094500
DTSTAMP:20260421T163713
CREATED:20250113T182604Z
LAST-MODIFIED:20250113T182707Z
UID:10003982-1736931600-1736934300@mlwgs.com
SUMMARY:[HOLD] MLWGS 101 Meeting (Rm-221)
DESCRIPTION:Meeting to address Q2/S1 grade store items.  MLWGS 101 staff open during 1st block only.  See invite via Outlook. \nMr. Bortz
URL:https://mlwgs.com/event/hold-mlwgs-101-meeting-rm-221/
CATEGORIES:Building Activity for MLWGS
ATTACH;FMTTYPE=image/jpeg:https://mlwgs.com/wp-content/uploads/2024/07/mag-default-image.jpg
END:VEVENT
BEGIN:VEVENT
DTSTART;TZID=America/New_York:20250115T130000
DTEND;TZID=America/New_York:20250115T133000
DTSTAMP:20260421T163713
CREATED:20250113T160247Z
LAST-MODIFIED:20250113T160247Z
UID:10003980-1736946000-1736947800@mlwgs.com
SUMMARY:Hold for Pre-Event Mtg (Rm 221)
DESCRIPTION:College Kick-Off
URL:https://mlwgs.com/event/hold-for-pre-event-mtg-rm-221-4/
LOCATION:MLWGS Room 221
CATEGORIES:Building Activity for MLWGS
ATTACH;FMTTYPE=image/jpeg:https://mlwgs.com/wp-content/uploads/2024/07/mag-default-image.jpg
END:VEVENT
BEGIN:VEVENT
DTSTART;TZID=America/New_York:20250115T153000
DTEND;TZID=America/New_York:20250115T170000
DTSTAMP:20260421T163713
CREATED:20240822T144951Z
LAST-MODIFIED:20240822T145445Z
UID:10002865-1736955000-1736960400@mlwgs.com
SUMMARY:Testing Lab (Rm 201)
DESCRIPTION:The Testing Lab is available for all teachers to use\, so multiple assessments may be administered simultaneously. To manage this\, we space out students taking the same test\, ask students using computers to sit with their screens facing us\, and enforce the following rules: no food or drinks\, no personal items (including cell phones or earbuds)\, no talking\, and no bathroom breaks once testing has started. \nPlease note that students don’t need to arrive exactly at 3:30—they can come anytime within the Testing Lab window\, as long as they finish by 5:00 PM.
URL:https://mlwgs.com/event/testing-lab-rm-201-2/2025-01-15/
LOCATION:MLWGS Room 201
CATEGORIES:Building Activity for MLWGS
ATTACH;FMTTYPE=image/jpeg:https://mlwgs.com/wp-content/uploads/2024/07/logo_color-1.jpg
END:VEVENT
BEGIN:VEVENT
DTSTART;TZID=America/New_York:20250116T110000
DTEND;TZID=America/New_York:20250116T113000
DTSTAMP:20260421T163713
CREATED:20250113T155900Z
LAST-MODIFIED:20250113T155900Z
UID:10003979-1737025200-1737027000@mlwgs.com
SUMMARY:Hold for Pre-Event Mtg (Rm 221)
DESCRIPTION:W/ N. Lee for TJHHS
URL:https://mlwgs.com/event/hold-for-pre-event-mtg-rm-221-3/
LOCATION:MLWGS Room 221
CATEGORIES:Building Activity for MLWGS
ATTACH;FMTTYPE=image/jpeg:https://mlwgs.com/wp-content/uploads/2024/07/mag-default-image.jpg
END:VEVENT
BEGIN:VEVENT
DTSTART;TZID=America/New_York:20250116T114000
DTEND;TZID=America/New_York:20250116T121500
DTSTAMP:20260421T163713
CREATED:20240909T163315Z
LAST-MODIFIED:20240909T163315Z
UID:10003192-1737027600-1737029700@mlwgs.com
SUMMARY:Open Mic in the Library
DESCRIPTION:
URL:https://mlwgs.com/event/open-mic-in-the-library/2025-01-16/
LOCATION:MLWGS Library
CATEGORIES:Building Activity for MLWGS
ATTACH;FMTTYPE=image/png:https://mlwgs.com/wp-content/uploads/2024/09/cropped-mw-logo-green.png
ORGANIZER;CN="Ms. Wendy DeGroat":MAILTO:wdegroat@gsgis.k12.va.us
END:VEVENT
BEGIN:VEVENT
DTSTART;TZID=America/New_York:20250116T134500
DTEND;TZID=America/New_York:20250116T141500
DTSTAMP:20260421T163713
CREATED:20250113T205426Z
LAST-MODIFIED:20250113T205426Z
UID:10003986-1737035100-1737036900@mlwgs.com
SUMMARY:Pre-Event Mtg (Rm 221)
DESCRIPTION:Student Assessment Days
URL:https://mlwgs.com/event/pre-event-mtg-rm-221-10/
LOCATION:MLWGS Room 221
CATEGORIES:Building Activity for MLWGS
ATTACH;FMTTYPE=image/jpeg:https://mlwgs.com/wp-content/uploads/2024/07/mag-default-image.jpg
END:VEVENT
BEGIN:VEVENT
DTSTART;TZID=America/New_York:20250116T153000
DTEND;TZID=America/New_York:20250116T170000
DTSTAMP:20260421T163713
CREATED:20240822T145332Z
LAST-MODIFIED:20240822T145332Z
UID:10002899-1737041400-1737046800@mlwgs.com
SUMMARY:Testing Lab (Rm 201)
DESCRIPTION:The Testing Lab is available for all teachers to use\, so multiple assessments may be administered simultaneously. To manage this\, we space out students taking the same test\, ask students using computers to sit with their screens facing us\, and enforce the following rules: no food or drinks\, no personal items (including cell phones or earbuds)\, no talking\, and no bathroom breaks once testing has started. \nPlease note that students don’t need to arrive exactly at 3:30—they can come anytime within the Testing Lab window\, as long as they finish by 5:00 PM.
URL:https://mlwgs.com/event/testing-lab-rm-201-3/2025-01-16/
LOCATION:MLWGS Room 201
CATEGORIES:Building Activity for MLWGS
ATTACH;FMTTYPE=image/jpeg:https://mlwgs.com/wp-content/uploads/2024/07/logo_color-1.jpg
END:VEVENT
BEGIN:VEVENT
DTSTART;TZID=America/New_York:20250117T120000
DTEND;TZID=America/New_York:20250117T123000
DTSTAMP:20260421T163713
CREATED:20250115T141034Z
LAST-MODIFIED:20250115T141034Z
UID:10003990-1737115200-1737117000@mlwgs.com
SUMMARY:Counseling Dept (Forum)
DESCRIPTION:Requested by Kelly
URL:https://mlwgs.com/event/counseling-dept-forum/
LOCATION:MLWGS Forum
CATEGORIES:Building Activity for MLWGS
ATTACH;FMTTYPE=image/jpeg:https://mlwgs.com/wp-content/uploads/2024/07/mag-default-image.jpg
ORGANIZER;CN="Ms. Kelly Ndayizigiye":MAILTO:kndayizigiye@gsgis.k12.va.us
END:VEVENT
END:VCALENDAR