BEGIN:VCALENDAR
VERSION:2.0
PRODID:-//Maggie L. Walker Governor&#039;s School - ECPv6.15.17.1//NONSGML v1.0//EN
CALSCALE:GREGORIAN
METHOD:PUBLISH
X-WR-CALNAME:Maggie L. Walker Governor&#039;s School
X-ORIGINAL-URL:https://mlwgs.com
X-WR-CALDESC:Events for Maggie L. Walker Governor&#039;s School
REFRESH-INTERVAL;VALUE=DURATION:PT1H
X-Robots-Tag:noindex
X-PUBLISHED-TTL:PT1H
BEGIN:VTIMEZONE
TZID:America/New_York
BEGIN:DAYLIGHT
TZOFFSETFROM:-0500
TZOFFSETTO:-0400
TZNAME:EDT
DTSTART:20240310T070000
END:DAYLIGHT
BEGIN:STANDARD
TZOFFSETFROM:-0400
TZOFFSETTO:-0500
TZNAME:EST
DTSTART:20241103T060000
END:STANDARD
BEGIN:DAYLIGHT
TZOFFSETFROM:-0500
TZOFFSETTO:-0400
TZNAME:EDT
DTSTART:20250309T070000
END:DAYLIGHT
BEGIN:STANDARD
TZOFFSETFROM:-0400
TZOFFSETTO:-0500
TZNAME:EST
DTSTART:20251102T060000
END:STANDARD
BEGIN:DAYLIGHT
TZOFFSETFROM:-0500
TZOFFSETTO:-0400
TZNAME:EDT
DTSTART:20260308T070000
END:DAYLIGHT
BEGIN:STANDARD
TZOFFSETFROM:-0400
TZOFFSETTO:-0500
TZNAME:EST
DTSTART:20261101T060000
END:STANDARD
END:VTIMEZONE
BEGIN:VEVENT
DTSTART;TZID=America/New_York:20250310T080000
DTEND;TZID=America/New_York:20250310T170000
DTSTAMP:20260421T121153
CREATED:20250128T141815Z
LAST-MODIFIED:20250128T141815Z
UID:10004108-1741593600-1741626000@mlwgs.com
SUMMARY:Music Classes All Day (Auditorium)
DESCRIPTION:
URL:https://mlwgs.com/event/music-classes-all-day-auditorium/2025-03-10/
LOCATION:MLWGS Auditorium
CATEGORIES:Building Activity for MLWGS
ATTACH;FMTTYPE=image/jpeg:https://mlwgs.com/wp-content/uploads/2024/07/mag-default-image.jpg
END:VEVENT
BEGIN:VEVENT
DTSTART;TZID=America/New_York:20250310T114000
DTEND;TZID=America/New_York:20250310T120000
DTSTAMP:20260421T121153
CREATED:20250206T205716Z
LAST-MODIFIED:20250206T205716Z
UID:10004229-1741606800-1741608000@mlwgs.com
SUMMARY:Dragon Advisory Info Session for Mentors (Forum)
DESCRIPTION:
URL:https://mlwgs.com/event/dragon-advisory-info-session-for-mentors-forum/
LOCATION:MLWGS Forum
CATEGORIES:Building Activity for MLWGS
ATTACH;FMTTYPE=image/jpeg:https://mlwgs.com/wp-content/uploads/2024/07/mag-default-image.jpg
ORGANIZER;CN="Dr. Rachel Loving":MAILTO:rloving@gsgis.k12.va.us
END:VEVENT
BEGIN:VEVENT
DTSTART;TZID=America/New_York:20250310T130000
DTEND;TZID=America/New_York:20250310T140000
DTSTAMP:20260421T121153
CREATED:20250226T212846Z
LAST-MODIFIED:20250303T162939Z
UID:10004299-1741611600-1741615200@mlwgs.com
SUMMARY:Admin Mtg (Rm 153)
DESCRIPTION:
URL:https://mlwgs.com/event/admin-mtg-rm-153/
LOCATION:MLWGS Room 153
CATEGORIES:Building Activity for MLWGS
ATTACH;FMTTYPE=image/jpeg:https://mlwgs.com/wp-content/uploads/2024/07/mag-default-image.jpg
END:VEVENT
BEGIN:VEVENT
DTSTART;TZID=America/New_York:20250310T153000
DTEND;TZID=America/New_York:20250310T163000
DTSTAMP:20260421T121153
CREATED:20250205T201108Z
LAST-MODIFIED:20250205T201108Z
UID:10004222-1741620600-1741624200@mlwgs.com
SUMMARY:Practice for Multicultural Assembly (Black Box)
DESCRIPTION:
URL:https://mlwgs.com/event/practice-for-multicultural-assembly-black-box/2025-03-10/
CATEGORIES:Building Activity for MLWGS
ATTACH;FMTTYPE=image/jpeg:https://mlwgs.com/wp-content/uploads/2024/07/mag-default-image.jpg
END:VEVENT
BEGIN:VEVENT
DTSTART;TZID=America/New_York:20250310T153000
DTEND;TZID=America/New_York:20250310T170000
DTSTAMP:20260421T121153
CREATED:20240822T144706Z
LAST-MODIFIED:20241029T183442Z
UID:10002838-1741620600-1741626000@mlwgs.com
SUMMARY:Testing Lab (Rm 201)
DESCRIPTION:The Testing Lab is available for all teachers to use\, so multiple assessments may be administered simultaneously. To manage this\, we space out students taking the same test\, ask students using computers to sit with their screens facing us\, and enforce the following rules: no food or drinks\, no personal items (including cell phones or earbuds)\, no talking\, and no bathroom breaks once testing has started. \nPlease note that students don’t need to arrive exactly at 3:30—they can come anytime within the Testing Lab window\, as long as they finish by 5:00 PM.
URL:https://mlwgs.com/event/testing-lab-rm-201/2025-03-10/
LOCATION:MLWGS Room 201
CATEGORIES:Building Activity for MLWGS
ATTACH;FMTTYPE=image/jpeg:https://mlwgs.com/wp-content/uploads/2024/07/logo_color-1.jpg
END:VEVENT
BEGIN:VEVENT
DTSTART;TZID=America/New_York:20250311T080000
DTEND;TZID=America/New_York:20250311T170000
DTSTAMP:20260421T121153
CREATED:20250128T141815Z
LAST-MODIFIED:20250128T141815Z
UID:10004109-1741680000-1741712400@mlwgs.com
SUMMARY:Music Classes All Day (Auditorium)
DESCRIPTION:
URL:https://mlwgs.com/event/music-classes-all-day-auditorium/2025-03-11/
LOCATION:MLWGS Auditorium
CATEGORIES:Building Activity for MLWGS
ATTACH;FMTTYPE=image/jpeg:https://mlwgs.com/wp-content/uploads/2024/07/mag-default-image.jpg
END:VEVENT
BEGIN:VEVENT
DTSTART;TZID=America/New_York:20250311T153000
DTEND;TZID=America/New_York:20250311T163000
DTSTAMP:20260421T121153
CREATED:20240819T193140Z
LAST-MODIFIED:20240819T193140Z
UID:10002790-1741707000-1741710600@mlwgs.com
SUMMARY:Subcommittee Meetings As Needed (Various Locations)
DESCRIPTION:Second Tuesday–flexible format & timing–These Tuesday afternoons will be designated for subcommittee meetings. Some subcommittees may meet during lunch or during alternative times. If you do not have a meeting\, you may leave school at 3:30.
URL:https://mlwgs.com/event/subcommittee-meetings-as-needed-various-locations/2025-03-11/
CATEGORIES:Building Activity for MLWGS
ATTACH;FMTTYPE=image/jpeg:https://mlwgs.com/wp-content/uploads/2024/07/logo_color-1.jpg
END:VEVENT
BEGIN:VEVENT
DTSTART;TZID=America/New_York:20250311T153000
DTEND;TZID=America/New_York:20250311T163000
DTSTAMP:20260421T121153
CREATED:20250205T201108Z
LAST-MODIFIED:20250205T201108Z
UID:10004223-1741707000-1741710600@mlwgs.com
SUMMARY:Practice for Multicultural Assembly (Black Box)
DESCRIPTION:
URL:https://mlwgs.com/event/practice-for-multicultural-assembly-black-box/2025-03-11/
CATEGORIES:Building Activity for MLWGS
ATTACH;FMTTYPE=image/jpeg:https://mlwgs.com/wp-content/uploads/2024/07/mag-default-image.jpg
END:VEVENT
BEGIN:VEVENT
DTSTART;TZID=America/New_York:20250311T153000
DTEND;TZID=America/New_York:20250311T163000
DTSTAMP:20260421T121153
CREATED:20250306T191122Z
LAST-MODIFIED:20250306T191122Z
UID:10004333-1741707000-1741710600@mlwgs.com
SUMMARY:GSMUN (AUD) Event Rehearsal
DESCRIPTION:Mr. Rogers and Mr. Bortz
URL:https://mlwgs.com/event/gsmun-aud-event-rehearsal/
CATEGORIES:Building Activity for MLWGS
ATTACH;FMTTYPE=image/jpeg:https://mlwgs.com/wp-content/uploads/2024/07/mag-default-image.jpg
END:VEVENT
BEGIN:VEVENT
DTSTART;TZID=America/New_York:20250312T080000
DTEND;TZID=America/New_York:20250312T170000
DTSTAMP:20260421T121153
CREATED:20250128T141815Z
LAST-MODIFIED:20250128T141815Z
UID:10004110-1741766400-1741798800@mlwgs.com
SUMMARY:Music Classes All Day (Auditorium)
DESCRIPTION:
URL:https://mlwgs.com/event/music-classes-all-day-auditorium/2025-03-12/
LOCATION:MLWGS Auditorium
CATEGORIES:Building Activity for MLWGS
ATTACH;FMTTYPE=image/jpeg:https://mlwgs.com/wp-content/uploads/2024/07/mag-default-image.jpg
END:VEVENT
BEGIN:VEVENT
DTSTART;TZID=America/New_York:20250312T153000
DTEND;TZID=America/New_York:20250312T163000
DTSTAMP:20260421T121153
CREATED:20250205T201108Z
LAST-MODIFIED:20250205T201108Z
UID:10004224-1741793400-1741797000@mlwgs.com
SUMMARY:Practice for Multicultural Assembly (Black Box)
DESCRIPTION:
URL:https://mlwgs.com/event/practice-for-multicultural-assembly-black-box/2025-03-12/
CATEGORIES:Building Activity for MLWGS
ATTACH;FMTTYPE=image/jpeg:https://mlwgs.com/wp-content/uploads/2024/07/mag-default-image.jpg
END:VEVENT
BEGIN:VEVENT
DTSTART;TZID=America/New_York:20250312T153000
DTEND;TZID=America/New_York:20250312T170000
DTSTAMP:20260421T121153
CREATED:20240822T144951Z
LAST-MODIFIED:20240822T145445Z
UID:10002873-1741793400-1741798800@mlwgs.com
SUMMARY:Testing Lab (Rm 201)
DESCRIPTION:The Testing Lab is available for all teachers to use\, so multiple assessments may be administered simultaneously. To manage this\, we space out students taking the same test\, ask students using computers to sit with their screens facing us\, and enforce the following rules: no food or drinks\, no personal items (including cell phones or earbuds)\, no talking\, and no bathroom breaks once testing has started. \nPlease note that students don’t need to arrive exactly at 3:30—they can come anytime within the Testing Lab window\, as long as they finish by 5:00 PM.
URL:https://mlwgs.com/event/testing-lab-rm-201-2/2025-03-12/
LOCATION:MLWGS Room 201
CATEGORIES:Building Activity for MLWGS
ATTACH;FMTTYPE=image/jpeg:https://mlwgs.com/wp-content/uploads/2024/07/logo_color-1.jpg
END:VEVENT
BEGIN:VEVENT
DTSTART;TZID=America/New_York:20250312T153000
DTEND;TZID=America/New_York:20250312T170000
DTSTAMP:20260421T121153
CREATED:20250128T143115Z
LAST-MODIFIED:20250128T143115Z
UID:10004113-1741793400-1741798800@mlwgs.com
SUMMARY:Combined Band Rehearsal (Auditorium)
DESCRIPTION:
URL:https://mlwgs.com/event/combined-band-rehearsal-auditorium/
LOCATION:MLWGS Auditorium
CATEGORIES:Building Activity for MLWGS
ATTACH;FMTTYPE=image/jpeg:https://mlwgs.com/wp-content/uploads/2024/07/mag-default-image.jpg
END:VEVENT
BEGIN:VEVENT
DTSTART;TZID=America/New_York:20250313T080000
DTEND;TZID=America/New_York:20250313T170000
DTSTAMP:20260421T121153
CREATED:20250128T141815Z
LAST-MODIFIED:20250128T141815Z
UID:10004111-1741852800-1741885200@mlwgs.com
SUMMARY:Music Classes All Day (Auditorium)
DESCRIPTION:
URL:https://mlwgs.com/event/music-classes-all-day-auditorium/2025-03-13/
LOCATION:MLWGS Auditorium
CATEGORIES:Building Activity for MLWGS
ATTACH;FMTTYPE=image/jpeg:https://mlwgs.com/wp-content/uploads/2024/07/mag-default-image.jpg
END:VEVENT
BEGIN:VEVENT
DTSTART;TZID=America/New_York:20250313T153000
DTEND;TZID=America/New_York:20250313T163000
DTSTAMP:20260421T121153
CREATED:20250205T201108Z
LAST-MODIFIED:20250205T201108Z
UID:10004225-1741879800-1741883400@mlwgs.com
SUMMARY:Practice for Multicultural Assembly (Black Box)
DESCRIPTION:
URL:https://mlwgs.com/event/practice-for-multicultural-assembly-black-box/2025-03-13/
CATEGORIES:Building Activity for MLWGS
ATTACH;FMTTYPE=image/jpeg:https://mlwgs.com/wp-content/uploads/2024/07/mag-default-image.jpg
END:VEVENT
BEGIN:VEVENT
DTSTART;TZID=America/New_York:20250313T153000
DTEND;TZID=America/New_York:20250313T170000
DTSTAMP:20260421T121153
CREATED:20240822T145332Z
LAST-MODIFIED:20240822T145332Z
UID:10002907-1741879800-1741885200@mlwgs.com
SUMMARY:Testing Lab (Rm 201)
DESCRIPTION:The Testing Lab is available for all teachers to use\, so multiple assessments may be administered simultaneously. To manage this\, we space out students taking the same test\, ask students using computers to sit with their screens facing us\, and enforce the following rules: no food or drinks\, no personal items (including cell phones or earbuds)\, no talking\, and no bathroom breaks once testing has started. \nPlease note that students don’t need to arrive exactly at 3:30—they can come anytime within the Testing Lab window\, as long as they finish by 5:00 PM.
URL:https://mlwgs.com/event/testing-lab-rm-201-3/2025-03-13/
LOCATION:MLWGS Room 201
CATEGORIES:Building Activity for MLWGS
ATTACH;FMTTYPE=image/jpeg:https://mlwgs.com/wp-content/uploads/2024/07/logo_color-1.jpg
END:VEVENT
BEGIN:VEVENT
DTSTART;TZID=America/New_York:20250314T080000
DTEND;TZID=America/New_York:20250314T170000
DTSTAMP:20260421T121153
CREATED:20250128T141815Z
LAST-MODIFIED:20250128T141815Z
UID:10004112-1741939200-1741971600@mlwgs.com
SUMMARY:Music Classes All Day (Auditorium)
DESCRIPTION:
URL:https://mlwgs.com/event/music-classes-all-day-auditorium/2025-03-14/
LOCATION:MLWGS Auditorium
CATEGORIES:Building Activity for MLWGS
ATTACH;FMTTYPE=image/jpeg:https://mlwgs.com/wp-content/uploads/2024/07/mag-default-image.jpg
END:VEVENT
BEGIN:VEVENT
DTSTART;TZID=America/New_York:20250314T080000
DTEND;TZID=America/New_York:20250314T170000
DTSTAMP:20260421T121153
CREATED:20250311T185640Z
LAST-MODIFIED:20250311T185640Z
UID:10004356-1741939200-1741971600@mlwgs.com
SUMMARY:SOL Makeup Testing (RM-153)
DESCRIPTION:Ms. Ndayizigiye \nMWtech
URL:https://mlwgs.com/event/sol-makeup-testing-rm-153/
CATEGORIES:Building Activity for MLWGS
ATTACH;FMTTYPE=image/jpeg:https://mlwgs.com/wp-content/uploads/2024/07/mag-default-image.jpg
END:VEVENT
BEGIN:VEVENT
DTSTART;TZID=America/New_York:20250314T153000
DTEND;TZID=America/New_York:20250314T163000
DTSTAMP:20260421T121153
CREATED:20250205T201108Z
LAST-MODIFIED:20250205T201108Z
UID:10004226-1741966200-1741969800@mlwgs.com
SUMMARY:Practice for Multicultural Assembly (Black Box)
DESCRIPTION:
URL:https://mlwgs.com/event/practice-for-multicultural-assembly-black-box/2025-03-14/
CATEGORIES:Building Activity for MLWGS
ATTACH;FMTTYPE=image/jpeg:https://mlwgs.com/wp-content/uploads/2024/07/mag-default-image.jpg
END:VEVENT
END:VCALENDAR