BEGIN:VCALENDAR
VERSION:2.0
PRODID:-//Maggie L. Walker Governor&#039;s School - ECPv6.15.17.1//NONSGML v1.0//EN
CALSCALE:GREGORIAN
METHOD:PUBLISH
X-WR-CALNAME:Maggie L. Walker Governor&#039;s School
X-ORIGINAL-URL:https://mlwgs.com
X-WR-CALDESC:Events for Maggie L. Walker Governor&#039;s School
REFRESH-INTERVAL;VALUE=DURATION:PT1H
X-Robots-Tag:noindex
X-PUBLISHED-TTL:PT1H
BEGIN:VTIMEZONE
TZID:America/New_York
BEGIN:DAYLIGHT
TZOFFSETFROM:-0500
TZOFFSETTO:-0400
TZNAME:EDT
DTSTART:20240310T070000
END:DAYLIGHT
BEGIN:STANDARD
TZOFFSETFROM:-0400
TZOFFSETTO:-0500
TZNAME:EST
DTSTART:20241103T060000
END:STANDARD
BEGIN:DAYLIGHT
TZOFFSETFROM:-0500
TZOFFSETTO:-0400
TZNAME:EDT
DTSTART:20250309T070000
END:DAYLIGHT
BEGIN:STANDARD
TZOFFSETFROM:-0400
TZOFFSETTO:-0500
TZNAME:EST
DTSTART:20251102T060000
END:STANDARD
BEGIN:DAYLIGHT
TZOFFSETFROM:-0500
TZOFFSETTO:-0400
TZNAME:EDT
DTSTART:20260308T070000
END:DAYLIGHT
BEGIN:STANDARD
TZOFFSETFROM:-0400
TZOFFSETTO:-0500
TZNAME:EST
DTSTART:20261101T060000
END:STANDARD
END:VTIMEZONE
BEGIN:VEVENT
DTSTART;TZID=America/New_York:20250407T080000
DTEND;TZID=America/New_York:20250407T101500
DTSTAMP:20260421T091529
CREATED:20250317T155356Z
LAST-MODIFIED:20250317T155356Z
UID:10004370-1744012800-1744020900@mlwgs.com
SUMMARY:German Exchange Welcome Breakfast (Rm 153)
DESCRIPTION:
URL:https://mlwgs.com/event/german-exchange-welcome-breakfast-rm-153/
LOCATION:MLWGS Room 153
CATEGORIES:Building Activity for MLWGS
ATTACH;FMTTYPE=image/jpeg:https://mlwgs.com/wp-content/uploads/2024/07/mag-default-image.jpg
ORGANIZER;CN="Ms. Kristen Macklin":MAILTO:kmacklin@gsgis.k12.va.us
END:VEVENT
BEGIN:VEVENT
DTSTART;TZID=America/New_York:20250407T153000
DTEND;TZID=America/New_York:20250407T170000
DTSTAMP:20260421T091529
CREATED:20240822T144706Z
LAST-MODIFIED:20241029T183442Z
UID:10002841-1744039800-1744045200@mlwgs.com
SUMMARY:Testing Lab (Rm 201)
DESCRIPTION:The Testing Lab is available for all teachers to use\, so multiple assessments may be administered simultaneously. To manage this\, we space out students taking the same test\, ask students using computers to sit with their screens facing us\, and enforce the following rules: no food or drinks\, no personal items (including cell phones or earbuds)\, no talking\, and no bathroom breaks once testing has started. \nPlease note that students don’t need to arrive exactly at 3:30—they can come anytime within the Testing Lab window\, as long as they finish by 5:00 PM.
URL:https://mlwgs.com/event/testing-lab-rm-201/2025-04-07/
LOCATION:MLWGS Room 201
CATEGORIES:Building Activity for MLWGS
ATTACH;FMTTYPE=image/jpeg:https://mlwgs.com/wp-content/uploads/2024/07/logo_color-1.jpg
END:VEVENT
BEGIN:VEVENT
DTSTART;TZID=America/New_York:20250408T153000
DTEND;TZID=America/New_York:20250408T163000
DTSTAMP:20260421T091529
CREATED:20241014T134135Z
LAST-MODIFIED:20241015T174922Z
UID:10002390-1744126200-1744129800@mlwgs.com
SUMMARY:Required Faculty Meeting (Forum)
DESCRIPTION:
URL:https://mlwgs.com/event/faculty-meeting-forum-2-2-2/2025-04-08/
LOCATION:MLWGS Forum
CATEGORIES:Building Activity for MLWGS
ATTACH;FMTTYPE=image/jpeg:https://mlwgs.com/wp-content/uploads/2024/07/logo_color-1.jpg
ORGANIZER;CN="Dr. Robert Lowerre":MAILTO:rlowerre@gsgis.k12.va.us
END:VEVENT
BEGIN:VEVENT
DTSTART;TZID=America/New_York:20250409T123000
DTEND;TZID=America/New_York:20250409T130000
DTSTAMP:20260421T091529
CREATED:20250319T150940Z
LAST-MODIFIED:20250319T150940Z
UID:10004386-1744201800-1744203600@mlwgs.com
SUMMARY:Pre-Event Mtg (Rm 221)
DESCRIPTION:VCU Student Group
URL:https://mlwgs.com/event/pre-event-mtg-rm-221-15/
LOCATION:MLWGS Room 221
CATEGORIES:Building Activity for MLWGS
ATTACH;FMTTYPE=image/jpeg:https://mlwgs.com/wp-content/uploads/2024/07/mag-default-image.jpg
END:VEVENT
BEGIN:VEVENT
DTSTART;TZID=America/New_York:20250409T153000
DTEND;TZID=America/New_York:20250409T170000
DTSTAMP:20260421T091529
CREATED:20240812T165954Z
LAST-MODIFIED:20240909T163648Z
UID:10003196-1744212600-1744218000@mlwgs.com
SUMMARY:Transcribe-a-thon (Library)
DESCRIPTION:On Wednesday\, Oct. 2nd from 3:30 to 5pm\, the MW Library will host its first Transcribe-a-thon for this school year\, an opportunity to decode historic documents into searchable digital versions for the benefit of historians\, scholars\, genealogists\, and other researchers. Ms. Sonya Coleman from the Library of Virginia will be here to share exciting project updates. Enjoy free sweet treats and get Library of Virginia bling this annual kickoff event. Once you participate in-person\, you’ll have the option to continue earning community service hours (up to a max of 35 hours) by transcribing historic documents online from anywhere (as long as you provide the required documentation). Interested? Sign in to your GSGIS Google account & then sign up for this year’s team! \n 
URL:https://mlwgs.com/event/transcribe-a-thon-library/2025-04-09/
LOCATION:MLWGS Library
CATEGORIES:Building Activity for MLWGS
ATTACH;FMTTYPE=image/jpeg:https://mlwgs.com/wp-content/uploads/2024/07/logo_color-1.jpg
ORGANIZER;CN="Ms. Wendy DeGroat":MAILTO:wdegroat@gsgis.k12.va.us
END:VEVENT
BEGIN:VEVENT
DTSTART;TZID=America/New_York:20250409T153000
DTEND;TZID=America/New_York:20250409T170000
DTSTAMP:20260421T091529
CREATED:20240822T144951Z
LAST-MODIFIED:20240822T145445Z
UID:10002876-1744212600-1744218000@mlwgs.com
SUMMARY:Testing Lab (Rm 201)
DESCRIPTION:The Testing Lab is available for all teachers to use\, so multiple assessments may be administered simultaneously. To manage this\, we space out students taking the same test\, ask students using computers to sit with their screens facing us\, and enforce the following rules: no food or drinks\, no personal items (including cell phones or earbuds)\, no talking\, and no bathroom breaks once testing has started. \nPlease note that students don’t need to arrive exactly at 3:30—they can come anytime within the Testing Lab window\, as long as they finish by 5:00 PM.
URL:https://mlwgs.com/event/testing-lab-rm-201-2/2025-04-09/
LOCATION:MLWGS Room 201
CATEGORIES:Building Activity for MLWGS
ATTACH;FMTTYPE=image/jpeg:https://mlwgs.com/wp-content/uploads/2024/07/logo_color-1.jpg
END:VEVENT
BEGIN:VEVENT
DTSTART;TZID=America/New_York:20250409T153000
DTEND;TZID=America/New_York:20250409T173000
DTSTAMP:20260421T091529
CREATED:20250225T163652Z
LAST-MODIFIED:20250319T172635Z
UID:10004291-1744212600-1744219800@mlwgs.com
SUMMARY:AP US Review Session 2 (Forum)
DESCRIPTION:Mr. Clark
URL:https://mlwgs.com/event/ap-us-review-session-2-forum/
LOCATION:MLWGS Forum
CATEGORIES:Building Activity for MLWGS
ATTACH;FMTTYPE=image/jpeg:https://mlwgs.com/wp-content/uploads/2024/07/mag-default-image.jpg
ORGANIZER;CN="Mr. John Clark":MAILTO:jjclark@gsgis.k12.va.us
END:VEVENT
BEGIN:VEVENT
DTSTART;TZID=America/New_York:20250410T153000
DTEND;TZID=America/New_York:20250410T170000
DTSTAMP:20260421T091529
CREATED:20240822T145332Z
LAST-MODIFIED:20240822T145332Z
UID:10002910-1744299000-1744304400@mlwgs.com
SUMMARY:Testing Lab (Rm 201)
DESCRIPTION:The Testing Lab is available for all teachers to use\, so multiple assessments may be administered simultaneously. To manage this\, we space out students taking the same test\, ask students using computers to sit with their screens facing us\, and enforce the following rules: no food or drinks\, no personal items (including cell phones or earbuds)\, no talking\, and no bathroom breaks once testing has started. \nPlease note that students don’t need to arrive exactly at 3:30—they can come anytime within the Testing Lab window\, as long as they finish by 5:00 PM.
URL:https://mlwgs.com/event/testing-lab-rm-201-3/2025-04-10/
LOCATION:MLWGS Room 201
CATEGORIES:Building Activity for MLWGS
ATTACH;FMTTYPE=image/jpeg:https://mlwgs.com/wp-content/uploads/2024/07/logo_color-1.jpg
END:VEVENT
BEGIN:VEVENT
DTSTART;TZID=America/New_York:20250411T103000
DTEND;TZID=America/New_York:20250411T110000
DTSTAMP:20260421T091529
CREATED:20250408T142933Z
LAST-MODIFIED:20250408T142933Z
UID:10004414-1744367400-1744369200@mlwgs.com
SUMMARY:Pre-Event Mtg (Rm 221)
DESCRIPTION:Dare to be a Dragon
URL:https://mlwgs.com/event/pre-event-mtg-rm-221-17/
LOCATION:MLWGS Room 221
CATEGORIES:Building Activity for MLWGS
ATTACH;FMTTYPE=image/jpeg:https://mlwgs.com/wp-content/uploads/2024/07/mag-default-image.jpg
END:VEVENT
END:VCALENDAR