BEGIN:VCALENDAR
VERSION:2.0
PRODID:-//Maggie L. Walker Governor&#039;s School - ECPv6.15.17.1//NONSGML v1.0//EN
CALSCALE:GREGORIAN
METHOD:PUBLISH
X-WR-CALNAME:Maggie L. Walker Governor&#039;s School
X-ORIGINAL-URL:https://mlwgs.com
X-WR-CALDESC:Events for Maggie L. Walker Governor&#039;s School
REFRESH-INTERVAL;VALUE=DURATION:PT1H
X-Robots-Tag:noindex
X-PUBLISHED-TTL:PT1H
BEGIN:VTIMEZONE
TZID:America/New_York
BEGIN:DAYLIGHT
TZOFFSETFROM:-0500
TZOFFSETTO:-0400
TZNAME:EDT
DTSTART:20240310T070000
END:DAYLIGHT
BEGIN:STANDARD
TZOFFSETFROM:-0400
TZOFFSETTO:-0500
TZNAME:EST
DTSTART:20241103T060000
END:STANDARD
BEGIN:DAYLIGHT
TZOFFSETFROM:-0500
TZOFFSETTO:-0400
TZNAME:EDT
DTSTART:20250309T070000
END:DAYLIGHT
BEGIN:STANDARD
TZOFFSETFROM:-0400
TZOFFSETTO:-0500
TZNAME:EST
DTSTART:20251102T060000
END:STANDARD
BEGIN:DAYLIGHT
TZOFFSETFROM:-0500
TZOFFSETTO:-0400
TZNAME:EDT
DTSTART:20260308T070000
END:DAYLIGHT
BEGIN:STANDARD
TZOFFSETFROM:-0400
TZOFFSETTO:-0500
TZNAME:EST
DTSTART:20261101T060000
END:STANDARD
END:VTIMEZONE
BEGIN:VEVENT
DTSTART;TZID=America/New_York:20250421T080000
DTEND;TZID=America/New_York:20250421T200000
DTSTAMP:20260421T075328
CREATED:20250128T135219Z
LAST-MODIFIED:20250128T135219Z
UID:10004095-1745222400-1745265600@mlwgs.com
SUMMARY:Music Classes (Auditorium)
DESCRIPTION:
URL:https://mlwgs.com/event/music-classes-auditorium-2/2025-04-21/
LOCATION:MLWGS Auditorium
CATEGORIES:Building Activity for MLWGS
ATTACH;FMTTYPE=image/jpeg:https://mlwgs.com/wp-content/uploads/2024/07/mag-default-image.jpg
ORGANIZER;CN="Mr. Nicholas Merillat":MAILTO:nmerillat@gsgis.k12.va.us
END:VEVENT
BEGIN:VEVENT
DTSTART;TZID=America/New_York:20250421T153000
DTEND;TZID=America/New_York:20250421T170000
DTSTAMP:20260421T075328
CREATED:20240822T144706Z
LAST-MODIFIED:20241029T183442Z
UID:10002843-1745249400-1745254800@mlwgs.com
SUMMARY:Testing Lab (Rm 201)
DESCRIPTION:The Testing Lab is available for all teachers to use\, so multiple assessments may be administered simultaneously. To manage this\, we space out students taking the same test\, ask students using computers to sit with their screens facing us\, and enforce the following rules: no food or drinks\, no personal items (including cell phones or earbuds)\, no talking\, and no bathroom breaks once testing has started. \nPlease note that students don’t need to arrive exactly at 3:30—they can come anytime within the Testing Lab window\, as long as they finish by 5:00 PM.
URL:https://mlwgs.com/event/testing-lab-rm-201/2025-04-21/
LOCATION:MLWGS Room 201
CATEGORIES:Building Activity for MLWGS
ATTACH;FMTTYPE=image/jpeg:https://mlwgs.com/wp-content/uploads/2024/07/logo_color-1.jpg
END:VEVENT
BEGIN:VEVENT
DTSTART;TZID=America/New_York:20250422T080000
DTEND;TZID=America/New_York:20250422T200000
DTSTAMP:20260421T075328
CREATED:20250128T135219Z
LAST-MODIFIED:20250128T135219Z
UID:10004096-1745308800-1745352000@mlwgs.com
SUMMARY:Music Classes (Auditorium)
DESCRIPTION:
URL:https://mlwgs.com/event/music-classes-auditorium-2/2025-04-22/
LOCATION:MLWGS Auditorium
CATEGORIES:Building Activity for MLWGS
ATTACH;FMTTYPE=image/jpeg:https://mlwgs.com/wp-content/uploads/2024/07/mag-default-image.jpg
ORGANIZER;CN="Mr. Nicholas Merillat":MAILTO:nmerillat@gsgis.k12.va.us
END:VEVENT
BEGIN:VEVENT
DTSTART;TZID=America/New_York:20250422T153000
DTEND;TZID=America/New_York:20250422T163000
DTSTAMP:20260421T075328
CREATED:20250312T135525Z
LAST-MODIFIED:20250312T135536Z
UID:10004358-1745335800-1745339400@mlwgs.com
SUMMARY:Faculty Sub-Committee Meetings (Various Locations)
DESCRIPTION:
URL:https://mlwgs.com/event/faculty-sub-committee-meetings-various-locations/
CATEGORIES:Building Activity for MLWGS
ATTACH;FMTTYPE=image/jpeg:https://mlwgs.com/wp-content/uploads/2024/07/mag-default-image.jpg
END:VEVENT
BEGIN:VEVENT
DTSTART;TZID=America/New_York:20250423T080000
DTEND;TZID=America/New_York:20250423T200000
DTSTAMP:20260421T075328
CREATED:20250128T135219Z
LAST-MODIFIED:20250128T135219Z
UID:10004097-1745395200-1745438400@mlwgs.com
SUMMARY:Music Classes (Auditorium)
DESCRIPTION:
URL:https://mlwgs.com/event/music-classes-auditorium-2/2025-04-23/
LOCATION:MLWGS Auditorium
CATEGORIES:Building Activity for MLWGS
ATTACH;FMTTYPE=image/jpeg:https://mlwgs.com/wp-content/uploads/2024/07/mag-default-image.jpg
ORGANIZER;CN="Mr. Nicholas Merillat":MAILTO:nmerillat@gsgis.k12.va.us
END:VEVENT
BEGIN:VEVENT
DTSTART;TZID=America/New_York:20250423T153000
DTEND;TZID=America/New_York:20250423T170000
DTSTAMP:20260421T075328
CREATED:20240822T144951Z
LAST-MODIFIED:20240822T145445Z
UID:10002878-1745422200-1745427600@mlwgs.com
SUMMARY:Testing Lab (Rm 201)
DESCRIPTION:The Testing Lab is available for all teachers to use\, so multiple assessments may be administered simultaneously. To manage this\, we space out students taking the same test\, ask students using computers to sit with their screens facing us\, and enforce the following rules: no food or drinks\, no personal items (including cell phones or earbuds)\, no talking\, and no bathroom breaks once testing has started. \nPlease note that students don’t need to arrive exactly at 3:30—they can come anytime within the Testing Lab window\, as long as they finish by 5:00 PM.
URL:https://mlwgs.com/event/testing-lab-rm-201-2/2025-04-23/
LOCATION:MLWGS Room 201
CATEGORIES:Building Activity for MLWGS
ATTACH;FMTTYPE=image/jpeg:https://mlwgs.com/wp-content/uploads/2024/07/logo_color-1.jpg
END:VEVENT
BEGIN:VEVENT
DTSTART;TZID=America/New_York:20250424T080000
DTEND;TZID=America/New_York:20250424T200000
DTSTAMP:20260421T075328
CREATED:20250128T135219Z
LAST-MODIFIED:20250128T135219Z
UID:10004098-1745481600-1745524800@mlwgs.com
SUMMARY:Music Classes (Auditorium)
DESCRIPTION:
URL:https://mlwgs.com/event/music-classes-auditorium-2/2025-04-24/
LOCATION:MLWGS Auditorium
CATEGORIES:Building Activity for MLWGS
ATTACH;FMTTYPE=image/jpeg:https://mlwgs.com/wp-content/uploads/2024/07/mag-default-image.jpg
ORGANIZER;CN="Mr. Nicholas Merillat":MAILTO:nmerillat@gsgis.k12.va.us
END:VEVENT
BEGIN:VEVENT
DTSTART;TZID=America/New_York:20250424T153000
DTEND;TZID=America/New_York:20250424T170000
DTSTAMP:20260421T075328
CREATED:20240822T145332Z
LAST-MODIFIED:20240822T145332Z
UID:10002912-1745508600-1745514000@mlwgs.com
SUMMARY:Testing Lab (Rm 201)
DESCRIPTION:The Testing Lab is available for all teachers to use\, so multiple assessments may be administered simultaneously. To manage this\, we space out students taking the same test\, ask students using computers to sit with their screens facing us\, and enforce the following rules: no food or drinks\, no personal items (including cell phones or earbuds)\, no talking\, and no bathroom breaks once testing has started. \nPlease note that students don’t need to arrive exactly at 3:30—they can come anytime within the Testing Lab window\, as long as they finish by 5:00 PM.
URL:https://mlwgs.com/event/testing-lab-rm-201-3/2025-04-24/
LOCATION:MLWGS Room 201
CATEGORIES:Building Activity for MLWGS
ATTACH;FMTTYPE=image/jpeg:https://mlwgs.com/wp-content/uploads/2024/07/logo_color-1.jpg
END:VEVENT
BEGIN:VEVENT
DTSTART;TZID=America/New_York:20250424T173000
DTEND;TZID=America/New_York:20250424T190000
DTSTAMP:20260421T075328
CREATED:20250205T172404Z
LAST-MODIFIED:20250205T172404Z
UID:10004216-1745515800-1745521200@mlwgs.com
SUMMARY:Annual Volunteer Appreciation Dinner (Commons)
DESCRIPTION:
URL:https://mlwgs.com/event/annual-volunteer-appreciation-dinner-commons/
LOCATION:MLWGS Commons (1st Floor)
CATEGORIES:Building Activity for MLWGS
ATTACH;FMTTYPE=image/jpeg:https://mlwgs.com/wp-content/uploads/2024/07/mag-default-image.jpg
END:VEVENT
BEGIN:VEVENT
DTSTART;TZID=America/New_York:20250425T080000
DTEND;TZID=America/New_York:20250425T200000
DTSTAMP:20260421T075328
CREATED:20250128T135219Z
LAST-MODIFIED:20250128T135219Z
UID:10004099-1745568000-1745611200@mlwgs.com
SUMMARY:Music Classes (Auditorium)
DESCRIPTION:
URL:https://mlwgs.com/event/music-classes-auditorium-2/2025-04-25/
LOCATION:MLWGS Auditorium
CATEGORIES:Building Activity for MLWGS
ATTACH;FMTTYPE=image/jpeg:https://mlwgs.com/wp-content/uploads/2024/07/mag-default-image.jpg
ORGANIZER;CN="Mr. Nicholas Merillat":MAILTO:nmerillat@gsgis.k12.va.us
END:VEVENT
BEGIN:VEVENT
DTSTART;TZID=America/New_York:20250426T093000
DTEND;TZID=America/New_York:20250426T114500
DTSTAMP:20260421T075328
CREATED:20250424T124707Z
LAST-MODIFIED:20250424T124707Z
UID:10004460-1745659800-1745667900@mlwgs.com
SUMMARY:Mr. Brown AP Push Review Session-Make up (Rm 153)
DESCRIPTION:
URL:https://mlwgs.com/event/mr-brown-ap-push-review-session-make-up-rm-153/
LOCATION:MLWGS Room 153
CATEGORIES:Building Activity for MLWGS
ATTACH;FMTTYPE=image/jpeg:https://mlwgs.com/wp-content/uploads/2024/07/mag-default-image.jpg
ORGANIZER;CN="Mr. Dan Brown":MAILTO:dbrown@gsgis.k12.va.us
END:VEVENT
END:VCALENDAR