BEGIN:VCALENDAR
VERSION:2.0
PRODID:-//Maggie L. Walker Governor&#039;s School - ECPv6.15.17.1//NONSGML v1.0//EN
CALSCALE:GREGORIAN
METHOD:PUBLISH
X-WR-CALNAME:Maggie L. Walker Governor&#039;s School
X-ORIGINAL-URL:https://mlwgs.com
X-WR-CALDESC:Events for Maggie L. Walker Governor&#039;s School
REFRESH-INTERVAL;VALUE=DURATION:PT1H
X-Robots-Tag:noindex
X-PUBLISHED-TTL:PT1H
BEGIN:VTIMEZONE
TZID:America/New_York
BEGIN:DAYLIGHT
TZOFFSETFROM:-0500
TZOFFSETTO:-0400
TZNAME:EDT
DTSTART:20240310T070000
END:DAYLIGHT
BEGIN:STANDARD
TZOFFSETFROM:-0400
TZOFFSETTO:-0500
TZNAME:EST
DTSTART:20241103T060000
END:STANDARD
BEGIN:DAYLIGHT
TZOFFSETFROM:-0500
TZOFFSETTO:-0400
TZNAME:EDT
DTSTART:20250309T070000
END:DAYLIGHT
BEGIN:STANDARD
TZOFFSETFROM:-0400
TZOFFSETTO:-0500
TZNAME:EST
DTSTART:20251102T060000
END:STANDARD
BEGIN:DAYLIGHT
TZOFFSETFROM:-0500
TZOFFSETTO:-0400
TZNAME:EDT
DTSTART:20260308T070000
END:DAYLIGHT
BEGIN:STANDARD
TZOFFSETFROM:-0400
TZOFFSETTO:-0500
TZNAME:EST
DTSTART:20261101T060000
END:STANDARD
END:VTIMEZONE
BEGIN:VEVENT
DTSTART;TZID=America/New_York:20250818T083000
DTEND;TZID=America/New_York:20250818T140000
DTSTAMP:20260421T052527
CREATED:20250815T152707Z
LAST-MODIFIED:20250815T152707Z
UID:10005777-1755505800-1755525600@mlwgs.com
SUMMARY:MLWGS101 Onboarding (Auditorium)
DESCRIPTION:
URL:https://mlwgs.com/event/mlwgs101-onboarding-auditorium/2025-08-18/
LOCATION:MLWGS Auditorium
CATEGORIES:Building Activity for MLWGS
ATTACH;FMTTYPE=image/jpeg:https://mlwgs.com/wp-content/uploads/2024/07/mag-default-image.jpg
ORGANIZER;CN="Ms. Christie Riles":MAILTO:criles@gsgis.k12.va.us
END:VEVENT
BEGIN:VEVENT
DTSTART;TZID=America/New_York:20250818T084000
DTEND;TZID=America/New_York:20250818T140000
DTSTAMP:20260421T052527
CREATED:20250806T194455Z
LAST-MODIFIED:20250806T194455Z
UID:10005656-1755506400-1755525600@mlwgs.com
SUMMARY:Study Hall Students Mtg (Rm 153)
DESCRIPTION:Each study hall at the beginning of the period report to Rm 153 and Ms. Bowman
URL:https://mlwgs.com/event/study-hall-students-mtg-rm-153/2025-08-18/
LOCATION:MLWGS Room 153
CATEGORIES:Building Activity for MLWGS
ATTACH;FMTTYPE=image/jpeg:https://mlwgs.com/wp-content/uploads/2024/07/mag-default-image.jpg
ORGANIZER;CN="Ms. Darleen Bowman":MAILTO:dbowman@gsgis.k12.va.us
END:VEVENT
BEGIN:VEVENT
DTSTART;TZID=America/New_York:20250819T084000
DTEND;TZID=America/New_York:20250819T140000
DTSTAMP:20260421T052527
CREATED:20250806T194455Z
LAST-MODIFIED:20250806T194455Z
UID:10005657-1755592800-1755612000@mlwgs.com
SUMMARY:Study Hall Students Mtg (Rm 153)
DESCRIPTION:Each study hall at the beginning of the period report to Rm 153 and Ms. Bowman
URL:https://mlwgs.com/event/study-hall-students-mtg-rm-153/2025-08-19/
LOCATION:MLWGS Room 153
CATEGORIES:Building Activity for MLWGS
ATTACH;FMTTYPE=image/jpeg:https://mlwgs.com/wp-content/uploads/2024/07/mag-default-image.jpg
ORGANIZER;CN="Ms. Darleen Bowman":MAILTO:dbowman@gsgis.k12.va.us
END:VEVENT
BEGIN:VEVENT
DTSTART;TZID=America/New_York:20250819T084500
DTEND;TZID=America/New_York:20250819T100000
DTSTAMP:20260421T052527
CREATED:20250728T194729Z
LAST-MODIFIED:20250818T134344Z
UID:10005581-1755593100-1755597600@mlwgs.com
SUMMARY:Leadership Meeting (Rm 104)
DESCRIPTION:
URL:https://mlwgs.com/event/leadership-meeting-rm-153-5/
LOCATION:MLWGS Room 104
CATEGORIES:Building Activity for MLWGS
ATTACH;FMTTYPE=image/jpeg:https://mlwgs.com/wp-content/uploads/2024/07/mag-default-image.jpg
END:VEVENT
BEGIN:VEVENT
DTSTART;TZID=America/New_York:20250819T122000
DTEND;TZID=America/New_York:20250819T134200
DTSTAMP:20260421T052527
CREATED:20250815T153002Z
LAST-MODIFIED:20250815T153002Z
UID:10005779-1755606000-1755610920@mlwgs.com
SUMMARY:MLWGS101 Onboarding (Auditorium)
DESCRIPTION:
URL:https://mlwgs.com/event/mlwgs101-onboarding-auditorium-2/2025-08-19/
LOCATION:MLWGS Auditorium
CATEGORIES:Building Activity for MLWGS
ATTACH;FMTTYPE=image/jpeg:https://mlwgs.com/wp-content/uploads/2024/07/mag-default-image.jpg
ORGANIZER;CN="Ms. Christie Riles":MAILTO:criles@gsgis.k12.va.us
END:VEVENT
BEGIN:VEVENT
DTSTART;TZID=America/New_York:20250820T083000
DTEND;TZID=America/New_York:20250820T140000
DTSTAMP:20260421T052527
CREATED:20250815T152707Z
LAST-MODIFIED:20250815T152707Z
UID:10005778-1755678600-1755698400@mlwgs.com
SUMMARY:MLWGS101 Onboarding (Auditorium)
DESCRIPTION:
URL:https://mlwgs.com/event/mlwgs101-onboarding-auditorium/2025-08-20/
LOCATION:MLWGS Auditorium
CATEGORIES:Building Activity for MLWGS
ATTACH;FMTTYPE=image/jpeg:https://mlwgs.com/wp-content/uploads/2024/07/mag-default-image.jpg
ORGANIZER;CN="Ms. Christie Riles":MAILTO:criles@gsgis.k12.va.us
END:VEVENT
BEGIN:VEVENT
DTSTART;TZID=America/New_York:20250821T122000
DTEND;TZID=America/New_York:20250821T134200
DTSTAMP:20260421T052527
CREATED:20250815T153002Z
LAST-MODIFIED:20250815T153002Z
UID:10005780-1755778800-1755783720@mlwgs.com
SUMMARY:MLWGS101 Onboarding (Auditorium)
DESCRIPTION:
URL:https://mlwgs.com/event/mlwgs101-onboarding-auditorium-2/2025-08-21/
LOCATION:MLWGS Auditorium
CATEGORIES:Building Activity for MLWGS
ATTACH;FMTTYPE=image/jpeg:https://mlwgs.com/wp-content/uploads/2024/07/mag-default-image.jpg
ORGANIZER;CN="Ms. Christie Riles":MAILTO:criles@gsgis.k12.va.us
END:VEVENT
BEGIN:VEVENT
DTSTART;TZID=America/New_York:20250822T090000
DTEND;TZID=America/New_York:20250822T153000
DTSTAMP:20260421T052527
CREATED:20250603T125227Z
LAST-MODIFIED:20250818T141656Z
UID:10005037-1755853200-1755876600@mlwgs.com
SUMMARY:GS10 Library Workshops (Auditorium)
DESCRIPTION:
URL:https://mlwgs.com/event/gs10-library-workshops-library/2025-08-22/
LOCATION:MLWGS Library
CATEGORIES:Building Activity for MLWGS
ATTACH;FMTTYPE=image/jpeg:https://mlwgs.com/wp-content/uploads/2024/07/mag-default-image.jpg
ORGANIZER;CN="Ms. Wendy DeGroat":MAILTO:wdegroat@gsgis.k12.va.us
END:VEVENT
END:VCALENDAR