BEGIN:VCALENDAR
VERSION:2.0
PRODID:-//Maggie L. Walker Governor&#039;s School - ECPv6.15.17.1//NONSGML v1.0//EN
CALSCALE:GREGORIAN
METHOD:PUBLISH
X-WR-CALNAME:Maggie L. Walker Governor&#039;s School
X-ORIGINAL-URL:https://mlwgs.com
X-WR-CALDESC:Events for Maggie L. Walker Governor&#039;s School
REFRESH-INTERVAL;VALUE=DURATION:PT1H
X-Robots-Tag:noindex
X-PUBLISHED-TTL:PT1H
BEGIN:VTIMEZONE
TZID:America/New_York
BEGIN:DAYLIGHT
TZOFFSETFROM:-0500
TZOFFSETTO:-0400
TZNAME:EDT
DTSTART:20250309T070000
END:DAYLIGHT
BEGIN:STANDARD
TZOFFSETFROM:-0400
TZOFFSETTO:-0500
TZNAME:EST
DTSTART:20251102T060000
END:STANDARD
BEGIN:DAYLIGHT
TZOFFSETFROM:-0500
TZOFFSETTO:-0400
TZNAME:EDT
DTSTART:20260308T070000
END:DAYLIGHT
BEGIN:STANDARD
TZOFFSETFROM:-0400
TZOFFSETTO:-0500
TZNAME:EST
DTSTART:20261101T060000
END:STANDARD
BEGIN:DAYLIGHT
TZOFFSETFROM:-0500
TZOFFSETTO:-0400
TZNAME:EDT
DTSTART:20270314T070000
END:DAYLIGHT
BEGIN:STANDARD
TZOFFSETFROM:-0400
TZOFFSETTO:-0500
TZNAME:EST
DTSTART:20271107T060000
END:STANDARD
END:VTIMEZONE
BEGIN:VEVENT
DTSTART;TZID=America/New_York:20260319T153000
DTEND;TZID=America/New_York:20260319T163000
DTSTAMP:20260426T002047
CREATED:20250917T171556Z
LAST-MODIFIED:20250917T171556Z
UID:10007256-1773934200-1773937800@mlwgs.com
SUMMARY:Dance Team Practice (Black Box)
DESCRIPTION:
URL:https://mlwgs.com/event/dance-team-practice-black-box-2/2026-03-19/
LOCATION:MLWGS Black Box
CATEGORIES:Club Activity
ATTACH;FMTTYPE=image/jpeg:https://mlwgs.com/wp-content/uploads/2024/07/mag-default-image.jpg
ORGANIZER;CN="Ms. Kayleigh Conner":MAILTO:kconner@gsgis.k12.va.us
END:VEVENT
BEGIN:VEVENT
DTSTART;TZID=America/New_York:20260323T113500
DTEND;TZID=America/New_York:20260323T121500
DTSTAMP:20260426T002047
CREATED:20260312T171904Z
LAST-MODIFIED:20260312T171904Z
UID:10009680-1774265700-1774268100@mlwgs.com
SUMMARY:Operation Smile Mtg (Forum)
DESCRIPTION:
URL:https://mlwgs.com/event/operation-smile-mtg-forum/
LOCATION:MLWGS Forum
CATEGORIES:Club Activity
ATTACH;FMTTYPE=image/jpeg:https://mlwgs.com/wp-content/uploads/2024/07/mag-default-image.jpg
END:VEVENT
BEGIN:VEVENT
DTSTART;TZID=America/New_York:20260323T153000
DTEND;TZID=America/New_York:20260323T170000
DTSTAMP:20260426T002047
CREATED:20260323T120840Z
LAST-MODIFIED:20260323T120952Z
UID:10007291-1774279800-1774285200@mlwgs.com
SUMMARY:Multicultural Assembly Rehearsal - All Groups (AUD)
DESCRIPTION:
URL:https://mlwgs.com/event/multicultural-assembly-practice-all-groups-black-box-3/
LOCATION:MLWGS Auditorium
CATEGORIES:Club Activity
ATTACH;FMTTYPE=image/jpeg:https://mlwgs.com/wp-content/uploads/2024/07/mag-default-image.jpg
ORGANIZER;CN="Ms. Amanda Lemco":MAILTO:alemco@gsgis.k12.va.us
END:VEVENT
BEGIN:VEVENT
DTSTART;TZID=America/New_York:20260324T113500
DTEND;TZID=America/New_York:20260324T121500
DTSTAMP:20260426T002047
CREATED:20260224T135852Z
LAST-MODIFIED:20260224T140209Z
UID:10009540-1774352100-1774354500@mlwgs.com
SUMMARY:Model UN Meeting (Forum)
DESCRIPTION:
URL:https://mlwgs.com/event/model-un-meeting-forum/2026-03-24/
LOCATION:MLWGS Forum
CATEGORIES:Club Activity
ATTACH;FMTTYPE=image/jpeg:https://mlwgs.com/wp-content/uploads/2024/07/mag-default-image.jpg
ORGANIZER;CN="Ms. Jaelyn Szerokman":MAILTO:jszerokman@gsgis.k12.va.us
END:VEVENT
BEGIN:VEVENT
DTSTART;TZID=America/New_York:20260324T180000
DTEND;TZID=America/New_York:20260324T193000
DTSTAMP:20260426T002047
CREATED:20260309T143103Z
LAST-MODIFIED:20260309T143103Z
UID:10007292-1774375200-1774380600@mlwgs.com
SUMMARY:Multicultural Performance (Auditorium)
DESCRIPTION:
URL:https://mlwgs.com/event/multicultural-assembly-practice-all-groups-black-box-2/
CATEGORIES:Club Activity
ATTACH;FMTTYPE=image/jpeg:https://mlwgs.com/wp-content/uploads/2024/07/mag-default-image.jpg
ORGANIZER;CN="Ms. Amanda Lemco":MAILTO:alemco@gsgis.k12.va.us
END:VEVENT
BEGIN:VEVENT
DTSTART;TZID=America/New_York:20260325T113500
DTEND;TZID=America/New_York:20260325T121500
DTSTAMP:20260426T002047
CREATED:20250907T210910Z
LAST-MODIFIED:20251211T141247Z
UID:10006388-1774438500-1774440900@mlwgs.com
SUMMARY:Peer Mentors Meeting (Rm 153)
DESCRIPTION:
URL:https://mlwgs.com/event/peer-mentors-meeting-rm-153-2/2026-03-25/
LOCATION:MLWGS Room 153
CATEGORIES:Club Activity
ATTACH;FMTTYPE=image/jpeg:https://mlwgs.com/wp-content/uploads/2024/07/mag-default-image.jpg
ORGANIZER;CN="Ms. Joy Cobb":MAILTO:jcobb@gsgis.k12.va.us
END:VEVENT
BEGIN:VEVENT
DTSTART;TZID=America/New_York:20260325T153000
DTEND;TZID=America/New_York:20260325T173000
DTSTAMP:20260426T002047
CREATED:20250918T171126Z
LAST-MODIFIED:20250918T171126Z
UID:10007279-1774452600-1774459800@mlwgs.com
SUMMARY:Newtowne Tutoring (Rm 104)
DESCRIPTION:
URL:https://mlwgs.com/event/newtowne-tutoring-rm-104-2/2026-03-25/
LOCATION:MLWGS Room 104
CATEGORIES:Club Activity
ATTACH;FMTTYPE=image/jpeg:https://mlwgs.com/wp-content/uploads/2024/07/mag-default-image.jpg
ORGANIZER;CN="Ms. Hana Voight":MAILTO:hvoight@gsgis.k12.va.us
END:VEVENT
BEGIN:VEVENT
DTSTART;TZID=America/New_York:20260326T153000
DTEND;TZID=America/New_York:20260326T163000
DTSTAMP:20260426T002047
CREATED:20250917T171556Z
LAST-MODIFIED:20250917T171556Z
UID:10007257-1774539000-1774542600@mlwgs.com
SUMMARY:Dance Team Practice (Black Box)
DESCRIPTION:
URL:https://mlwgs.com/event/dance-team-practice-black-box-2/2026-03-26/
LOCATION:MLWGS Black Box
CATEGORIES:Club Activity
ATTACH;FMTTYPE=image/jpeg:https://mlwgs.com/wp-content/uploads/2024/07/mag-default-image.jpg
ORGANIZER;CN="Ms. Kayleigh Conner":MAILTO:kconner@gsgis.k12.va.us
END:VEVENT
BEGIN:VEVENT
DTSTART;TZID=America/New_York:20260407T113500
DTEND;TZID=America/New_York:20260407T121500
DTSTAMP:20260426T002047
CREATED:20260224T135852Z
LAST-MODIFIED:20260224T140209Z
UID:10009541-1775561700-1775564100@mlwgs.com
SUMMARY:Model UN Meeting (Forum)
DESCRIPTION:
URL:https://mlwgs.com/event/model-un-meeting-forum/2026-04-07/
LOCATION:MLWGS Forum
CATEGORIES:Club Activity
ATTACH;FMTTYPE=image/jpeg:https://mlwgs.com/wp-content/uploads/2024/07/mag-default-image.jpg
ORGANIZER;CN="Ms. Jaelyn Szerokman":MAILTO:jszerokman@gsgis.k12.va.us
END:VEVENT
BEGIN:VEVENT
DTSTART;TZID=America/New_York:20260408T113500
DTEND;TZID=America/New_York:20260408T121500
DTSTAMP:20260426T002047
CREATED:20250907T210402Z
LAST-MODIFIED:20250907T211044Z
UID:10006398-1775648100-1775650500@mlwgs.com
SUMMARY:Peer Mentors Meeting (Rm 153)
DESCRIPTION:
URL:https://mlwgs.com/event/peer-mentors-meeting-rm-153/2026-04-08/
LOCATION:MLWGS Room 153
CATEGORIES:Club Activity
ATTACH;FMTTYPE=image/jpeg:https://mlwgs.com/wp-content/uploads/2024/07/mag-default-image.jpg
END:VEVENT
BEGIN:VEVENT
DTSTART;TZID=America/New_York:20260408T113500
DTEND;TZID=America/New_York:20260408T121500
DTSTAMP:20260426T002047
CREATED:20260406T172730Z
LAST-MODIFIED:20260406T172730Z
UID:10009728-1775648100-1775650500@mlwgs.com
SUMMARY:Bhangra Practice (Gym)
DESCRIPTION:
URL:https://mlwgs.com/event/bhangra-practice-gym/2026-04-08/
LOCATION:MLWGS Gymnasium
CATEGORIES:Club Activity
ATTACH;FMTTYPE=image/jpeg:https://mlwgs.com/wp-content/uploads/2024/07/mag-default-image.jpg
ORGANIZER;CN="Ms. Amanda Lemco":MAILTO:alemco@gsgis.k12.va.us
END:VEVENT
BEGIN:VEVENT
DTSTART;TZID=America/New_York:20260408T153000
DTEND;TZID=America/New_York:20260408T173000
DTSTAMP:20260426T002047
CREATED:20250918T171126Z
LAST-MODIFIED:20250918T171126Z
UID:10007280-1775662200-1775669400@mlwgs.com
SUMMARY:Newtowne Tutoring (Rm 104)
DESCRIPTION:
URL:https://mlwgs.com/event/newtowne-tutoring-rm-104-2/2026-04-08/
LOCATION:MLWGS Room 104
CATEGORIES:Club Activity
ATTACH;FMTTYPE=image/jpeg:https://mlwgs.com/wp-content/uploads/2024/07/mag-default-image.jpg
ORGANIZER;CN="Ms. Hana Voight":MAILTO:hvoight@gsgis.k12.va.us
END:VEVENT
BEGIN:VEVENT
DTSTART;TZID=America/New_York:20260409T113500
DTEND;TZID=America/New_York:20260409T121500
DTSTAMP:20260426T002047
CREATED:20260406T172730Z
LAST-MODIFIED:20260406T172730Z
UID:10009729-1775734500-1775736900@mlwgs.com
SUMMARY:Bhangra Practice (Gym)
DESCRIPTION:
URL:https://mlwgs.com/event/bhangra-practice-gym/2026-04-09/
LOCATION:MLWGS Gymnasium
CATEGORIES:Club Activity
ATTACH;FMTTYPE=image/jpeg:https://mlwgs.com/wp-content/uploads/2024/07/mag-default-image.jpg
ORGANIZER;CN="Ms. Amanda Lemco":MAILTO:alemco@gsgis.k12.va.us
END:VEVENT
BEGIN:VEVENT
DTSTART;TZID=America/New_York:20260410T113500
DTEND;TZID=America/New_York:20260410T121500
DTSTAMP:20260426T002048
CREATED:20260406T172730Z
LAST-MODIFIED:20260406T172730Z
UID:10009730-1775820900-1775823300@mlwgs.com
SUMMARY:Bhangra Practice (Gym)
DESCRIPTION:
URL:https://mlwgs.com/event/bhangra-practice-gym/2026-04-10/
LOCATION:MLWGS Gymnasium
CATEGORIES:Club Activity
ATTACH;FMTTYPE=image/jpeg:https://mlwgs.com/wp-content/uploads/2024/07/mag-default-image.jpg
ORGANIZER;CN="Ms. Amanda Lemco":MAILTO:alemco@gsgis.k12.va.us
END:VEVENT
BEGIN:VEVENT
DTSTART;TZID=America/New_York:20260413T113500
DTEND;TZID=America/New_York:20260413T121500
DTSTAMP:20260426T002048
CREATED:20260406T172730Z
LAST-MODIFIED:20260406T172730Z
UID:10009731-1776080100-1776082500@mlwgs.com
SUMMARY:Bhangra Practice (Gym)
DESCRIPTION:
URL:https://mlwgs.com/event/bhangra-practice-gym/2026-04-13/
LOCATION:MLWGS Gymnasium
CATEGORIES:Club Activity
ATTACH;FMTTYPE=image/jpeg:https://mlwgs.com/wp-content/uploads/2024/07/mag-default-image.jpg
ORGANIZER;CN="Ms. Amanda Lemco":MAILTO:alemco@gsgis.k12.va.us
END:VEVENT
BEGIN:VEVENT
DTSTART;TZID=America/New_York:20260414T113500
DTEND;TZID=America/New_York:20260414T121500
DTSTAMP:20260426T002048
CREATED:20260224T135852Z
LAST-MODIFIED:20260224T140209Z
UID:10009542-1776166500-1776168900@mlwgs.com
SUMMARY:Model UN Meeting (Forum)
DESCRIPTION:
URL:https://mlwgs.com/event/model-un-meeting-forum/2026-04-14/
LOCATION:MLWGS Forum
CATEGORIES:Club Activity
ATTACH;FMTTYPE=image/jpeg:https://mlwgs.com/wp-content/uploads/2024/07/mag-default-image.jpg
ORGANIZER;CN="Ms. Jaelyn Szerokman":MAILTO:jszerokman@gsgis.k12.va.us
END:VEVENT
BEGIN:VEVENT
DTSTART;TZID=America/New_York:20260414T113500
DTEND;TZID=America/New_York:20260414T121500
DTSTAMP:20260426T002048
CREATED:20260406T172730Z
LAST-MODIFIED:20260406T172730Z
UID:10009732-1776166500-1776168900@mlwgs.com
SUMMARY:Bhangra Practice (Gym)
DESCRIPTION:
URL:https://mlwgs.com/event/bhangra-practice-gym/2026-04-14/
LOCATION:MLWGS Gymnasium
CATEGORIES:Club Activity
ATTACH;FMTTYPE=image/jpeg:https://mlwgs.com/wp-content/uploads/2024/07/mag-default-image.jpg
ORGANIZER;CN="Ms. Amanda Lemco":MAILTO:alemco@gsgis.k12.va.us
END:VEVENT
BEGIN:VEVENT
DTSTART;TZID=America/New_York:20260415T113500
DTEND;TZID=America/New_York:20260415T121500
DTSTAMP:20260426T002048
CREATED:20260406T172730Z
LAST-MODIFIED:20260406T172730Z
UID:10009733-1776252900-1776255300@mlwgs.com
SUMMARY:Bhangra Practice (Gym)
DESCRIPTION:
URL:https://mlwgs.com/event/bhangra-practice-gym/2026-04-15/
LOCATION:MLWGS Gymnasium
CATEGORIES:Club Activity
ATTACH;FMTTYPE=image/jpeg:https://mlwgs.com/wp-content/uploads/2024/07/mag-default-image.jpg
ORGANIZER;CN="Ms. Amanda Lemco":MAILTO:alemco@gsgis.k12.va.us
END:VEVENT
BEGIN:VEVENT
DTSTART;TZID=America/New_York:20260415T153000
DTEND;TZID=America/New_York:20260415T173000
DTSTAMP:20260426T002048
CREATED:20250918T171126Z
LAST-MODIFIED:20250918T171126Z
UID:10007281-1776267000-1776274200@mlwgs.com
SUMMARY:Newtowne Tutoring (Rm 104)
DESCRIPTION:
URL:https://mlwgs.com/event/newtowne-tutoring-rm-104-2/2026-04-15/
LOCATION:MLWGS Room 104
CATEGORIES:Club Activity
ATTACH;FMTTYPE=image/jpeg:https://mlwgs.com/wp-content/uploads/2024/07/mag-default-image.jpg
ORGANIZER;CN="Ms. Hana Voight":MAILTO:hvoight@gsgis.k12.va.us
END:VEVENT
BEGIN:VEVENT
DTSTART;TZID=America/New_York:20260416T113500
DTEND;TZID=America/New_York:20260416T121500
DTSTAMP:20260426T002048
CREATED:20260406T172730Z
LAST-MODIFIED:20260406T172730Z
UID:10009734-1776339300-1776341700@mlwgs.com
SUMMARY:Bhangra Practice (Gym)
DESCRIPTION:
URL:https://mlwgs.com/event/bhangra-practice-gym/2026-04-16/
LOCATION:MLWGS Gymnasium
CATEGORIES:Club Activity
ATTACH;FMTTYPE=image/jpeg:https://mlwgs.com/wp-content/uploads/2024/07/mag-default-image.jpg
ORGANIZER;CN="Ms. Amanda Lemco":MAILTO:alemco@gsgis.k12.va.us
END:VEVENT
BEGIN:VEVENT
DTSTART;TZID=America/New_York:20260417T113500
DTEND;TZID=America/New_York:20260417T121500
DTSTAMP:20260426T002048
CREATED:20260406T172730Z
LAST-MODIFIED:20260406T172730Z
UID:10009735-1776425700-1776428100@mlwgs.com
SUMMARY:Bhangra Practice (Gym)
DESCRIPTION:
URL:https://mlwgs.com/event/bhangra-practice-gym/2026-04-17/
LOCATION:MLWGS Gymnasium
CATEGORIES:Club Activity
ATTACH;FMTTYPE=image/jpeg:https://mlwgs.com/wp-content/uploads/2024/07/mag-default-image.jpg
ORGANIZER;CN="Ms. Amanda Lemco":MAILTO:alemco@gsgis.k12.va.us
END:VEVENT
BEGIN:VEVENT
DTSTART;TZID=America/New_York:20260421T113500
DTEND;TZID=America/New_York:20260421T121500
DTSTAMP:20260426T002048
CREATED:20260224T135852Z
LAST-MODIFIED:20260224T140209Z
UID:10009543-1776771300-1776773700@mlwgs.com
SUMMARY:Model UN Meeting (Forum)
DESCRIPTION:
URL:https://mlwgs.com/event/model-un-meeting-forum/2026-04-21/
LOCATION:MLWGS Forum
CATEGORIES:Club Activity
ATTACH;FMTTYPE=image/jpeg:https://mlwgs.com/wp-content/uploads/2024/07/mag-default-image.jpg
ORGANIZER;CN="Ms. Jaelyn Szerokman":MAILTO:jszerokman@gsgis.k12.va.us
END:VEVENT
BEGIN:VEVENT
DTSTART;TZID=America/New_York:20260422T113500
DTEND;TZID=America/New_York:20260422T121500
DTSTAMP:20260426T002048
CREATED:20250907T210910Z
LAST-MODIFIED:20251211T141247Z
UID:10006389-1776857700-1776860100@mlwgs.com
SUMMARY:Peer Mentors Meeting (Rm 153)
DESCRIPTION:
URL:https://mlwgs.com/event/peer-mentors-meeting-rm-153-2/2026-04-22/
LOCATION:MLWGS Room 153
CATEGORIES:Club Activity
ATTACH;FMTTYPE=image/jpeg:https://mlwgs.com/wp-content/uploads/2024/07/mag-default-image.jpg
ORGANIZER;CN="Ms. Joy Cobb":MAILTO:jcobb@gsgis.k12.va.us
END:VEVENT
BEGIN:VEVENT
DTSTART;TZID=America/New_York:20260422T153000
DTEND;TZID=America/New_York:20260422T173000
DTSTAMP:20260426T002048
CREATED:20250918T171126Z
LAST-MODIFIED:20250918T171126Z
UID:10007282-1776871800-1776879000@mlwgs.com
SUMMARY:Newtowne Tutoring (Rm 104)
DESCRIPTION:
URL:https://mlwgs.com/event/newtowne-tutoring-rm-104-2/2026-04-22/
LOCATION:MLWGS Room 104
CATEGORIES:Club Activity
ATTACH;FMTTYPE=image/jpeg:https://mlwgs.com/wp-content/uploads/2024/07/mag-default-image.jpg
ORGANIZER;CN="Ms. Hana Voight":MAILTO:hvoight@gsgis.k12.va.us
END:VEVENT
BEGIN:VEVENT
DTSTART;TZID=America/New_York:20260424T090000
DTEND;TZID=America/New_York:20260424T140000
DTSTAMP:20260426T002048
CREATED:20260410T122055Z
LAST-MODIFIED:20260410T122055Z
UID:10009746-1777021200-1777039200@mlwgs.com
SUMMARY:MLWGS Spring Blood Drive (Rms 104 & 105)
DESCRIPTION:
URL:https://mlwgs.com/event/mlwgs-spring-blood-drive-rms-104-105/
LOCATION:MLWGS Room 105
CATEGORIES:Club Activity
ATTACH;FMTTYPE=image/jpeg:https://mlwgs.com/wp-content/uploads/2024/07/mag-default-image.jpg
ORGANIZER;CN="Mr. William Cottrell":MAILTO:wcottrell@gsgis.k12.va.us
END:VEVENT
BEGIN:VEVENT
DTSTART;TZID=America/New_York:20260428T113500
DTEND;TZID=America/New_York:20260428T121500
DTSTAMP:20260426T002048
CREATED:20260224T135852Z
LAST-MODIFIED:20260224T140209Z
UID:10009544-1777376100-1777378500@mlwgs.com
SUMMARY:Model UN Meeting (Forum)
DESCRIPTION:
URL:https://mlwgs.com/event/model-un-meeting-forum/2026-04-28/
LOCATION:MLWGS Forum
CATEGORIES:Club Activity
ATTACH;FMTTYPE=image/jpeg:https://mlwgs.com/wp-content/uploads/2024/07/mag-default-image.jpg
ORGANIZER;CN="Ms. Jaelyn Szerokman":MAILTO:jszerokman@gsgis.k12.va.us
END:VEVENT
BEGIN:VEVENT
DTSTART;TZID=America/New_York:20260429T113000
DTEND;TZID=America/New_York:20260429T121500
DTSTAMP:20260426T002048
CREATED:20260423T133018Z
LAST-MODIFIED:20260423T133018Z
UID:10009780-1777462200-1777464900@mlwgs.com
SUMMARY:Donning of the Kente for Peer Mentors (Rm 153)
DESCRIPTION:
URL:https://mlwgs.com/event/donning-of-the-kente-for-peer-mentors-rm-153/
CATEGORIES:Club Activity
ATTACH;FMTTYPE=image/jpeg:https://mlwgs.com/wp-content/uploads/2024/07/mag-default-image.jpg
ORGANIZER;CN="Ms. Nakita Lee":MAILTO:nlee@gsgis.k12.va.us
END:VEVENT
BEGIN:VEVENT
DTSTART;TZID=America/New_York:20260505T113500
DTEND;TZID=America/New_York:20260505T121500
DTSTAMP:20260426T002048
CREATED:20260224T135852Z
LAST-MODIFIED:20260224T140209Z
UID:10009545-1777980900-1777983300@mlwgs.com
SUMMARY:Model UN Meeting (Forum)
DESCRIPTION:
URL:https://mlwgs.com/event/model-un-meeting-forum/2026-05-05/
LOCATION:MLWGS Forum
CATEGORIES:Club Activity
ATTACH;FMTTYPE=image/jpeg:https://mlwgs.com/wp-content/uploads/2024/07/mag-default-image.jpg
ORGANIZER;CN="Ms. Jaelyn Szerokman":MAILTO:jszerokman@gsgis.k12.va.us
END:VEVENT
BEGIN:VEVENT
DTSTART;TZID=America/New_York:20260507T113000
DTEND;TZID=America/New_York:20260507T121500
DTSTAMP:20260426T002048
CREATED:20260410T192238Z
LAST-MODIFIED:20260410T192238Z
UID:10009747-1778153400-1778156100@mlwgs.com
SUMMARY:Yearbook Distribution (Commons)
DESCRIPTION:
URL:https://mlwgs.com/event/yearbook-distribution-commons/2026-05-07/
LOCATION:MLWGS Commons (1st Floor)
CATEGORIES:Club Activity
ATTACH;FMTTYPE=image/jpeg:https://mlwgs.com/wp-content/uploads/2024/07/mag-default-image.jpg
ORGANIZER;CN="Mr. Michael White":MAILTO:mwhite@gsgis.k12.va.us
END:VEVENT
BEGIN:VEVENT
DTSTART;TZID=America/New_York:20260508T113000
DTEND;TZID=America/New_York:20260508T121500
DTSTAMP:20260426T002048
CREATED:20260410T192238Z
LAST-MODIFIED:20260410T192238Z
UID:10009748-1778239800-1778242500@mlwgs.com
SUMMARY:Yearbook Distribution (Commons)
DESCRIPTION:
URL:https://mlwgs.com/event/yearbook-distribution-commons/2026-05-08/
LOCATION:MLWGS Commons (1st Floor)
CATEGORIES:Club Activity
ATTACH;FMTTYPE=image/jpeg:https://mlwgs.com/wp-content/uploads/2024/07/mag-default-image.jpg
ORGANIZER;CN="Mr. Michael White":MAILTO:mwhite@gsgis.k12.va.us
END:VEVENT
END:VCALENDAR