BEGIN:VCALENDAR
VERSION:2.0
PRODID:-//Maggie L. Walker Governor&#039;s School - ECPv6.15.17.1//NONSGML v1.0//EN
CALSCALE:GREGORIAN
METHOD:PUBLISH
X-WR-CALNAME:Maggie L. Walker Governor&#039;s School
X-ORIGINAL-URL:https://mlwgs.com
X-WR-CALDESC:Events for Maggie L. Walker Governor&#039;s School
REFRESH-INTERVAL;VALUE=DURATION:PT1H
X-Robots-Tag:noindex
X-PUBLISHED-TTL:PT1H
BEGIN:VTIMEZONE
TZID:America/New_York
BEGIN:DAYLIGHT
TZOFFSETFROM:-0500
TZOFFSETTO:-0400
TZNAME:EDT
DTSTART:20230312T070000
END:DAYLIGHT
BEGIN:STANDARD
TZOFFSETFROM:-0400
TZOFFSETTO:-0500
TZNAME:EST
DTSTART:20231105T060000
END:STANDARD
BEGIN:DAYLIGHT
TZOFFSETFROM:-0500
TZOFFSETTO:-0400
TZNAME:EDT
DTSTART:20240310T070000
END:DAYLIGHT
BEGIN:STANDARD
TZOFFSETFROM:-0400
TZOFFSETTO:-0500
TZNAME:EST
DTSTART:20241103T060000
END:STANDARD
BEGIN:DAYLIGHT
TZOFFSETFROM:-0500
TZOFFSETTO:-0400
TZNAME:EDT
DTSTART:20250309T070000
END:DAYLIGHT
BEGIN:STANDARD
TZOFFSETFROM:-0400
TZOFFSETTO:-0500
TZNAME:EST
DTSTART:20251102T060000
END:STANDARD
END:VTIMEZONE
BEGIN:VEVENT
DTSTART;TZID=America/New_York:20241001T113500
DTEND;TZID=America/New_York:20241001T121500
DTSTAMP:20260422T080342
CREATED:20240823T185011Z
LAST-MODIFIED:20240827T194040Z
UID:10003114-1727782500-1727784900@mlwgs.com
SUMMARY:UVA College Rep Visit (Auditorium)
DESCRIPTION:
URL:https://mlwgs.com/event/college-rep-visit-auditorium-2/
LOCATION:MLWGS Auditorium
CATEGORIES:College
ATTACH;FMTTYPE=image/jpeg:https://mlwgs.com/wp-content/uploads/2024/07/logo_color-1.jpg
ORGANIZER;CN="Ms. Kimberly Forquer":MAILTO:kforquer@gsgis.k12.va.us
END:VEVENT
BEGIN:VEVENT
DTSTART;TZID=America/New_York:20241023T113500
DTEND;TZID=America/New_York:20241023T121000
DTSTAMP:20260422T080342
CREATED:20240924T130512Z
LAST-MODIFIED:20240924T130512Z
UID:10003301-1729683300-1729685400@mlwgs.com
SUMMARY:College Visit: U of Michigan (Forum)
DESCRIPTION:
URL:https://mlwgs.com/event/college-visit-u-of-michigan-forum/
LOCATION:MLWGS Forum
CATEGORIES:College
ATTACH;FMTTYPE=image/png:https://mlwgs.com/wp-content/uploads/2024/09/cropped-mw-logo-green.png
ORGANIZER;CN="Ms. Kimberly Forquer":MAILTO:kforquer@gsgis.k12.va.us
END:VEVENT
BEGIN:VEVENT
DTSTART;TZID=America/New_York:20241024T113500
DTEND;TZID=America/New_York:20241024T121000
DTSTAMP:20260422T080342
CREATED:20240924T130842Z
LAST-MODIFIED:20240924T130842Z
UID:10003302-1729769700-1729771800@mlwgs.com
SUMMARY:College Visit: University of Wisconsin-Madison (Forum)
DESCRIPTION:
URL:https://mlwgs.com/event/college-visit-university-of-wisconsin-madison-forum/
LOCATION:MLWGS Forum
CATEGORIES:College
ATTACH;FMTTYPE=image/png:https://mlwgs.com/wp-content/uploads/2024/09/cropped-mw-logo-green.png
ORGANIZER;CN="Ms. Kimberly Forquer":MAILTO:kforquer@gsgis.k12.va.us
END:VEVENT
END:VCALENDAR