BEGIN:VCALENDAR
VERSION:2.0
PRODID:-//Maggie L. Walker Governor&#039;s School - ECPv6.15.17.1//NONSGML v1.0//EN
CALSCALE:GREGORIAN
METHOD:PUBLISH
X-WR-CALNAME:Maggie L. Walker Governor&#039;s School
X-ORIGINAL-URL:https://mlwgs.com
X-WR-CALDESC:Events for Maggie L. Walker Governor&#039;s School
REFRESH-INTERVAL;VALUE=DURATION:PT1H
X-Robots-Tag:noindex
X-PUBLISHED-TTL:PT1H
BEGIN:VTIMEZONE
TZID:America/New_York
BEGIN:DAYLIGHT
TZOFFSETFROM:-0500
TZOFFSETTO:-0400
TZNAME:EDT
DTSTART:20250309T070000
END:DAYLIGHT
BEGIN:STANDARD
TZOFFSETFROM:-0400
TZOFFSETTO:-0500
TZNAME:EST
DTSTART:20251102T060000
END:STANDARD
BEGIN:DAYLIGHT
TZOFFSETFROM:-0500
TZOFFSETTO:-0400
TZNAME:EDT
DTSTART:20260308T070000
END:DAYLIGHT
BEGIN:STANDARD
TZOFFSETFROM:-0400
TZOFFSETTO:-0500
TZNAME:EST
DTSTART:20261101T060000
END:STANDARD
BEGIN:DAYLIGHT
TZOFFSETFROM:-0500
TZOFFSETTO:-0400
TZNAME:EDT
DTSTART:20270314T070000
END:DAYLIGHT
BEGIN:STANDARD
TZOFFSETFROM:-0400
TZOFFSETTO:-0500
TZNAME:EST
DTSTART:20271107T060000
END:STANDARD
END:VTIMEZONE
BEGIN:VEVENT
DTSTART;TZID=America/New_York:20260306T084500
DTEND;TZID=America/New_York:20260306T170000
DTSTAMP:20260425T225708
CREATED:20260212T170434Z
LAST-MODIFIED:20260212T170434Z
UID:10009445-1772786700-1772816400@mlwgs.com
SUMMARY:Anderson: Field trip to Lorton\, VA (Off Campus)
DESCRIPTION:Gender\, Politics\, Consumerism Class
URL:https://mlwgs.com/event/anderson-field-trip-to-lorton-va-off-campus/
CATEGORIES:Field Trip
ATTACH;FMTTYPE=image/jpeg:https://mlwgs.com/wp-content/uploads/2024/07/mag-default-image.jpg
ORGANIZER;CN="Dr. Christine Anderson":MAILTO:canderson@gsgis.k12.va.us
END:VEVENT
BEGIN:VEVENT
DTSTART;TZID=America/New_York:20260309T083000
DTEND;TZID=America/New_York:20260309T150000
DTSTAMP:20260425T225708
CREATED:20260227T142437Z
LAST-MODIFIED:20260227T142509Z
UID:10009657-1773045000-1773068400@mlwgs.com
SUMMARY:Exchange Students Field Trip (Off Campus)
DESCRIPTION:VMFA & Carytown
URL:https://mlwgs.com/event/exchange-students-field-trip-to-the-vmfa-carytown-off-campus/
CATEGORIES:Field Trip
ATTACH;FMTTYPE=image/jpeg:https://mlwgs.com/wp-content/uploads/2024/07/mag-default-image.jpg
ORGANIZER;CN="Ms. Yoko Eshita":MAILTO:yeshita@gsgis.k12.va.us
END:VEVENT
BEGIN:VEVENT
DTSTART;TZID=America/New_York:20260319T000000
DTEND;TZID=America/New_York:20260322T235959
DTSTAMP:20260425T225708
CREATED:20251210T155509Z
LAST-MODIFIED:20260206T182906Z
UID:10007449-1773878400-1774223999@mlwgs.com
SUMMARY:AP African American Studies - Trip to Charleston\, South Carolina
DESCRIPTION:
URL:https://mlwgs.com/event/ap-african-american-studies-trip-to-charleston-south-carolina/
CATEGORIES:Field Trip
ATTACH;FMTTYPE=image/jpeg:https://mlwgs.com/wp-content/uploads/2024/07/mag-default-image.jpg
ORGANIZER;CN="Ms. Nakita Lee":MAILTO:nlee@gsgis.k12.va.us
END:VEVENT
BEGIN:VEVENT
DTSTART;TZID=America/New_York:20260325T083000
DTEND;TZID=America/New_York:20260325T163000
DTSTAMP:20260425T225708
CREATED:20260324T122457Z
LAST-MODIFIED:20260324T122457Z
UID:10009710-1774427400-1774456200@mlwgs.com
SUMMARY:Paturel AP French Field Trip (Off Campus)
DESCRIPTION:W&M campus
URL:https://mlwgs.com/event/paturel-ap-french-field-trip-off-campus/
CATEGORIES:Field Trip
ATTACH;FMTTYPE=image/jpeg:https://mlwgs.com/wp-content/uploads/2024/07/mag-default-image.jpg
ORGANIZER;CN="Ms. Madeline Paturel":MAILTO:mpaturel@gsgis.k12.va.us
END:VEVENT
BEGIN:VEVENT
DTSTART;TZID=America/New_York:20260326T000000
DTEND;TZID=America/New_York:20260329T235959
DTSTAMP:20260425T225708
CREATED:20260311T173704Z
LAST-MODIFIED:20260311T173704Z
UID:10009677-1774483200-1774828799@mlwgs.com
SUMMARY:Baseball Seminar to Cooperstown\, NY (Off Campus)
DESCRIPTION:
URL:https://mlwgs.com/event/baseball-seminar-to-cooperstown-ny-off-campus-2/
CATEGORIES:Field Trip
ATTACH;FMTTYPE=image/jpeg:https://mlwgs.com/wp-content/uploads/2024/07/mag-default-image.jpg
ORGANIZER;CN="Mr. Dickson Benesh":MAILTO:dbenesh@gsgis.k12.va.us
END:VEVENT
BEGIN:VEVENT
DTSTART;TZID=America/New_York:20260327T083000
DTEND;TZID=America/New_York:20260327T190000
DTSTAMP:20260425T225708
CREATED:20260317T135454Z
LAST-MODIFIED:20260317T135608Z
UID:10009686-1774600200-1774638000@mlwgs.com
SUMMARY:German AP Classes Field Trip to Washington\, DC
DESCRIPTION:Visiting the German Embassy
URL:https://mlwgs.com/event/german-ap-classes-field-trip-to-washington-dc/
CATEGORIES:Field Trip
ATTACH;FMTTYPE=image/jpeg:https://mlwgs.com/wp-content/uploads/2024/07/mag-default-image.jpg
ORGANIZER;CN="Ms. Kristen Macklin":MAILTO:kmacklin@gsgis.k12.va.us
END:VEVENT
BEGIN:VEVENT
DTSTART;TZID=America/New_York:20260409T100000
DTEND;TZID=America/New_York:20260409T133000
DTSTAMP:20260425T225708
CREATED:20251202T152538Z
LAST-MODIFIED:20251202T152538Z
UID:10007418-1775728800-1775741400@mlwgs.com
SUMMARY:9th Grade English Field Trip to see MACBETH (Gottwald Playhouse)
DESCRIPTION:
URL:https://mlwgs.com/event/9th-grade-english-field-trip-to-see-macbeth-gottwald-playhouse/
CATEGORIES:Field Trip
ATTACH;FMTTYPE=image/jpeg:https://mlwgs.com/wp-content/uploads/2024/07/mag-default-image.jpg
ORGANIZER;CN="Ms. Kerry Sheppard":MAILTO:ksheppard@gsgis.k12.va.us
END:VEVENT
BEGIN:VEVENT
DTSTART;TZID=America/New_York:20260410T000000
DTEND;TZID=America/New_York:20260410T235959
DTSTAMP:20260425T225708
CREATED:20260408T132438Z
LAST-MODIFIED:20260408T132438Z
UID:10009739-1775779200-1775865599@mlwgs.com
SUMMARY:Stinnett Class Field Trip (Off Campus)
DESCRIPTION:To Washington\, DC
URL:https://mlwgs.com/event/stinnett-class-field-trip-off-campus/
CATEGORIES:Field Trip
ATTACH;FMTTYPE=image/jpeg:https://mlwgs.com/wp-content/uploads/2024/07/mag-default-image.jpg
END:VEVENT
BEGIN:VEVENT
DTSTART;TZID=America/New_York:20260417T080000
DTEND;TZID=America/New_York:20260417T170000
DTSTAMP:20260425T225708
CREATED:20251107T193220Z
LAST-MODIFIED:20251107T193220Z
UID:10007389-1776412800-1776445200@mlwgs.com
SUMMARY:Japan Bowl (Washington\, DC)
DESCRIPTION:
URL:https://mlwgs.com/event/japan-bowl-washington-dc/2026-04-17/
CATEGORIES:Field Trip
ATTACH;FMTTYPE=image/jpeg:https://mlwgs.com/wp-content/uploads/2024/07/mag-default-image.jpg
ORGANIZER;CN="Ms. Yoko Eshita":MAILTO:yeshita@gsgis.k12.va.us
END:VEVENT
BEGIN:VEVENT
DTSTART;TZID=America/New_York:20260418T080000
DTEND;TZID=America/New_York:20260418T170000
DTSTAMP:20260425T225708
CREATED:20251107T193220Z
LAST-MODIFIED:20251107T193220Z
UID:10007390-1776499200-1776531600@mlwgs.com
SUMMARY:Japan Bowl (Washington\, DC)
DESCRIPTION:
URL:https://mlwgs.com/event/japan-bowl-washington-dc/2026-04-18/
CATEGORIES:Field Trip
ATTACH;FMTTYPE=image/jpeg:https://mlwgs.com/wp-content/uploads/2024/07/mag-default-image.jpg
ORGANIZER;CN="Ms. Yoko Eshita":MAILTO:yeshita@gsgis.k12.va.us
END:VEVENT
BEGIN:VEVENT
DTSTART;TZID=America/New_York:20260419T080000
DTEND;TZID=America/New_York:20260419T170000
DTSTAMP:20260425T225708
CREATED:20251107T193220Z
LAST-MODIFIED:20251107T193220Z
UID:10007391-1776585600-1776618000@mlwgs.com
SUMMARY:Japan Bowl (Washington\, DC)
DESCRIPTION:
URL:https://mlwgs.com/event/japan-bowl-washington-dc/2026-04-19/
CATEGORIES:Field Trip
ATTACH;FMTTYPE=image/jpeg:https://mlwgs.com/wp-content/uploads/2024/07/mag-default-image.jpg
ORGANIZER;CN="Ms. Yoko Eshita":MAILTO:yeshita@gsgis.k12.va.us
END:VEVENT
BEGIN:VEVENT
DTSTART;TZID=America/New_York:20260422T104500
DTEND;TZID=America/New_York:20260422T124500
DTSTAMP:20260425T225708
CREATED:20260327T131019Z
LAST-MODIFIED:20260407T190358Z
UID:10009723-1776854700-1776861900@mlwgs.com
SUMMARY:Lemco Class Field Trip (Off Campus)
DESCRIPTION:To Carver Elementary School
URL:https://mlwgs.com/event/lemco-class-field-trip-off-campus/
CATEGORIES:Field Trip
ATTACH;FMTTYPE=image/jpeg:https://mlwgs.com/wp-content/uploads/2024/07/mag-default-image.jpg
ORGANIZER;CN="Ms. Amanda Lemco":MAILTO:alemco@gsgis.k12.va.us
END:VEVENT
BEGIN:VEVENT
DTSTART;TZID=America/New_York:20260422T104500
DTEND;TZID=America/New_York:20260422T124500
DTSTAMP:20260425T225708
CREATED:20260407T185837Z
LAST-MODIFIED:20260407T185923Z
UID:10009736-1776854700-1776861900@mlwgs.com
SUMMARY:Lemco's Spanish 3 Class Walking Field Trip (Off Campus)
DESCRIPTION:Field Trip to Carver Elementary School
URL:https://mlwgs.com/event/lemcos-spanish-3-class-walking-field-trip-off-campus/
CATEGORIES:Field Trip
ATTACH;FMTTYPE=image/jpeg:https://mlwgs.com/wp-content/uploads/2024/07/mag-default-image.jpg
ORGANIZER;CN="Ms. Amanda Lemco":MAILTO:alemco@gsgis.k12.va.us
END:VEVENT
END:VCALENDAR